BEGIN:VCALENDAR
VERSION:2.0
PRODID:-//VK Královo Pole76590//NONSGML kigkonsult.se iCalcreator 2.41.80//
CALSCALE:GREGORIAN
UID:35346535-6232-4931-b161-323335303132
BEGIN:VEVENT
UID:36633766-3239-4166-b530-623764306465
DTSTAMP:20260423T172123Z
DESCRIPTION:2/2 KP Brno - DDM Kuřim 2:0 (10\,6)
DTSTART;TZID=Europe/Berlin:20210911T103000
DTEND;TZID=Europe/Berlin:20210911T123000
LOCATION:Sportovní gymnázium Ludvíka Daňka\, Botanická 63 Brno - Ponava
SUMMARY:JM-ZKY-KVH: KP Brno-DDM Kuřim
END:VEVENT
BEGIN:VEVENT
UID:64386363-6466-4436-b563-663734343865
DTSTAMP:20260423T172123Z
DESCRIPTION:1/1 VK Vejrostova - KP Brno 1:2 (-22\,14\,-13)
DTSTART;TZID=Europe/Berlin:20210911T090000
DTEND;TZID=Europe/Berlin:20210911T110000
LOCATION:ZŠ Vejrostova\, Vejrostova 1066 Brno - Bystrc
SUMMARY:JM-ZKY-KVH: VK Vejrostova-KP Brno
END:VEVENT
BEGIN:VEVENT
UID:62393235-6230-4034-b533-383766336333
DTSTAMP:20260423T172123Z
DESCRIPTION:3/3 Tělocvičná jednota Sokol Předklášteří - KP Brno 0:2 (-16\,-
 11)\n1G vs 1H\, Kurt 1
DTSTART;TZID=Europe/Berlin:20210911T141500
DTEND;TZID=Europe/Berlin:20210911T161500
LOCATION:ZŠ Předklášteří\, Komenského 1097 Předklášteří
SUMMARY:JM-ZKY-KVGH: Tělocvičná jednota Sokol Předklášteří-KP Brno
END:VEVENT
BEGIN:VEVENT
UID:62323666-3361-4464-b064-396630636366
DTSTAMP:20260423T172123Z
DESCRIPTION:2/3 KP Brno - Slavia UH 2:0 (8\,6)
DTSTART;TZID=Europe/Berlin:20210918T103000
DTEND;TZID=Europe/Berlin:20210918T123000
LOCATION:Sportovní gymnázium Ludvíka Daňka\, Botanická 63 Brno - Ponava
SUMMARY:CP-ZKY-H: KP Brno-Slavia UH
END:VEVENT
BEGIN:VEVENT
UID:63643162-3335-4431-b832-323137383739
DTSTAMP:20260423T172123Z
DESCRIPTION:8/16 KP Brno - Opava 2:0 (12\,17)
DTSTART;TZID=Europe/Berlin:20210918T173000
DTEND;TZID=Europe/Berlin:20210918T193000
LOCATION:Sportovní gymnázium Ludvíka Daňka\, Botanická 63 Brno - Ponava
SUMMARY:CP-ZKY-H: KP Brno-Opava
END:VEVENT
BEGIN:VEVENT
UID:30396632-6239-4538-b734-616533316266
DTSTAMP:20260423T172123Z
DESCRIPTION:11/23 KP Brno - DUKLA Liberec 2:0 (9\,18)
DTSTART;TZID=Europe/Berlin:20210919T111500
DTEND;TZID=Europe/Berlin:20210919T131500
LOCATION:Sportovní gymnázium Ludvíka Daňka\, Botanická 63 Brno - Ponava
SUMMARY:CP-ZKY-H: KP Brno-DUKLA Liberec
END:VEVENT
BEGIN:VEVENT
UID:39653133-3635-4763-a566-366130303431
DTSTAMP:20260423T172123Z
DESCRIPTION:13/26 KP Brno - Prostějov 2:0 (11\,21)
DTSTART;TZID=Europe/Berlin:20210919T130000
DTEND;TZID=Europe/Berlin:20210919T150000
LOCATION:Sportovní gymnázium Ludvíka Daňka\, Botanická 63 Brno - Ponava
SUMMARY:CP-ZKY-H: KP Brno-Prostějov
END:VEVENT
BEGIN:VEVENT
UID:32643437-3563-4263-b061-396332623132
DTSTAMP:20260423T172123Z
DESCRIPTION:4/7 Přerov - KP Brno 0:2 (-13\,-10)
DTSTART;TZID=Europe/Berlin:20210918T130000
DTEND;TZID=Europe/Berlin:20210918T150000
LOCATION:Městská sportovní hala\, Petřivalského 2884 Přerov - Přerov I-Měst
 o
SUMMARY:CP-ZKY-H: Přerov-KP Brno
END:VEVENT
BEGIN:VEVENT
UID:62306166-6431-4565-a564-336539663161
DTSTAMP:20260423T172123Z
DESCRIPTION:7/12 VOLEJBAL VYŠKOV - KP Brno 0:2 (-0\,-0)
DTSTART;TZID=Europe/Berlin:20210918T163000
DTEND;TZID=Europe/Berlin:20210918T183000
LOCATION:Tělocvična ZŠ Nádražní\, Nádražní 5 Vyškov - Vyškov-Město
SUMMARY:CP-ZKY-H: VOLEJBAL VYŠKOV-KP Brno
END:VEVENT
BEGIN:VEVENT
UID:66316432-6262-4662-a636-343730636362
DTSTAMP:20260423T172123Z
DESCRIPTION:10/19 TJ Sokol F. - Místek - KP Brno 1:2 (-13\,22\,-7)
DTSTART;TZID=Europe/Berlin:20210919T100000
DTEND;TZID=Europe/Berlin:20210919T120000
LOCATION:ZŠ Jiřího z Poděbrad Frýdek-Místek\, Jiřího z Poděbrad 3109 Frýdek
 -Místek - Frýdek
SUMMARY:CP-ZKY-H: TJ Sokol F. - Místek-KP Brno
END:VEVENT
BEGIN:VEVENT
UID:37306266-6638-4736-a363-666138326163
DTSTAMP:20260423T172123Z
DESCRIPTION:3/3 KP Brno - VOLEJBAL VYŠKOV 2:0 (17\,17)
DTSTART;TZID=Europe/Berlin:20210925T114500
DTEND;TZID=Europe/Berlin:20210925T134500
LOCATION:Sportovní gymnázium Ludvíka Daňka\, Botanická 63 Brno - Ponava
SUMMARY:JM-ZKY-IA: KP Brno-VOLEJBAL VYŠKOV
END:VEVENT
BEGIN:VEVENT
UID:64333937-3532-4265-a533-373339343130
DTSTAMP:20260423T172123Z
DESCRIPTION:1/1 KP Brno MA - KP Brno 2:1 (19\,-16\,14)
DTSTART;TZID=Europe/Berlin:20210925T090000
DTEND;TZID=Europe/Berlin:20210925T110000
LOCATION:ZŠ Milénova 14\, Milénova 808 Brno - Lesná
SUMMARY:JM-ZKY-IA: KP Brno MA-KP Brno
END:VEVENT
BEGIN:VEVENT
UID:38313566-3639-4733-a166-613535643035
DTSTAMP:20260423T172123Z
DESCRIPTION:5/5 Břeclav - KP Brno 2:1 (-17\,15\,10)
DTSTART;TZID=Europe/Berlin:20210925T141500
DTEND;TZID=Europe/Berlin:20210925T161500
LOCATION:TJ Lokomotiva Břeclav\, Veslařská 2753 Břeclav
SUMMARY:JM-ZKY-IA: Břeclav-KP Brno
END:VEVENT
BEGIN:VEVENT
UID:39323237-3534-4235-a237-653138323737
DTSTAMP:20260423T172123Z
DESCRIPTION:3/6 KP Brno - Lanškroun 2:0 (25\,19)
DTSTART;TZID=Europe/Berlin:20211016T113000
DTEND;TZID=Europe/Berlin:20211016T133000
LOCATION:Sportovní gymnázium Ludvíka Daňka\, Botanická 63 Brno - Ponava
SUMMARY:CP-ZKY-V1A: KP Brno-Lanškroun
END:VEVENT
BEGIN:VEVENT
UID:35623436-6161-4866-a266-333834623164
DTSTAMP:20260423T172123Z
DESCRIPTION:7/13 KP Brno - Zlín 2:0 (11\,15)
DTSTART;TZID=Europe/Berlin:20211016T163000
DTEND;TZID=Europe/Berlin:20211016T183000
LOCATION:Sportovní gymnázium Ludvíka Daňka\, Botanická 63 Brno - Ponava
SUMMARY:CP-ZKY-V1A: KP Brno-Zlín
END:VEVENT
BEGIN:VEVENT
UID:61613865-3034-4161-a637-383735623763
DTSTAMP:20260423T172123Z
DESCRIPTION:13/26 KP Brno - Havlíčkův Brod 2:1 (-16\,12\,12)
DTSTART;TZID=Europe/Berlin:20211017T133000
DTEND;TZID=Europe/Berlin:20211017T153000
LOCATION:Sportovní gymnázium Ludvíka Daňka\, Botanická 63 Brno - Ponava
SUMMARY:CP-ZKY-V1A: KP Brno-Havlíčkův Brod
END:VEVENT
BEGIN:VEVENT
UID:37383161-3666-4136-a265-353666353533
DTSTAMP:20260423T172123Z
DESCRIPTION:2/3 Hradec Králové - KP Brno 0:2 (-19\,-12)
DTSTART;TZID=Europe/Berlin:20211016T103000
DTEND;TZID=Europe/Berlin:20211016T123000
LOCATION:TJ Slavia Hradec Králové\, Víta Nejedlého 1216 Hradec Králové
SUMMARY:CP-ZKY-V1A: Hradec Králové-KP Brno
END:VEVENT
BEGIN:VEVENT
UID:39323962-6332-4835-a339-326466353339
DTSTAMP:20260423T172123Z
DESCRIPTION:5/9 TJ Turnov 'B' - KP Brno 0:2 (-18\,-26)
DTSTART;TZID=Europe/Berlin:20211016T140000
DTEND;TZID=Europe/Berlin:20211016T160000
LOCATION:TJ Turnov\, Skálova 207 Turnov
SUMMARY:CP-ZKY-V1A: TJ Turnov 'B'-KP Brno
END:VEVENT
BEGIN:VEVENT
UID:37383061-6631-4362-a236-333435663036
DTSTAMP:20260423T172123Z
DESCRIPTION:10/18 Ostrava - KP Brno 0:2 (-12\,-14)
DTSTART;TZID=Europe/Berlin:20211017T100000
DTEND;TZID=Europe/Berlin:20211017T120000
LOCATION:Hala mládeže\, Gajdošova 1893 Ostrava - Moravská Ostrava
SUMMARY:CP-ZKY-V1A: Ostrava-KP Brno
END:VEVENT
BEGIN:VEVENT
UID:61386337-3665-4533-b761-656131356537
DTSTAMP:20260423T172123Z
DESCRIPTION:11/23 TJ Sokol F. - Místek - KP Brno 0:2 (-15\,-16)
DTSTART;TZID=Europe/Berlin:20211017T113000
DTEND;TZID=Europe/Berlin:20211017T133000
LOCATION:ZŠ Jiřího z Poděbrad Frýdek-Místek\, Jiřího z Poděbrad 3109 Frýdek
 -Místek - Frýdek
SUMMARY:CP-ZKY-V1A: TJ Sokol F. - Místek-KP Brno
END:VEVENT
BEGIN:VEVENT
UID:30336131-6631-4161-b561-303166623934
DTSTAMP:20260423T172123Z
DESCRIPTION:3/6 KP Brno - Břeclav 2:1 (-23\,12\,11)
DTSTART;TZID=Europe/Berlin:20211023T114500
DTEND;TZID=Europe/Berlin:20211023T134500
LOCATION:Sportovní gymnázium Ludvíka Daňka\, Botanická 63 Brno - Ponava
SUMMARY:JM-ZKY-IIA: KP Brno-Břeclav
END:VEVENT
BEGIN:VEVENT
UID:34306164-6338-4261-b663-656630343962
DTSTAMP:20260423T172123Z
DESCRIPTION:1/2 KP Brno MA - KP Brno 2:1 (-23\,23\,11)
DTSTART;TZID=Europe/Berlin:20211023T090000
DTEND;TZID=Europe/Berlin:20211023T110000
LOCATION:ZŠ Milénova 14\, Milénova 808 Brno - Lesná
SUMMARY:JM-ZKY-IIA: KP Brno MA-KP Brno
END:VEVENT
BEGIN:VEVENT
UID:65656236-6564-4836-a133-626132343062
DTSTAMP:20260423T172123Z
DESCRIPTION:2/3 Znojmo - KP Brno 0:2 (-12\,-13)
DTSTART;TZID=Europe/Berlin:20211023T103000
DTEND;TZID=Europe/Berlin:20211023T123000
LOCATION:Tělocvična ZŠ Prokopa Diviše a MŠ\, Ke Škole 569 Znojmo - Přímětic
 e
SUMMARY:JM-ZKY-IIA: Znojmo-KP Brno
END:VEVENT
BEGIN:VEVENT
UID:31653734-6461-4736-b662-356564386335
DTSTAMP:20260423T172123Z
DESCRIPTION:1/2 KP Brno - Lanškroun 1:2 (-23\,20\,-11)\nSPŠS
DTSTART;TZID=Europe/Berlin:20211120T090000
DTEND;TZID=Europe/Berlin:20211120T110000
LOCATION:Sportovní gymnázium Ludvíka Daňka\, Botanická 63 Brno - Ponava
SUMMARY:CP-ZKY-V2A: KP Brno-Lanškroun
END:VEVENT
BEGIN:VEVENT
UID:33373335-6438-4933-b735-626261326239
DTSTAMP:20260423T172123Z
DESCRIPTION:4/8 KP Brno - Ostrava 1:2 (19\,-21\,-11)\nSPŠS
DTSTART;TZID=Europe/Berlin:20211120T124500
DTEND;TZID=Europe/Berlin:20211120T144500
LOCATION:Sportovní gymnázium Ludvíka Daňka\, Botanická 63 Brno - Ponava
SUMMARY:CP-ZKY-V2A: KP Brno-Ostrava
END:VEVENT
BEGIN:VEVENT
UID:63663536-3264-4335-b563-626438343633
DTSTAMP:20260423T172123Z
DESCRIPTION:5/10 KP Brno - Hradec Králové 2:0 (13\,10)\nSPŠS
DTSTART;TZID=Europe/Berlin:20211120T140000
DTEND;TZID=Europe/Berlin:20211120T160000
LOCATION:Sportovní gymnázium Ludvíka Daňka\, Botanická 63 Brno - Ponava
SUMMARY:CP-ZKY-V2A: KP Brno-Hradec Králové
END:VEVENT
BEGIN:VEVENT
UID:63656636-3034-4538-b430-303961346634
DTSTAMP:20260423T172123Z
DESCRIPTION:7/14 KP Brno - TJ Sokol F. - Místek 2:0 (14\,20)\nSPŠS
DTSTART;TZID=Europe/Berlin:20211120T163000
DTEND;TZID=Europe/Berlin:20211120T183000
LOCATION:Sportovní gymnázium Ludvíka Daňka\, Botanická 63 Brno - Ponava
SUMMARY:CP-ZKY-V2A: KP Brno-TJ Sokol F. - Místek
END:VEVENT
BEGIN:VEVENT
UID:36643637-6530-4264-a234-323366616236
DTSTAMP:20260423T172123Z
DESCRIPTION:12/23 KP Brno - Opava 2:0 (19\,20)\nSZŠ
DTSTART;TZID=Europe/Berlin:20211121T121500
DTEND;TZID=Europe/Berlin:20211121T141500
LOCATION:Sportovní gymnázium Ludvíka Daňka\, Botanická 63 Brno - Ponava
SUMMARY:CP-ZKY-V2A: KP Brno-Opava
END:VEVENT
BEGIN:VEVENT
UID:62313862-3831-4862-b566-366236393437
DTSTAMP:20260423T172123Z
DESCRIPTION:9/17 Havlíčkův Brod - KP Brno 1:2 (23\,-16\,-7)\nSZŠ
DTSTART;TZID=Europe/Berlin:20211121T083000
DTEND;TZID=Europe/Berlin:20211121T103000
LOCATION:ZŠ Nuselská H. Brod\, Nuselská 3240 Havlíčkův Brod
SUMMARY:CP-ZKY-V2A: Havlíčkův Brod-KP Brno
END:VEVENT
BEGIN:VEVENT
UID:61623064-3263-4434-a431-623362646537
DTSTAMP:20260423T172123Z
DESCRIPTION:13/25 Hronov - KP Brno 0:2 (-14\,-16)\nSZŠ
DTSTART;TZID=Europe/Berlin:20211121T133000
DTEND;TZID=Europe/Berlin:20211121T153000
LOCATION:ZŠ Hronov\, Palackého 162 Hronov
SUMMARY:CP-ZKY-V2A: Hronov-KP Brno
END:VEVENT
BEGIN:VEVENT
UID:38616139-3831-4966-b330-393564643531
DTSTAMP:20260423T172123Z
DESCRIPTION:3/6 KP Brno - VK Vejrostova 2:1 (16\,-21\,10)
DTSTART;TZID=Europe/Berlin:20211113T114500
DTEND;TZID=Europe/Berlin:20211113T134500
LOCATION:Sportovní gymnázium Ludvíka Daňka\, Botanická 63 Brno - Ponava
SUMMARY:JM-ZKY-IIIA: KP Brno-VK Vejrostova
END:VEVENT
BEGIN:VEVENT
UID:65363362-3965-4364-b931-636663626166
DTSTAMP:20260423T172123Z
DESCRIPTION:1/2 Znojmo - KP Brno 0:2 (-0\,-0)
DTSTART;TZID=Europe/Berlin:20211113T090000
DTEND;TZID=Europe/Berlin:20211113T110000
LOCATION:Tělocvična ZŠ Prokopa Diviše a MŠ\, Ke Škole 569 Znojmo - Přímětic
 e
SUMMARY:JM-ZKY-IIIA: Znojmo-KP Brno
END:VEVENT
BEGIN:VEVENT
UID:38336463-3464-4838-a139-616135303737
DTSTAMP:20260423T172123Z
DESCRIPTION:2/3 Břeclav - KP Brno 0:2 (-21\,-23)
DTSTART;TZID=Europe/Berlin:20211113T103000
DTEND;TZID=Europe/Berlin:20211113T123000
LOCATION:TJ Lokomotiva Břeclav\, Veslařská 2753 Břeclav
SUMMARY:JM-ZKY-IIIA: Břeclav-KP Brno
END:VEVENT
BEGIN:VEVENT
UID:34366561-3330-4337-b366-343736373635
DTSTAMP:20260423T172123Z
DESCRIPTION:1/2 KP Brno - KP Brno MA 1:2 (-24\,16\,-19)
DTSTART;TZID=Europe/Berlin:20211204T090000
DTEND;TZID=Europe/Berlin:20211204T110000
LOCATION:Sportovní gymnázium Ludvíka Daňka\, Botanická 63 Brno - Ponava
SUMMARY:JM-ZKY-IVA: KP Brno-KP Brno MA
END:VEVENT
BEGIN:VEVENT
UID:66353638-3064-4339-b834-626637343932
DTSTAMP:20260423T172123Z
DESCRIPTION:3/5 KP Brno - VK Vejrostova 2:0 (12\,17)
DTSTART;TZID=Europe/Berlin:20211204T114500
DTEND;TZID=Europe/Berlin:20211204T134500
LOCATION:Sportovní gymnázium Ludvíka Daňka\, Botanická 63 Brno - Ponava
SUMMARY:JM-ZKY-IVA: KP Brno-VK Vejrostova
END:VEVENT
BEGIN:VEVENT
UID:38663165-3936-4765-b537-653361313835
DTSTAMP:20260423T172123Z
DESCRIPTION:2/4 Břeclav - KP Brno 0:2 (-15\,-12)
DTSTART;TZID=Europe/Berlin:20211204T103000
DTEND;TZID=Europe/Berlin:20211204T123000
LOCATION:TJ Lokomotiva Břeclav\, Veslařská 2753 Břeclav
SUMMARY:JM-ZKY-IVA: Břeclav-KP Brno
END:VEVENT
BEGIN:VEVENT
UID:63666533-3230-4262-a665-333938613361
DTSTAMP:20260423T172123Z
DESCRIPTION:3/5 KP Brno - Kralupy 2:0 (23\,16)\nBotanická 63
DTSTART;TZID=Europe/Berlin:20220219T113000
DTEND;TZID=Europe/Berlin:20220219T133000
LOCATION:Sportovní gymnázium Ludvíka Daňka\, Botanická 63 Brno - Ponava
SUMMARY:CP-ZKY-F1A: KP Brno-Kralupy
END:VEVENT
BEGIN:VEVENT
UID:38376334-3235-4237-b334-343437373238
DTSTAMP:20260423T172123Z
DESCRIPTION:7/13 KP Brno - Ostrava 2:1 (18\,-18\,11)\nBotanická 63
DTSTART;TZID=Europe/Berlin:20220219T163000
DTEND;TZID=Europe/Berlin:20220219T183000
LOCATION:Sportovní gymnázium Ludvíka Daňka\, Botanická 63 Brno - Ponava
SUMMARY:CP-ZKY-F1A: KP Brno-Ostrava
END:VEVENT
BEGIN:VEVENT
UID:62613330-6631-4465-b363-663430316432
DTSTAMP:20260423T172123Z
DESCRIPTION:11/21 KP Brno - Mikulova 2:0 (21\,22)\nBotanická 63
DTSTART;TZID=Europe/Berlin:20220220T113000
DTEND;TZID=Europe/Berlin:20220220T133000
LOCATION:Sportovní gymnázium Ludvíka Daňka\, Botanická 63 Brno - Ponava
SUMMARY:CP-ZKY-F1A: KP Brno-Mikulova
END:VEVENT
BEGIN:VEVENT
UID:65373137-3933-4131-a430-316630386537
DTSTAMP:20260423T172123Z
DESCRIPTION:2/3 Mělník - KP Brno 0:2 (-18\,-21)\nBotanická 63
DTSTART;TZID=Europe/Berlin:20220219T101500
DTEND;TZID=Europe/Berlin:20220219T121500
LOCATION:Tělocvična ZŠ J. Matiegky Pražská 2817 Mělník
SUMMARY:CP-ZKY-F1A: Mělník-KP Brno
END:VEVENT
BEGIN:VEVENT
UID:33356462-3664-4038-b231-333866633534
DTSTAMP:20260423T172123Z
DESCRIPTION:5/9 Lanškroun - KP Brno 1:2 (-22\,23\,-7)\nBotanická 63
DTSTART;TZID=Europe/Berlin:20220219T140000
DTEND;TZID=Europe/Berlin:20220219T160000
LOCATION:SOŠ a SOU Lanškroun\, Sokolská 288 Lanškroun - Ostrovské Předměstí
SUMMARY:CP-ZKY-F1A: Lanškroun-KP Brno
END:VEVENT
BEGIN:VEVENT
UID:63396562-3362-4038-b963-353435616231
DTSTAMP:20260423T172123Z
DESCRIPTION:9/17 Havlíčkův Brod - KP Brno 0:2 (-10\,-22)\nBotanická 63
DTSTART;TZID=Europe/Berlin:20220220T090000
DTEND;TZID=Europe/Berlin:20220220T110000
LOCATION:ZŠ Nuselská H. Brod\, Nuselská 3240 Havlíčkův Brod
SUMMARY:CP-ZKY-F1A: Havlíčkův Brod-KP Brno
END:VEVENT
BEGIN:VEVENT
UID:62633164-3937-4731-b239-353833633664
DTSTAMP:20260423T172123Z
DESCRIPTION:13/25 Hlincovka - KP Brno 0:2 (-11\,-9)\nBotanická 63
DTSTART;TZID=Europe/Berlin:20220220T140000
DTEND;TZID=Europe/Berlin:20220220T160000
LOCATION:Sportovní hala Rudolfov\, Adamovská 511 Rudolfov
SUMMARY:CP-ZKY-F1A: Hlincovka-KP Brno
END:VEVENT
BEGIN:VEVENT
UID:66643362-3931-4163-b462-313564326665
DTSTAMP:20260423T172123Z
DESCRIPTION:3/3 KP Brno - Břeclav 0:2 (-20\,-20)
DTSTART;TZID=Europe/Berlin:20211218T114500
DTEND;TZID=Europe/Berlin:20211218T134500
LOCATION:Sportovní gymnázium Ludvíka Daňka\, Botanická 63 Brno - Ponava
SUMMARY:JM-ZKY-VA: KP Brno-Břeclav
END:VEVENT
BEGIN:VEVENT
UID:32393331-3861-4134-b037-613061663533
DTSTAMP:20260423T172123Z
DESCRIPTION:1/1 KP Brno MA - KP Brno 0:2 (-12\,-9)
DTSTART;TZID=Europe/Berlin:20211218T090000
DTEND;TZID=Europe/Berlin:20211218T110000
LOCATION:ZŠ Milénova 14\, Milénova 808 Brno - Lesná
SUMMARY:JM-ZKY-VA: KP Brno MA-KP Brno
END:VEVENT
BEGIN:VEVENT
UID:66343434-3133-4835-b864-653262666464
DTSTAMP:20260423T172123Z
DESCRIPTION:5/5 Znojmo - KP Brno 0:2 (-6\,-11)
DTSTART;TZID=Europe/Berlin:20211218T141500
DTEND;TZID=Europe/Berlin:20211218T161500
LOCATION:Tělocvična ZŠ Prokopa Diviše a MŠ\, Ke Škole 569 Znojmo - Přímětic
 e
SUMMARY:JM-ZKY-VA: Znojmo-KP Brno
END:VEVENT
BEGIN:VEVENT
UID:32363030-6230-4334-a137-336465623063
DTSTAMP:20260423T172123Z
DESCRIPTION:1/2 KP Brno - KP Brno MA 2:0 (19\,10)
DTSTART;TZID=Europe/Berlin:20220115T090000
DTEND;TZID=Europe/Berlin:20220115T110000
LOCATION:Sportovní gymnázium Ludvíka Daňka\, Botanická 63 Brno - Ponava
SUMMARY:JM-ZKY-VIA: KP Brno-KP Brno MA
END:VEVENT
BEGIN:VEVENT
UID:30303233-3139-4132-a361-303431353232
DTSTAMP:20260423T172123Z
DESCRIPTION:3/5 KP Brno - Břeclav 2:0 (10\,11)
DTSTART;TZID=Europe/Berlin:20220115T114500
DTEND;TZID=Europe/Berlin:20220115T134500
LOCATION:Sportovní gymnázium Ludvíka Daňka\, Botanická 63 Brno - Ponava
SUMMARY:JM-ZKY-VIA: KP Brno-Břeclav
END:VEVENT
BEGIN:VEVENT
UID:38393232-3936-4332-b837-643761316138
DTSTAMP:20260423T172123Z
DESCRIPTION:2/4 VK Vejrostova - KP Brno 0:2 (-12\,-15)
DTSTART;TZID=Europe/Berlin:20220115T103000
DTEND;TZID=Europe/Berlin:20220115T123000
LOCATION:ZŠ Vejrostova\, Vejrostova 1066 Brno - Bystrc
SUMMARY:JM-ZKY-VIA: VK Vejrostova-KP Brno
END:VEVENT
BEGIN:VEVENT
UID:61343636-6234-4536-b633-373161336634
DTSTAMP:20260423T172123Z
DESCRIPTION:1/1 KP Brno - Břeclav 2:1 (-23\,20\,13)
DTSTART;TZID=Europe/Berlin:20220212T090000
DTEND;TZID=Europe/Berlin:20220212T110000
LOCATION:Sportovní gymnázium Ludvíka Daňka\, Botanická 63 Brno - Ponava
SUMMARY:JM-ZKY-VIIA: KP Brno-Břeclav
END:VEVENT
BEGIN:VEVENT
UID:33396234-3938-4865-b361-666535333966
DTSTAMP:20260423T172123Z
DESCRIPTION:3/3 Znojmo - KP Brno 2:1 (23\,-15\,13)
DTSTART;TZID=Europe/Berlin:20220212T114500
DTEND;TZID=Europe/Berlin:20220212T134500
LOCATION:Tělocvična ZŠ Prokopa Diviše a MŠ\, Ke Škole 569 Znojmo - Přímětic
 e
SUMMARY:JM-ZKY-VIIA: Znojmo-KP Brno
END:VEVENT
BEGIN:VEVENT
UID:39653837-6130-4336-a664-376231633931
DTSTAMP:20260423T172123Z
DESCRIPTION:6/6 KP Brno MA - KP Brno X:2
DTSTART;TZID=Europe/Berlin:20220212T153000
DTEND;TZID=Europe/Berlin:20220212T173000
LOCATION:ZŠ Milénova 14\, Milénova 808 Brno - Lesná
SUMMARY:JM-ZKY-VIIA: KP Brno MA-KP Brno
END:VEVENT
BEGIN:VEVENT
UID:30623430-6361-4637-b336-666430646666
DTSTAMP:20260423T172123Z
DESCRIPTION:1/2 KP Brno - Břeclav 1:2 (-21\,27\,-13)
DTSTART;TZID=Europe/Berlin:20220226T090000
DTEND;TZID=Europe/Berlin:20220226T110000
LOCATION:Sportovní gymnázium Ludvíka Daňka\, Botanická 63 Brno - Ponava
SUMMARY:JM-ZKY-VIIIA: KP Brno-Břeclav
END:VEVENT
BEGIN:VEVENT
UID:31366164-3733-4730-b465-373737663431
DTSTAMP:20260423T172123Z
DESCRIPTION:3/5 KP Brno - Znojmo 2:0 (21\,17)
DTSTART;TZID=Europe/Berlin:20220226T114500
DTEND;TZID=Europe/Berlin:20220226T134500
LOCATION:Sportovní gymnázium Ludvíka Daňka\, Botanická 63 Brno - Ponava
SUMMARY:JM-ZKY-VIIIA: KP Brno-Znojmo
END:VEVENT
BEGIN:VEVENT
UID:30363938-6639-4230-b333-366538623633
DTSTAMP:20260423T172123Z
DESCRIPTION:2/4 VK Vejrostova - KP Brno 1:2 (23\,-10\,-6)
DTSTART;TZID=Europe/Berlin:20220226T103000
DTEND;TZID=Europe/Berlin:20220226T123000
LOCATION:ZŠ Vejrostova\, Vejrostova 1066 Brno - Bystrc
SUMMARY:JM-ZKY-VIIIA: VK Vejrostova-KP Brno
END:VEVENT
BEGIN:VEVENT
UID:63663061-3064-4362-a236-623030316430
DTSTAMP:20260423T172123Z
DESCRIPTION:5/9 KP Brno - TJ Sokol F. - Místek 2:0 (21\,12)
DTSTART;TZID=Europe/Berlin:20220319T142000
DTEND;TZID=Europe/Berlin:20220319T162000
LOCATION:Sportovní gymnázium Ludvíka Daňka\, Botanická 63 Brno - Ponava
SUMMARY:CP-ZKY-F2A: KP Brno-TJ Sokol F. - Místek
END:VEVENT
BEGIN:VEVENT
UID:65393232-3833-4330-b962-303133383636
DTSTAMP:20260423T172123Z
DESCRIPTION:6/12 KP Brno - Kralupy 2:1 (21\,-22\,8)
DTSTART;TZID=Europe/Berlin:20220319T154000
DTEND;TZID=Europe/Berlin:20220319T174000
LOCATION:Sportovní gymnázium Ludvíka Daňka\, Botanická 63 Brno - Ponava
SUMMARY:CP-ZKY-F2A: KP Brno-Kralupy
END:VEVENT
BEGIN:VEVENT
UID:32306263-6531-4161-a363-613537613733
DTSTAMP:20260423T172123Z
DESCRIPTION:8/18 KP Brno - Lanškroun 2:0 (19\,19)
DTSTART;TZID=Europe/Berlin:20220320T090000
DTEND;TZID=Europe/Berlin:20220320T110000
LOCATION:Sportovní gymnázium Ludvíka Daňka\, Botanická 63 Brno - Ponava
SUMMARY:CP-ZKY-F2A: KP Brno-Lanškroun
END:VEVENT
BEGIN:VEVENT
UID:32633438-3762-4333-b639-393265336233
DTSTAMP:20260423T172123Z
DESCRIPTION:11/26 KP Brno - Ostrava 2:0 (22\,18)
DTSTART;TZID=Europe/Berlin:20220320T130000
DTEND;TZID=Europe/Berlin:20220320T150000
LOCATION:Sportovní gymnázium Ludvíka Daňka\, Botanická 63 Brno - Ponava
SUMMARY:CP-ZKY-F2A: KP Brno-Ostrava
END:VEVENT
BEGIN:VEVENT
UID:32623938-6532-4964-a564-396439626363
DTSTAMP:20260423T172123Z
DESCRIPTION:2/4 Tábor - KP Brno 0:2 (-21\,-14)
DTSTART;TZID=Europe/Berlin:20220319T102000
DTEND;TZID=Europe/Berlin:20220319T122000
LOCATION:Tělocvična ZŠ Husova\, Husova 1570 Tábor
SUMMARY:CP-ZKY-F2A: Tábor-KP Brno
END:VEVENT
BEGIN:VEVENT
UID:30613535-3030-4764-a466-623639353561
DTSTAMP:20260423T172123Z
DESCRIPTION:3/6 Mikulova - KP Brno 1:2 (21\,-18\,-9)
DTSTART;TZID=Europe/Berlin:20220319T114000
DTEND;TZID=Europe/Berlin:20220319T134000
LOCATION:ZŠ Mikulova Mikulova 1594
SUMMARY:CP-ZKY-F2A: Mikulova-KP Brno
END:VEVENT
BEGIN:VEVENT
UID:61313861-3733-4036-b233-323739346263
DTSTAMP:20260423T172123Z
DESCRIPTION:9/22 Hlincovka - KP Brno 2:1 (19\,-20\,11)
DTSTART;TZID=Europe/Berlin:20220320T102000
DTEND;TZID=Europe/Berlin:20220320T122000
LOCATION:Sportovní hala Rudolfov\, Adamovská 511 Rudolfov
SUMMARY:CP-ZKY-F2A: Hlincovka-KP Brno
END:VEVENT
BEGIN:VEVENT
UID:38313732-3633-4937-a332-613739346630
DTSTAMP:20260423T172123Z
DESCRIPTION:1/2 KP Brno - PFN Znojmo 2:0 (4\,11)\n2. vs 7. Kurt 2
DTSTART;TZID=Europe/Berlin:20220409T090000
DTEND;TZID=Europe/Berlin:20220409T110000
LOCATION:Sportovní gymnázium Ludvíka Daňka\, Botanická 63 Brno - Ponava
SUMMARY:JM-ZKY-F: KP Brno-PFN Znojmo
END:VEVENT
BEGIN:VEVENT
UID:35313232-3139-4266-b433-316131613365
DTSTAMP:20260423T172123Z
DESCRIPTION:4/8 KP Brno - KP Brno MA 2:0 (12\,8)\nW2 vs W3 Kurt 2
DTSTART;TZID=Europe/Berlin:20220409T130000
DTEND;TZID=Europe/Berlin:20220409T150000
LOCATION:Sportovní gymnázium Ludvíka Daňka\, Botanická 63 Brno - Ponava
SUMMARY:JM-ZKY-F: KP Brno-KP Brno MA
END:VEVENT
BEGIN:VEVENT
UID:36666663-3538-4366-b130-326338656138
DTSTAMP:20260423T172123Z
DESCRIPTION:6/12 Břeclav - KP Brno 0:2 (-12\,-15)\nW7 vs W8 Kurt 1
DTSTART;TZID=Europe/Berlin:20220409T153000
DTEND;TZID=Europe/Berlin:20220409T173000
LOCATION:TJ Lokomotiva Břeclav\, Veslařská 2753 Břeclav
SUMMARY:JM-ZKY-F: Břeclav-KP Brno
END:VEVENT
BEGIN:VEVENT
UID:34303062-3132-4430-b539-373163636438
DTSTAMP:20260423T172123Z
DESCRIPTION:1/1 KP Brno - Kometa 2:0 (17\,9)
DTSTART;TZID=Europe/Berlin:20220520T100000
DTEND;TZID=Europe/Berlin:20220520T120000
LOCATION:Hala ZŠ Komenského\, Komenského 701 Bílovec
SUMMARY:MCR-ZKY-FA: KP Brno-Kometa
END:VEVENT
BEGIN:VEVENT
UID:39366566-6263-4232-a163-343939356666
DTSTAMP:20260423T172123Z
DESCRIPTION:2/4 KP Brno - Český Krumlov 2:0 (21\,11)
DTSTART;TZID=Europe/Berlin:20220520T124000
DTEND;TZID=Europe/Berlin:20220520T144000
LOCATION:Hala ZŠ Komenského\, Komenského 701 Bílovec
SUMMARY:MCR-ZKY-FA: KP Brno-Český Krumlov
END:VEVENT
BEGIN:VEVENT
UID:35656531-3435-4366-b738-306238396161
DTSTAMP:20260423T172123Z
DESCRIPTION:3/6 Mělník - KP Brno 0:2 (-16\,-22)
DTSTART;TZID=Europe/Berlin:20220520T165000
DTEND;TZID=Europe/Berlin:20220520T185000
LOCATION:Hala ZŠ Komenského\, Komenského 701 Bílovec
SUMMARY:MCR-ZKY-FA: Mělník-KP Brno
END:VEVENT
BEGIN:VEVENT
UID:31383733-6265-4136-b633-316538636431
DTSTAMP:20260423T172123Z
DESCRIPTION:1/1 KP Brno - České Budějovice 1:2 (-22\,18\,-11)\nA1 - C3
DTSTART;TZID=Europe/Berlin:20220521T100000
DTEND;TZID=Europe/Berlin:20220521T120000
LOCATION:Hala ZŠ Komenského\, Komenského 701 Bílovec
SUMMARY:MCR-ZKY-FE: KP Brno-České Budějovice
END:VEVENT
BEGIN:VEVENT
UID:35333635-3032-4339-b738-386265313037
DTSTAMP:20260423T172123Z
DESCRIPTION:3/7 KP Brno - Mikulova 2:0 (21\,21)\nA1 - C1
DTSTART;TZID=Europe/Berlin:20220521T160000
DTEND;TZID=Europe/Berlin:20220521T180000
LOCATION:Hala ZŠ Komenského\, Komenského 701 Bílovec
SUMMARY:MCR-ZKY-FE: KP Brno-Mikulova
END:VEVENT
BEGIN:VEVENT
UID:30336362-6234-4430-b561-663066303631
DTSTAMP:20260423T172123Z
DESCRIPTION:2/5 Prostějov - KP Brno 0:2 (-10\,-21)\nC2 - A1
DTSTART;TZID=Europe/Berlin:20220521T130000
DTEND;TZID=Europe/Berlin:20220521T150000
LOCATION:Hala ZŠ Komenského\, Komenského 701 Bílovec
SUMMARY:MCR-ZKY-FE: Prostějov-KP Brno
END:VEVENT
BEGIN:VEVENT
UID:66326131-3237-4532-b365-623761373630
DTSTAMP:20260423T172123Z
DESCRIPTION:1/5 KP Brno - Lanškroun 1:2 (12\,-22\,-8)\nE1 - F2 (Semifinále 
 1)
DTSTART;TZID=Europe/Berlin:20220522T095000
DTEND;TZID=Europe/Berlin:20220522T115000
LOCATION:Sportovní gymnázium Ludvíka Daňka\, Botanická 63 Brno - Ponava
SUMMARY:MCR-ZKY-FI: KP Brno-Lanškroun
END:VEVENT
BEGIN:VEVENT
UID:61373562-3735-4930-b139-346236643666
DTSTAMP:20260423T172123Z
DESCRIPTION:2/11 KP Brno - Mikulova 2:1 (19\,-25\,10)\no 3. místo
DTSTART;TZID=Europe/Berlin:20220522T122000
DTEND;TZID=Europe/Berlin:20220522T142000
LOCATION:Sportovní gymnázium Ludvíka Daňka\, Botanická 63 Brno - Ponava
SUMMARY:MCR-ZKY-FI: KP Brno-Mikulova
END:VEVENT
END:VCALENDAR
