BEGIN:VCALENDAR
VERSION:2.0
PRODID:-//VK Královo Pole C76593//NONSGML kigkonsult.se iCalcreator 2.41.80//
CALSCALE:GREGORIAN
UID:64383733-3736-4639-b939-613863383365
BEGIN:VEVENT
UID:38306138-3839-4663-a332-353465633534
DTSTAMP:20260425T154818Z
DESCRIPTION:1/1 KP Brno - VOLEJBAL VYŠKOV\, z.s. 3:0 (14\,14\,20)
DTSTART;TZID=Europe/Berlin:20210912T100000
DTEND;TZID=Europe/Berlin:20210912T120000
LOCATION:Sportovní gymnázium Ludvíka Daňka\, Botanická 63 Brno - Ponava
SUMMARY:JM-JKY-A: KP Brno-VOLEJBAL VYŠKOV\, z.s.
END:VEVENT
BEGIN:VEVENT
UID:35613431-6637-4336-b963-663461643133
DTSTAMP:20260425T154818Z
DESCRIPTION:2/4 KP Brno - VOLEJBAL VYŠKOV\, z.s. 3:0 (17\,20\,20)
DTSTART;TZID=Europe/Berlin:20210912T130000
DTEND;TZID=Europe/Berlin:20210912T150000
LOCATION:Sportovní gymnázium Ludvíka Daňka\, Botanická 63 Brno - Ponava
SUMMARY:JM-JKY-A: KP Brno-VOLEJBAL VYŠKOV\, z.s.
END:VEVENT
BEGIN:VEVENT
UID:39616461-6430-4861-b631-616565396263
DTSTAMP:20260425T154818Z
DESCRIPTION:3/9 KP Brno - VS Drásov 3:2 (-26\,17\,-16\,15\,13)
DTSTART;TZID=Europe/Berlin:20211114T100000
DTEND;TZID=Europe/Berlin:20211114T120000
LOCATION:Sportovní gymnázium Ludvíka Daňka\, Botanická 63 Brno - Ponava
SUMMARY:JM-JKY-A: KP Brno-VS Drásov
END:VEVENT
BEGIN:VEVENT
UID:33613439-3763-4335-a664-356331363630
DTSTAMP:20260425T154818Z
DESCRIPTION:4/12 KP Brno - VS Drásov 2:3 (18\,-19\,14\,-20\,-7)
DTSTART;TZID=Europe/Berlin:20211114T130000
DTEND;TZID=Europe/Berlin:20211114T150000
LOCATION:Sportovní gymnázium Ludvíka Daňka\, Botanická 63 Brno - Ponava
SUMMARY:JM-JKY-A: KP Brno-VS Drásov
END:VEVENT
BEGIN:VEVENT
UID:65346165-3237-4434-b261-356234356366
DTSTAMP:20260425T154818Z
DESCRIPTION:7/20 KP Brno - TJ JUNIOR Brno B 3:0 (9\,20\,22)
DTSTART;TZID=Europe/Berlin:20211205T100000
DTEND;TZID=Europe/Berlin:20211205T120000
LOCATION:Sportovní gymnázium Ludvíka Daňka\, Botanická 63 Brno - Ponava
SUMMARY:JM-JKY-A: KP Brno-TJ JUNIOR Brno B
END:VEVENT
BEGIN:VEVENT
UID:66633664-3862-4236-b434-323762616363
DTSTAMP:20260425T154818Z
DESCRIPTION:8/23 KP Brno - TJ JUNIOR Brno B 3:1 (22\,-19\,11\,17)
DTSTART;TZID=Europe/Berlin:20211205T130000
DTEND;TZID=Europe/Berlin:20211205T150000
LOCATION:Sportovní gymnázium Ludvíka Daňka\, Botanická 63 Brno - Ponava
SUMMARY:JM-JKY-A: KP Brno-TJ JUNIOR Brno B
END:VEVENT
BEGIN:VEVENT
UID:64353932-3832-4338-a532-663864343762
DTSTAMP:20260425T154818Z
DESCRIPTION:15/44 KP Brno - DDM Kuřim 1:3 (-22\,-18\,22\,-19)
DTSTART;TZID=Europe/Berlin:20211128T100000
DTEND;TZID=Europe/Berlin:20211128T120000
LOCATION:Sportovní gymnázium Ludvíka Daňka\, Botanická 63 Brno - Ponava
SUMMARY:JM-JKY-A: KP Brno-DDM Kuřim
END:VEVENT
BEGIN:VEVENT
UID:65326566-3966-4138-b661-373738356464
DTSTAMP:20260425T154818Z
DESCRIPTION:16/47 KP Brno - DDM Kuřim 0:3 (-22\,-12\,-23)
DTSTART;TZID=Europe/Berlin:20211128T130000
DTEND;TZID=Europe/Berlin:20211128T150000
LOCATION:Sportovní gymnázium Ludvíka Daňka\, Botanická 63 Brno - Ponava
SUMMARY:JM-JKY-A: KP Brno-DDM Kuřim
END:VEVENT
BEGIN:VEVENT
UID:63656265-3937-4466-b137-623533313031
DTSTAMP:20260425T154818Z
DESCRIPTION:19/57 KP Brno - Šlapanice 2:3 (25\,-20\,24\,-17\,-12)
DTSTART;TZID=Europe/Berlin:20220109T110000
DTEND;TZID=Europe/Berlin:20220109T130000
LOCATION:Sportovní gymnázium Ludvíka Daňka\, Botanická 63 Brno - Ponava
SUMMARY:JM-JKY-A: KP Brno-Šlapanice
END:VEVENT
BEGIN:VEVENT
UID:32383433-6137-4439-a539-623266353633
DTSTAMP:20260425T154818Z
DESCRIPTION:20/60 KP Brno - Šlapanice 3:2 (24\,13\,-24\,-20\,7)
DTSTART;TZID=Europe/Berlin:20220109T150000
DTEND;TZID=Europe/Berlin:20220109T170000
LOCATION:Sportovní gymnázium Ludvíka Daňka\, Botanická 63 Brno - Ponava
SUMMARY:JM-JKY-A: KP Brno-Šlapanice
END:VEVENT
BEGIN:VEVENT
UID:34663438-3839-4466-a663-366335353932
DTSTAMP:20260425T154818Z
DESCRIPTION:5/14 DDM Kuřim - KP Brno 2:3 (21\,-26\,-17\,15\,-8)
DTSTART;TZID=Europe/Berlin:20211003T100000
DTEND;TZID=Europe/Berlin:20211003T120000
LOCATION:ZŠ Jungmannova Kuřim\, Jungmannova 813 Kuřim
SUMMARY:JM-JKY-A: DDM Kuřim-KP Brno
END:VEVENT
BEGIN:VEVENT
UID:66666563-3037-4438-b436-306266353031
DTSTAMP:20260425T154818Z
DESCRIPTION:6/17 DDM Kuřim - KP Brno 1:3 (17\,-18\,-19\,-15)
DTSTART;TZID=Europe/Berlin:20211003T130000
DTEND;TZID=Europe/Berlin:20211003T150000
LOCATION:ZŠ Jungmannova Kuřim\, Jungmannova 813 Kuřim
SUMMARY:JM-JKY-A: DDM Kuřim-KP Brno
END:VEVENT
BEGIN:VEVENT
UID:33613238-3733-4430-b332-356263633730
DTSTAMP:20260425T154818Z
DESCRIPTION:9/27 Šlapanice - KP Brno 3:2 (22\,19\,-22\,-12\,14)
DTSTART;TZID=Europe/Berlin:20211024T090000
DTEND;TZID=Europe/Berlin:20211024T110000
LOCATION:Tělocvična ZŠ Šlapanice\, Masarykovo náměstí 1594 Šlapanice
SUMMARY:JM-JKY-A: Šlapanice-KP Brno
END:VEVENT
BEGIN:VEVENT
UID:35383863-6463-4638-b936-646135326263
DTSTAMP:20260425T154818Z
DESCRIPTION:10/30 Šlapanice - KP Brno 0:3 (-23\,-23\,-20)
DTSTART;TZID=Europe/Berlin:20211024T130000
DTEND;TZID=Europe/Berlin:20211024T150000
LOCATION:Tělocvična ZŠ Šlapanice\, Masarykovo náměstí 1594 Šlapanice
SUMMARY:JM-JKY-A: Šlapanice-KP Brno
END:VEVENT
BEGIN:VEVENT
UID:66646262-3430-4465-b431-396339373935
DTSTAMP:20260425T154818Z
DESCRIPTION:11/31 VOLEJBAL VYŠKOV\, z.s. - KP Brno 0:3 (-18\,-34\,-22)
DTSTART;TZID=Europe/Berlin:20211107T100000
DTEND;TZID=Europe/Berlin:20211107T120000
LOCATION:Tělocvična ZŠ Nádražní\, Nádražní 5 Vyškov - Vyškov-Město
SUMMARY:JM-JKY-A: VOLEJBAL VYŠKOV\, z.s.-KP Brno
END:VEVENT
BEGIN:VEVENT
UID:65383033-3835-4638-a665-633435386339
DTSTAMP:20260425T154818Z
DESCRIPTION:12/34 VOLEJBAL VYŠKOV\, z.s. - KP Brno 0:3 (-22\,-19\,-24)
DTSTART;TZID=Europe/Berlin:20211107T130000
DTEND;TZID=Europe/Berlin:20211107T150000
LOCATION:Tělocvična ZŠ Nádražní\, Nádražní 5 Vyškov - Vyškov-Město
SUMMARY:JM-JKY-A: VOLEJBAL VYŠKOV\, z.s.-KP Brno
END:VEVENT
BEGIN:VEVENT
UID:35633335-3834-4961-b734-353732663032
DTSTAMP:20260425T154818Z
DESCRIPTION:13/39 VS Drásov - KP Brno 3:0 (8\,18\,24)
DTSTART;TZID=Europe/Berlin:20210919T100000
DTEND;TZID=Europe/Berlin:20210919T120000
LOCATION:Hala u ZŠ TGM Drásov\, Školní 167 Drásov
SUMMARY:JM-JKY-A: VS Drásov-KP Brno
END:VEVENT
BEGIN:VEVENT
UID:36323336-6133-4863-a232-613936393232
DTSTAMP:20260425T154818Z
DESCRIPTION:14/42 VS Drásov - KP Brno 3:1 (15\,-21\,22\,16)
DTSTART;TZID=Europe/Berlin:20210919T130000
DTEND;TZID=Europe/Berlin:20210919T150000
LOCATION:Hala u ZŠ TGM Drásov\, Školní 167 Drásov
SUMMARY:JM-JKY-A: VS Drásov-KP Brno
END:VEVENT
BEGIN:VEVENT
UID:39343730-6535-4432-b132-346631386664
DTSTAMP:20260425T154818Z
DESCRIPTION:17/50 TJ JUNIOR Brno B - KP Brno 0:3 (-20\,-24\,-14)
DTSTART;TZID=Europe/Berlin:20211010T090000
DTEND;TZID=Europe/Berlin:20211010T110000
LOCATION:ZŠ Holzova 1\, Holzova 1461 Brno - Líšeň
SUMMARY:JM-JKY-A: TJ JUNIOR Brno B-KP Brno
END:VEVENT
BEGIN:VEVENT
UID:36623034-3738-4939-b863-663363386534
DTSTAMP:20260425T154818Z
DESCRIPTION:18/53 TJ JUNIOR Brno B - KP Brno 0:3 (-16\,-16\,-21)
DTSTART;TZID=Europe/Berlin:20211010T130000
DTEND;TZID=Europe/Berlin:20211010T150000
LOCATION:ZŠ Holzova 1\, Holzova 1461 Brno - Líšeň
SUMMARY:JM-JKY-A: TJ JUNIOR Brno B-KP Brno
END:VEVENT
BEGIN:VEVENT
UID:65343837-6364-4932-b733-613163356230
DTSTAMP:20260425T154818Z
DESCRIPTION:1/3 KP Brno - TJ JUNIOR Brno 1:3 (-22\,16\,-19\,-21)\nZŠ Holzov
 a
DTSTART;TZID=Europe/Berlin:20220316T190000
DTEND;TZID=Europe/Berlin:20220316T210000
LOCATION:Sportovní gymnázium Ludvíka Daňka\, Botanická 63 Brno - Ponava
SUMMARY:JM-JKY-I: KP Brno-TJ JUNIOR Brno
END:VEVENT
BEGIN:VEVENT
UID:34346263-3765-4262-b562-653736353962
DTSTAMP:20260425T154818Z
DESCRIPTION:2/6 KP Brno - TJ JUNIOR Brno 0:3 (-20\,-24\,-11)\nZŠ Holzova
DTSTART;TZID=Europe/Berlin:20220316T180000
DTEND;TZID=Europe/Berlin:20220316T200000
LOCATION:Sportovní gymnázium Ludvíka Daňka\, Botanická 63 Brno - Ponava
SUMMARY:JM-JKY-I: KP Brno-TJ JUNIOR Brno
END:VEVENT
BEGIN:VEVENT
UID:30376130-3861-4938-b366-663861356534
DTSTAMP:20260425T154818Z
DESCRIPTION:5/13 KP Brno - Tělocvičná jednota Sokol Předklášteří 3:1 (16\,-
 24\,7\,10)
DTSTART;TZID=Europe/Berlin:20220206T090000
DTEND;TZID=Europe/Berlin:20220206T110000
LOCATION:Sportovní gymnázium Ludvíka Daňka\, Botanická 63 Brno - Ponava
SUMMARY:JM-JKY-I: KP Brno-Tělocvičná jednota Sokol Předklášteří
END:VEVENT
BEGIN:VEVENT
UID:65313637-6530-4931-b439-366334333663
DTSTAMP:20260425T154818Z
DESCRIPTION:6/16 KP Brno - Tělocvičná jednota Sokol Předklášteří 3:0 (19\,1
 3\,15)
DTSTART;TZID=Europe/Berlin:20220206T120000
DTEND;TZID=Europe/Berlin:20220206T140000
LOCATION:Sportovní gymnázium Ludvíka Daňka\, Botanická 63 Brno - Ponava
SUMMARY:JM-JKY-I: KP Brno-Tělocvičná jednota Sokol Předklášteří
END:VEVENT
BEGIN:VEVENT
UID:35333431-3333-4162-a662-393030663966
DTSTAMP:20260425T154818Z
DESCRIPTION:9/25 KP Brno - Tělovýchovná jednota Sokol Újezd u Brna 0:3 (-19
 \,-17\,-18)
DTSTART;TZID=Europe/Berlin:20220317T163000
DTEND;TZID=Europe/Berlin:20220317T183000
LOCATION:Sportovní gymnázium Ludvíka Daňka\, Botanická 63 Brno - Ponava
SUMMARY:JM-JKY-I: KP Brno-Tělovýchovná jednota Sokol Újezd u Brna
END:VEVENT
BEGIN:VEVENT
UID:30356338-6366-4237-b032-393439393032
DTSTAMP:20260425T154818Z
DESCRIPTION:10/28 KP Brno - Tělovýchovná jednota Sokol Újezd u Brna 3:0 (16
 \,17\,21)
DTSTART;TZID=Europe/Berlin:20220317T180000
DTEND;TZID=Europe/Berlin:20220317T200000
LOCATION:Sportovní gymnázium Ludvíka Daňka\, Botanická 63 Brno - Ponava
SUMMARY:JM-JKY-I: KP Brno-Tělovýchovná jednota Sokol Újezd u Brna
END:VEVENT
BEGIN:VEVENT
UID:36353235-6431-4634-a332-373361633261
DTSTAMP:20260425T154818Z
DESCRIPTION:3/7 Tělovýchovná jednota Sokol Újezd u Brna - KP Brno 3:0 (14\,
 16\,25)
DTSTART;TZID=Europe/Berlin:20220130T100000
DTEND;TZID=Europe/Berlin:20220130T120000
LOCATION:Hala ZŠ Újezd u Brna\, Školní 284 Újezd u Brna
SUMMARY:JM-JKY-I: Tělovýchovná jednota Sokol Újezd u Brna-KP Brno
END:VEVENT
BEGIN:VEVENT
UID:34616466-3462-4635-b766-376531663263
DTSTAMP:20260425T154818Z
DESCRIPTION:4/10 Tělovýchovná jednota Sokol Újezd u Brna - KP Brno 3:1 (19\
 ,22\,-18\,21)
DTSTART;TZID=Europe/Berlin:20220130T130000
DTEND;TZID=Europe/Berlin:20220130T150000
LOCATION:Hala ZŠ Újezd u Brna\, Školní 284 Újezd u Brna
SUMMARY:JM-JKY-I: Tělovýchovná jednota Sokol Újezd u Brna-KP Brno
END:VEVENT
BEGIN:VEVENT
UID:33653732-6563-4564-a136-663533663763
DTSTAMP:20260425T154818Z
DESCRIPTION:7/21 TJ JUNIOR Brno - KP Brno 3:0 (15\,22\,20)
DTSTART;TZID=Europe/Berlin:20220202T181500
DTEND;TZID=Europe/Berlin:20220202T201500
LOCATION:ZŠ Holzova 1\, Holzova 1461 Brno - Líšeň
SUMMARY:JM-JKY-I: TJ JUNIOR Brno-KP Brno
END:VEVENT
BEGIN:VEVENT
UID:33633664-3866-4331-a538-303433626234
DTSTAMP:20260425T154818Z
DESCRIPTION:8/24 TJ JUNIOR Brno - KP Brno 3:0 (17\,20\,13)
DTSTART;TZID=Europe/Berlin:20220209T181500
DTEND;TZID=Europe/Berlin:20220209T201500
LOCATION:ZŠ Holzova 1\, Holzova 1461 Brno - Líšeň
SUMMARY:JM-JKY-I: TJ JUNIOR Brno-KP Brno
END:VEVENT
BEGIN:VEVENT
UID:66386466-3364-4462-a337-383435613135
DTSTAMP:20260425T154818Z
DESCRIPTION:11/31 Tělocvičná jednota Sokol Předklášteří - KP Brno 3:0 (22\,
 10\,23)
DTSTART;TZID=Europe/Berlin:20220320T100000
DTEND;TZID=Europe/Berlin:20220320T120000
LOCATION:ZŠ Předklášteří\, Komenského 1097 Předklášteří
SUMMARY:JM-JKY-I: Tělocvičná jednota Sokol Předklášteří-KP Brno
END:VEVENT
BEGIN:VEVENT
UID:38663038-6262-4537-a636-383961373165
DTSTAMP:20260425T154818Z
DESCRIPTION:12/34 Tělocvičná jednota Sokol Předklášteří - KP Brno 3:0 (23\,
 22\,8)
DTSTART;TZID=Europe/Berlin:20220320T130000
DTEND;TZID=Europe/Berlin:20220320T150000
LOCATION:ZŠ Předklášteří\, Komenského 1097 Předklášteří
SUMMARY:JM-JKY-I: Tělocvičná jednota Sokol Předklášteří-KP Brno
END:VEVENT
END:VCALENDAR
