BEGIN:VCALENDAR
VERSION:2.0
PRODID:-//TĚLOVÝCHOVNÁ JEDNOTA NIVNICE z.s.76646//NONSGML kigkonsult.se iCalcreator 2.41.80//
CALSCALE:GREGORIAN
UID:66343661-3034-4836-a563-346264333066
BEGIN:VEVENT
UID:36613762-6661-4564-b233-353533656363
DTSTAMP:20260423T133443Z
DESCRIPTION:3/7 TJ Nivnice - SKV Hošťálková 0:3 (-7\,-16\,-13)
DTSTART;TZID=Europe/Berlin:20211023T100000
DTEND;TZID=Europe/Berlin:20211023T120000
LOCATION:Sportovní hala Nivnice\, Podohradí 888 Nivnice
SUMMARY:ZLK-Z: TJ Nivnice-SKV Hošťálková
END:VEVENT
BEGIN:VEVENT
UID:62646666-3736-4865-b535-353438306636
DTSTAMP:20260423T133443Z
DESCRIPTION:4/10 TJ Nivnice - SKV Hošťálková 1:3 (-17\,10\,-14\,-20)
DTSTART;TZID=Europe/Berlin:20211023T130000
DTEND;TZID=Europe/Berlin:20211023T150000
LOCATION:Sportovní hala Nivnice\, Podohradí 888 Nivnice
SUMMARY:ZLK-Z: TJ Nivnice-SKV Hošťálková
END:VEVENT
BEGIN:VEVENT
UID:63643564-3039-4736-b832-363364623837
DTSTAMP:20260423T133443Z
DESCRIPTION:7/19 TJ Nivnice - TJ Bojkovice 3:0 (13\,21\,14)
DTSTART;TZID=Europe/Berlin:20211127T140000
DTEND;TZID=Europe/Berlin:20211127T160000
LOCATION:Sportovní hala Nivnice\, Podohradí 888 Nivnice
SUMMARY:ZLK-Z: TJ Nivnice-TJ Bojkovice
END:VEVENT
BEGIN:VEVENT
UID:61626637-3931-4637-a463-333031393462
DTSTAMP:20260423T133443Z
DESCRIPTION:8/22 TJ Nivnice - TJ Bojkovice 3:0 (17\,13\,10)
DTSTART;TZID=Europe/Berlin:20211127T160000
DTEND;TZID=Europe/Berlin:20211127T180000
LOCATION:Sportovní hala Nivnice\, Podohradí 888 Nivnice
SUMMARY:ZLK-Z: TJ Nivnice-TJ Bojkovice
END:VEVENT
BEGIN:VEVENT
UID:37663861-3464-4030-b632-383938303535
DTSTAMP:20260423T133443Z
DESCRIPTION:11/31 TJ Nivnice - VK Valašské Meziříčí 0:3 (-11\,-15\,-11)
DTSTART;TZID=Europe/Berlin:20211016T100000
DTEND;TZID=Europe/Berlin:20211016T120000
LOCATION:Sportovní hala Nivnice\, Podohradí 888 Nivnice
SUMMARY:ZLK-Z: TJ Nivnice-VK Valašské Meziříčí
END:VEVENT
BEGIN:VEVENT
UID:31666664-3735-4638-a330-303031343131
DTSTAMP:20260423T133443Z
DESCRIPTION:12/34 TJ Nivnice - VK Valašské Meziříčí 0:3 (-12\,-17\,-17)
DTSTART;TZID=Europe/Berlin:20211016T130000
DTEND;TZID=Europe/Berlin:20211016T150000
LOCATION:Sportovní hala Nivnice\, Podohradí 888 Nivnice
SUMMARY:ZLK-Z: TJ Nivnice-VK Valašské Meziříčí
END:VEVENT
BEGIN:VEVENT
UID:39396433-3535-4563-b836-663661353864
DTSTAMP:20260423T133443Z
DESCRIPTION:15/43 TJ Nivnice - Uherské Hradiště 1:3 (20\,-11\,-22\,-13)
DTSTART;TZID=Europe/Berlin:20220219T090000
DTEND;TZID=Europe/Berlin:20220219T110000
LOCATION:Sportovní hala Nivnice\, Podohradí 888 Nivnice
SUMMARY:ZLK-Z: TJ Nivnice-Uherské Hradiště
END:VEVENT
BEGIN:VEVENT
UID:66656564-3265-4638-b632-353639623130
DTSTAMP:20260423T133443Z
DESCRIPTION:16/46 TJ Nivnice - Uherské Hradiště 0:3 (-22\,-16\,-17)
DTSTART;TZID=Europe/Berlin:20220219T120000
DTEND;TZID=Europe/Berlin:20220219T140000
LOCATION:Sportovní hala Nivnice\, Podohradí 888 Nivnice
SUMMARY:ZLK-Z: TJ Nivnice-Uherské Hradiště
END:VEVENT
BEGIN:VEVENT
UID:66343762-6431-4338-b531-343166366134
DTSTAMP:20260423T133443Z
DESCRIPTION:19/55 TJ Nivnice - SK Slavičín 0:3 (-12\,-11\,-19)
DTSTART;TZID=Europe/Berlin:20220305T090000
DTEND;TZID=Europe/Berlin:20220305T110000
LOCATION:Sportovní hala Nivnice\, Podohradí 888 Nivnice
SUMMARY:ZLK-Z: TJ Nivnice-SK Slavičín
END:VEVENT
BEGIN:VEVENT
UID:61396630-6635-4730-b839-363437663330
DTSTAMP:20260423T133443Z
DESCRIPTION:20/58 TJ Nivnice - SK Slavičín 0:3 (-12\,-24\,-10)
DTSTART;TZID=Europe/Berlin:20220305T120000
DTEND;TZID=Europe/Berlin:20220305T140000
LOCATION:Sportovní hala Nivnice\, Podohradí 888 Nivnice
SUMMARY:ZLK-Z: TJ Nivnice-SK Slavičín
END:VEVENT
BEGIN:VEVENT
UID:34666639-3431-4535-a533-613937383166
DTSTAMP:20260423T133443Z
DESCRIPTION:1/1 VK Valašské Meziříčí - TJ Nivnice 3:0 (17\,17\,11)
DTSTART;TZID=Europe/Berlin:20220116T100000
DTEND;TZID=Europe/Berlin:20220116T120000
LOCATION:ZŠ Šafaříkova\, Šafaříkova 726 Valašské Meziříčí
SUMMARY:ZLK-Z: VK Valašské Meziříčí-TJ Nivnice
END:VEVENT
BEGIN:VEVENT
UID:64666330-6266-4539-b234-343566393737
DTSTAMP:20260423T133443Z
DESCRIPTION:2/4 VK Valašské Meziříčí - TJ Nivnice 3:1 (19\,13\,-26\,25)
DTSTART;TZID=Europe/Berlin:20220116T130000
DTEND;TZID=Europe/Berlin:20220116T150000
LOCATION:ZŠ Šafaříkova\, Šafaříkova 726 Valašské Meziříčí
SUMMARY:ZLK-Z: VK Valašské Meziříčí-TJ Nivnice
END:VEVENT
BEGIN:VEVENT
UID:33306138-3734-4166-b036-383131663962
DTSTAMP:20260423T133443Z
DESCRIPTION:5/13 Uherské Hradiště - TJ Nivnice 3:0 (14\,15\,6)
DTSTART;TZID=Europe/Berlin:20211113T110000
DTEND;TZID=Europe/Berlin:20211113T130000
LOCATION:Městská sportovní hala\, Stonky 860 Uherské Hradiště
SUMMARY:ZLK-Z: Uherské Hradiště-TJ Nivnice
END:VEVENT
BEGIN:VEVENT
UID:61633036-3034-4464-a231-663362666634
DTSTAMP:20260423T133443Z
DESCRIPTION:6/16 Uherské Hradiště - TJ Nivnice 3:0 (16\,14\,13)
DTSTART;TZID=Europe/Berlin:20211113T140000
DTEND;TZID=Europe/Berlin:20211113T160000
LOCATION:Městská sportovní hala\, Stonky 860 Uherské Hradiště
SUMMARY:ZLK-Z: Uherské Hradiště-TJ Nivnice
END:VEVENT
BEGIN:VEVENT
UID:31366136-3361-4066-a530-613262343961
DTSTAMP:20260423T133443Z
DESCRIPTION:9/25 SK Slavičín - TJ Nivnice 3:1 (20\,21\,-21\,16)
DTSTART;TZID=Europe/Berlin:20211204T090000
DTEND;TZID=Europe/Berlin:20211204T110000
LOCATION:Sportovní hala Slavičín\, Školní 29 Slavičín
SUMMARY:ZLK-Z: SK Slavičín-TJ Nivnice
END:VEVENT
BEGIN:VEVENT
UID:64313534-3230-4437-b836-346264383966
DTSTAMP:20260423T133443Z
DESCRIPTION:10/28 SK Slavičín - TJ Nivnice 3:0 (14\,15\,16)
DTSTART;TZID=Europe/Berlin:20211204T120000
DTEND;TZID=Europe/Berlin:20211204T140000
LOCATION:Sportovní hala Slavičín\, Školní 29 Slavičín
SUMMARY:ZLK-Z: SK Slavičín-TJ Nivnice
END:VEVENT
BEGIN:VEVENT
UID:66633233-6239-4833-b936-623534356663
DTSTAMP:20260423T133443Z
DESCRIPTION:13/37 SKV Hošťálková - TJ Nivnice 3:1 (17\,-21\,11\,18)
DTSTART;TZID=Europe/Berlin:20220212T090000
DTEND;TZID=Europe/Berlin:20220212T110000
LOCATION:ZŠ Hošťálková \,  Hošťálková380
SUMMARY:ZLK-Z: SKV Hošťálková-TJ Nivnice
END:VEVENT
BEGIN:VEVENT
UID:33366665-3031-4238-b862-633235623863
DTSTAMP:20260423T133443Z
DESCRIPTION:14/40 SKV Hošťálková - TJ Nivnice 3:0 (19\,6\,14)
DTSTART;TZID=Europe/Berlin:20220212T120000
DTEND;TZID=Europe/Berlin:20220212T140000
LOCATION:ZŠ Hošťálková \,  Hošťálková380
SUMMARY:ZLK-Z: SKV Hošťálková-TJ Nivnice
END:VEVENT
BEGIN:VEVENT
UID:34386230-6363-4034-b934-363934636238
DTSTAMP:20260423T133443Z
DESCRIPTION:17/49 TJ Bojkovice - TJ Nivnice 1:3 (24\,-17\,-20\,-20)
DTSTART;TZID=Europe/Berlin:20220226T120000
DTEND;TZID=Europe/Berlin:20220226T140000
LOCATION:ZŠ TGM Bojkovice\, Štefánikova 460 Bojkovice
SUMMARY:ZLK-Z: TJ Bojkovice-TJ Nivnice
END:VEVENT
BEGIN:VEVENT
UID:39313765-6135-4532-b534-316632386535
DTSTAMP:20260423T133443Z
DESCRIPTION:18/52 TJ Bojkovice - TJ Nivnice 0:3 (-14\,-10\,-21)
DTSTART;TZID=Europe/Berlin:20220226T150000
DTEND;TZID=Europe/Berlin:20220226T170000
LOCATION:ZŠ TGM Bojkovice\, Štefánikova 460 Bojkovice
SUMMARY:ZLK-Z: TJ Bojkovice-TJ Nivnice
END:VEVENT
END:VCALENDAR
