BEGIN:VCALENDAR
VERSION:2.0
PRODID:-//VSK Slavia JU ČB76716//NONSGML kigkonsult.se iCalcreator 2.41.80//
CALSCALE:GREGORIAN
UID:34326137-3938-4866-a135-386239653031
BEGIN:VEVENT
UID:36353065-3133-4964-a262-626536356133
DTSTAMP:20260422T191308Z
DESCRIPTION:1/5 VSK Slavia ČB - VSK ČK A 0:2 (-22\,-21)
DTSTART;TZID=Europe/Berlin:20210926T100000
DTEND;TZID=Europe/Berlin:20210926T120000
LOCATION:ZŠ Oskara Nedbala České Budějovice\, O. Nedbala 882 České Budějovi
 ce - České Budějovice 2
SUMMARY:JC-JKY-1C: VSK Slavia ČB-VSK ČK A
END:VEVENT
BEGIN:VEVENT
UID:39613330-3762-4932-a562-383861633566
DTSTAMP:20260422T191308Z
DESCRIPTION:1/2 SK Třebín A - VSK Slavia ČB 2:0 (17\,7)
DTSTART;TZID=Europe/Berlin:20210926T100000
DTEND;TZID=Europe/Berlin:20210926T120000
LOCATION:ZŠ Oskara Nedbala České Budějovice\, O. Nedbala 882 České Budějovi
 ce - České Budějovice 2
SUMMARY:JC-JKY-1C: SK Třebín A-VSK Slavia ČB
END:VEVENT
BEGIN:VEVENT
UID:38363031-6363-4164-a232-636339373239
DTSTAMP:20260422T191308Z
DESCRIPTION:1/4 SK Hlincovka - VSK Slavia ČB 2:0 (18\,17)
DTSTART;TZID=Europe/Berlin:20210926T100000
DTEND;TZID=Europe/Berlin:20210926T120000
LOCATION:ZŠ Oskara Nedbala České Budějovice\, O. Nedbala 882 České Budějovi
 ce - České Budějovice 2
SUMMARY:JC-JKY-1C: SK Hlincovka-VSK Slavia ČB
END:VEVENT
BEGIN:VEVENT
UID:62306164-6237-4631-a137-386664363462
DTSTAMP:20260422T191308Z
DESCRIPTION:1/6 VSK Slavia ČB - SK Třebín C 2:1 (-21\,25\,8)
DTSTART;TZID=Europe/Berlin:20211205T100000
DTEND;TZID=Europe/Berlin:20211205T120000
LOCATION:TĚLOVÝCHOVNÁ JEDNOTA LOKOMOTIVA z. s.\, Třebízského 1044 České Bud
 ějovice - České Budějovice 5
SUMMARY:JC-JKY-2B: VSK Slavia ČB-SK Třebín C
END:VEVENT
BEGIN:VEVENT
UID:66373134-3436-4231-b335-363533633734
DTSTAMP:20260422T191308Z
DESCRIPTION:1/9 VSK Slavia ČB - VK Madeta ČB B 2:1 (-22\,10\,7)
DTSTART;TZID=Europe/Berlin:20211205T110000
DTEND;TZID=Europe/Berlin:20211205T130000
LOCATION:TĚLOVÝCHOVNÁ JEDNOTA LOKOMOTIVA z. s.\, Třebízského 1044 České Bud
 ějovice - České Budějovice 5
SUMMARY:JC-JKY-2B: VSK Slavia ČB-VK Madeta ČB B
END:VEVENT
BEGIN:VEVENT
UID:33323439-6632-4637-b461-613364663132
DTSTAMP:20260422T191308Z
DESCRIPTION:1/3 VSK ČK A - VSK Slavia ČB 0:2 (-20\,-16)
DTSTART;TZID=Europe/Berlin:20211205T090000
DTEND;TZID=Europe/Berlin:20211205T110000
LOCATION:TĚLOVÝCHOVNÁ JEDNOTA LOKOMOTIVA z. s.\, Třebízského 1044 České Bud
 ějovice - České Budějovice 5
SUMMARY:JC-JKY-2B: VSK ČK A-VSK Slavia ČB
END:VEVENT
BEGIN:VEVENT
UID:61363461-3362-4166-a431-396632313764
DTSTAMP:20260422T191308Z
DESCRIPTION:1/10 VSK ČK B - VSK Slavia ČB 0:2 (-0\,-0)
DTSTART;TZID=Europe/Berlin:20211205T120000
DTEND;TZID=Europe/Berlin:20211205T140000
LOCATION:TĚLOVÝCHOVNÁ JEDNOTA LOKOMOTIVA z. s.\, Třebízského 1044 České Bud
 ějovice - České Budějovice 5
SUMMARY:JC-JKY-2B: VSK ČK B-VSK Slavia ČB
END:VEVENT
BEGIN:VEVENT
UID:66366635-3834-4061-b231-326435383661
DTSTAMP:20260422T191308Z
DESCRIPTION:1/13 TJ Slovan J. Hradec - VSK Slavia ČB 2:0 (20\,17)
DTSTART;TZID=Europe/Berlin:20211205T130000
DTEND;TZID=Europe/Berlin:20211205T150000
LOCATION:TĚLOVÝCHOVNÁ JEDNOTA LOKOMOTIVA z. s.\, Třebízského 1044 České Bud
 ějovice - České Budějovice 5
SUMMARY:JC-JKY-2B: TJ Slovan J. Hradec-VSK Slavia ČB
END:VEVENT
BEGIN:VEVENT
UID:33326165-6561-4239-b836-326635316362
DTSTAMP:20260422T191308Z
DESCRIPTION:1/6 VSK Slavia ČB - SK Třebín B 0:2 (-19\,-16)
DTSTART;TZID=Europe/Berlin:20220130T100000
DTEND;TZID=Europe/Berlin:20220130T120000
LOCATION:Sportovní hala Jihočeské univerzity\, Na Sádkách 305 České Budějov
 ice - České Budějovice 2
SUMMARY:JC-JKY-3A: VSK Slavia ČB-SK Třebín B
END:VEVENT
BEGIN:VEVENT
UID:64386531-3535-4237-a133-303566643332
DTSTAMP:20260422T191308Z
DESCRIPTION:1/9 VSK Slavia ČB - SK Hlincovka 0:2 (-16\,-11)
DTSTART;TZID=Europe/Berlin:20220130T110000
DTEND;TZID=Europe/Berlin:20220130T130000
LOCATION:Sportovní hala Jihočeské univerzity\, Na Sádkách 305 České Budějov
 ice - České Budějovice 2
SUMMARY:JC-JKY-3A: VSK Slavia ČB-SK Hlincovka
END:VEVENT
BEGIN:VEVENT
UID:38306335-3036-4636-a564-366630643665
DTSTAMP:20260422T191308Z
DESCRIPTION:1/3 TJ Slovan J. Hradec - VSK Slavia ČB 2:0 (15\,7)
DTSTART;TZID=Europe/Berlin:20220130T090000
DTEND;TZID=Europe/Berlin:20220130T110000
LOCATION:Sportovní hala J. Hradec\, U Stadionu 1137 Jindřichův Hradec - Jin
 dřichův Hradec II
SUMMARY:JC-JKY-3A: TJ Slovan J. Hradec-VSK Slavia ČB
END:VEVENT
BEGIN:VEVENT
UID:33613132-3635-4364-b136-363430333931
DTSTAMP:20260422T191308Z
DESCRIPTION:1/10 SK Třebín A - VSK Slavia ČB 2:0 (11\,23)
DTSTART;TZID=Europe/Berlin:20220130T120000
DTEND;TZID=Europe/Berlin:20220130T140000
LOCATION:ZŠ Máj I\, M. Chlajna 1319 České Budějovice - České Budějovice 2
SUMMARY:JC-JKY-3A: SK Třebín A-VSK Slavia ČB
END:VEVENT
BEGIN:VEVENT
UID:35353631-3432-4634-b238-626663623134
DTSTAMP:20260422T191308Z
DESCRIPTION:1/13 České Budějovice C - VSK Slavia ČB 2:0 (17\,10)
DTSTART;TZID=Europe/Berlin:20220130T130000
DTEND;TZID=Europe/Berlin:20220130T150000
LOCATION:Sportovní hala\, Stromovka 1216 České Budějovice - České Budějovic
 e 2
SUMMARY:JC-JKY-3A: České Budějovice C-VSK Slavia ČB
END:VEVENT
BEGIN:VEVENT
UID:37653862-6330-4438-a133-386332613061
DTSTAMP:20260422T191308Z
DESCRIPTION:1/14 VSK Slavia ČB - VSK ČK A 0:2 (-15\,-15)
DTSTART;TZID=Europe/Berlin:20220410T170000
DTEND;TZID=Europe/Berlin:20220410T190000
LOCATION:Sportovní hala Jihočeské univerzity\, Na Sádkách 305 České Budějov
 ice - České Budějovice 2
SUMMARY:JC-JKY-4B: VSK Slavia ČB-VSK ČK A
END:VEVENT
BEGIN:VEVENT
UID:65636131-3639-4336-b630-386632363365
DTSTAMP:20260422T191308Z
DESCRIPTION:1/3 TJ Slovan J. Hradec - VSK Slavia ČB 2:0 (14\,19)
DTSTART;TZID=Europe/Berlin:20220410T090000
DTEND;TZID=Europe/Berlin:20220410T110000
LOCATION:Sportovní hala J. Hradec\, U Stadionu 1137 Jindřichův Hradec - Jin
 dřichův Hradec II
SUMMARY:JC-JKY-4B: TJ Slovan J. Hradec-VSK Slavia ČB
END:VEVENT
BEGIN:VEVENT
UID:39366637-3539-4131-b963-626664386634
DTSTAMP:20260422T191308Z
DESCRIPTION:1/5 Volejbal Tábor - VSK Slavia ČB 0:2 (-22\,-11)
DTSTART;TZID=Europe/Berlin:20220410T110000
DTEND;TZID=Europe/Berlin:20220410T130000
LOCATION:Tělocvična ZŠ Husova\, Husova 1570 Tábor
SUMMARY:JC-JKY-4B: Volejbal Tábor-VSK Slavia ČB
END:VEVENT
BEGIN:VEVENT
UID:31356636-6238-4261-a465-386233386134
DTSTAMP:20260422T191308Z
DESCRIPTION:1/9 TJ ČZ Strakonice - VSK Slavia ČB 2:0 (16\,19)
DTSTART;TZID=Europe/Berlin:20220410T130000
DTEND;TZID=Europe/Berlin:20220410T150000
LOCATION:Hala TJ ČZ Strakonice\, Máchova 108 Strakonice - Strakonice I
SUMMARY:JC-JKY-4B: TJ ČZ Strakonice-VSK Slavia ČB
END:VEVENT
BEGIN:VEVENT
UID:38383430-6338-4437-a531-643762303064
DTSTAMP:20260422T191308Z
DESCRIPTION:1/11 VK Madeta ČB B - VSK Slavia ČB 0:2 (-27\,-24)
DTSTART;TZID=Europe/Berlin:20220410T150000
DTEND;TZID=Europe/Berlin:20220410T170000
LOCATION:Sportovní hala\, Stromovka 1216 České Budějovice - České Budějovic
 e 2
SUMMARY:JC-JKY-4B: VK Madeta ČB B-VSK Slavia ČB
END:VEVENT
BEGIN:VEVENT
UID:34396136-6131-4631-b061-323634313430
DTSTAMP:20260422T191308Z
DESCRIPTION:1/2 VK Litomyšl - VSK Slavia ČB 2:0 (0\,0)
DTSTART;TZID=Europe/Berlin:20211016T090000
DTEND;TZID=Europe/Berlin:20211016T110000
LOCATION:Městská sportovní hala\, T. G. Masaryka 1145 Litomyšl - Litomyšl-M
 ěsto
SUMMARY:CP-JKY-C: VK Litomyšl-VSK Slavia ČB
END:VEVENT
BEGIN:VEVENT
UID:34356166-6165-4964-b761-656264633930
DTSTAMP:20260422T191308Z
DESCRIPTION:3/5 Opava - VSK Slavia ČB 2:0 (0\,0)
DTSTART;TZID=Europe/Berlin:20211016T110000
DTEND;TZID=Europe/Berlin:20211016T130000
LOCATION:ZŠ Ed. Beneše\, Edvarda Beneše 961 Opava - Kateřinky
SUMMARY:CP-JKY-C: Opava-VSK Slavia ČB
END:VEVENT
BEGIN:VEVENT
UID:61643363-3263-4566-b236-653562643362
DTSTAMP:20260422T191308Z
DESCRIPTION:5/9 Žatec - VSK Slavia ČB 2:0 (0\,0)
DTSTART;TZID=Europe/Berlin:20211016T130000
DTEND;TZID=Europe/Berlin:20211016T150000
LOCATION:Sportovní hala TJ Sever Žatec\, Plzeňská 2787 Žatec
SUMMARY:CP-JKY-C: Žatec-VSK Slavia ČB
END:VEVENT
BEGIN:VEVENT
UID:35626562-6666-4538-b965-613062626238
DTSTAMP:20260422T191308Z
DESCRIPTION:7/12 S V B C - VSK Slavia ČB 2:0 (0\,0)
DTSTART;TZID=Europe/Berlin:20211016T150000
DTEND;TZID=Europe/Berlin:20211016T170000
SUMMARY:CP-JKY-C: S V B C-VSK Slavia ČB
END:VEVENT
BEGIN:VEVENT
UID:38353231-6163-4532-b063-623031343166
DTSTAMP:20260422T191308Z
DESCRIPTION:10/18 Jirkov - VSK Slavia ČB 2:0 (0\,0)
DTSTART;TZID=Europe/Berlin:20211017T090000
DTEND;TZID=Europe/Berlin:20211017T110000
LOCATION:Sportovní hala MG a ZŠ Jirkov\, Krušnohorská 1675 Jirkov
SUMMARY:CP-JKY-C: Jirkov-VSK Slavia ČB
END:VEVENT
BEGIN:VEVENT
UID:66383161-3139-4562-b637-613565396332
DTSTAMP:20260422T191308Z
DESCRIPTION:12/23 H. Králové - VSK Slavia ČB 2:0 (0\,0)
DTSTART;TZID=Europe/Berlin:20211017T110000
DTEND;TZID=Europe/Berlin:20211017T130000
LOCATION:TJ Slavia Hradec Králové\, Víta Nejedlého 1216 Hradec Králové
SUMMARY:CP-JKY-C: H. Králové-VSK Slavia ČB
END:VEVENT
BEGIN:VEVENT
UID:33353931-3732-4438-b131-656263623436
DTSTAMP:20260422T191308Z
DESCRIPTION:13/25 Lvi - VSK Slavia ČB 2:0 (0\,0)
DTSTART;TZID=Europe/Berlin:20211017T120000
DTEND;TZID=Europe/Berlin:20211017T140000
LOCATION:Sportovní hala ZŠ\, náměstí Českého povstání 511 Praha - Ruzyně
SUMMARY:CP-JKY-C: Lvi-VSK Slavia ČB
END:VEVENT
BEGIN:VEVENT
UID:39623861-3163-4165-b733-633738306266
DTSTAMP:20260422T191308Z
DESCRIPTION:2/2 VSK Slavia ČB - SK Třebín A 1:2 (-18\,14\,-12)
DTSTART;TZID=Europe/Berlin:20211120T113000
DTEND;TZID=Europe/Berlin:20211120T133000
LOCATION:Sportovní hala Jihočeské univerzity\, Na Sádkách 305 České Budějov
 ice - České Budějovice 2
SUMMARY:CP-JKY-1C: VSK Slavia ČB-SK Třebín A
END:VEVENT
BEGIN:VEVENT
UID:37396537-3362-4539-a138-323530663932
DTSTAMP:20260422T191308Z
DESCRIPTION:7/17 VSK Slavia ČB - TJ JUNIOR Brno 0:2 (-20\,-4)
DTSTART;TZID=Europe/Berlin:20211121T090000
DTEND;TZID=Europe/Berlin:20211121T110000
LOCATION:Sportovní hala Jihočeské univerzity\, Na Sádkách 305 České Budějov
 ice - České Budějovice 2
SUMMARY:CP-JKY-1C: VSK Slavia ČB-TJ JUNIOR Brno
END:VEVENT
BEGIN:VEVENT
UID:39636432-3264-4462-b532-386232316366
DTSTAMP:20260422T191308Z
DESCRIPTION:9/21 VSK Slavia ČB - VK Litomyšl 0:2 (-19\,-20)
DTSTART;TZID=Europe/Berlin:20211121T113000
DTEND;TZID=Europe/Berlin:20211121T133000
LOCATION:Sportovní hala Jihočeské univerzity\, Na Sádkách 305 České Budějov
 ice - České Budějovice 2
SUMMARY:CP-JKY-1C: VSK Slavia ČB-VK Litomyšl
END:VEVENT
BEGIN:VEVENT
UID:61376336-6238-4330-b862-633061633161
DTSTAMP:20260422T191308Z
DESCRIPTION:3/5 Karlovy Vary - VSK Slavia ČB 0:2 (-17\,-20)
DTSTART;TZID=Europe/Berlin:20211120T133000
DTEND;TZID=Europe/Berlin:20211120T153000
LOCATION:Mattoni Arena Hala míčových sportů\, Západní 1812 Karlovy Vary
SUMMARY:CP-JKY-1C: Karlovy Vary-VSK Slavia ČB
END:VEVENT
BEGIN:VEVENT
UID:32346662-6563-4161-a166-363263373535
DTSTAMP:20260422T191308Z
DESCRIPTION:4/6 Žatec - VSK Slavia ČB 2:0 (12\,7)
DTSTART;TZID=Europe/Berlin:20211120T150000
DTEND;TZID=Europe/Berlin:20211120T170000
LOCATION:Sportovní hala TJ Sever Žatec\, Plzeňská 2787 Žatec
SUMMARY:CP-JKY-1C: Žatec-VSK Slavia ČB
END:VEVENT
BEGIN:VEVENT
UID:34633831-3530-4330-a431-613461396238
DTSTAMP:20260422T191308Z
DESCRIPTION:6/12 Břeclav - VSK Slavia ČB X:2
DTSTART;TZID=Europe/Berlin:20211120T173000
DTEND;TZID=Europe/Berlin:20211120T193000
LOCATION:TJ Lokomotiva Břeclav\, Veslařská 2753 Břeclav
SUMMARY:CP-JKY-1C: Břeclav-VSK Slavia ČB
END:VEVENT
BEGIN:VEVENT
UID:30303466-6565-4937-a163-383133373666
DTSTAMP:20260422T191308Z
DESCRIPTION:10/23 Přerov - VSK Slavia ČB X:2
DTSTART;TZID=Europe/Berlin:20211121T123000
DTEND;TZID=Europe/Berlin:20211121T143000
LOCATION:Městská sportovní hala\, Petřivalského 2884 Přerov - Přerov I-Měst
 o
SUMMARY:CP-JKY-1C: Přerov-VSK Slavia ČB
END:VEVENT
BEGIN:VEVENT
UID:64643432-3736-4364-b064-306162376236
DTSTAMP:20260422T191308Z
DESCRIPTION:4/7 VSK Slavia ČB - Karlovy Vary 0:2 (-17\,-17)
DTSTART;TZID=Europe/Berlin:20220219T124500
DTEND;TZID=Europe/Berlin:20220219T144500
LOCATION:Sportovní hala Jihočeské univerzity\, Na Sádkách 305 České Budějov
 ice - České Budějovice 2
SUMMARY:CP-JKY-3C: VSK Slavia ČB-Karlovy Vary
END:VEVENT
BEGIN:VEVENT
UID:61383365-3538-4836-b634-616466643937
DTSTAMP:20260422T191308Z
DESCRIPTION:5/9 VSK Slavia ČB - Břeclav 2:0 (0\,0)
DTSTART;TZID=Europe/Berlin:20220219T140000
DTEND;TZID=Europe/Berlin:20220219T160000
LOCATION:Sportovní hala Jihočeské univerzity\, Na Sádkách 305 České Budějov
 ice - České Budějovice 2
SUMMARY:CP-JKY-3C: VSK Slavia ČB-Břeclav
END:VEVENT
BEGIN:VEVENT
UID:33633665-3861-4061-b465-643339313237
DTSTAMP:20260422T191308Z
DESCRIPTION:8/15 VSK Slavia ČB - TJ Sokol Mnichovo Hradiště 1:2 (-17\,23\,-
 7)
DTSTART;TZID=Europe/Berlin:20220219T174500
DTEND;TZID=Europe/Berlin:20220219T194500
LOCATION:Sportovní hala Jihočeské univerzity\, Na Sádkách 305 České Budějov
 ice - České Budějovice 2
SUMMARY:CP-JKY-3C: VSK Slavia ČB-TJ Sokol Mnichovo Hradiště
END:VEVENT
BEGIN:VEVENT
UID:65353235-3739-4262-a162-626631303762
DTSTAMP:20260422T191308Z
DESCRIPTION:10/20 VSK Slavia ČB - SK Třebín A 0:2 (-18\,-20)
DTSTART;TZID=Europe/Berlin:20220220T101500
DTEND;TZID=Europe/Berlin:20220220T121500
LOCATION:Sportovní hala Jihočeské univerzity\, Na Sádkách 305 České Budějov
 ice - České Budějovice 2
SUMMARY:CP-JKY-3C: VSK Slavia ČB-SK Třebín A
END:VEVENT
BEGIN:VEVENT
UID:38666662-3963-4565-b936-343232363235
DTSTAMP:20260422T191308Z
DESCRIPTION:12/24 VSK Slavia ČB - VK Brno 0:2 (-6\,-11)
DTSTART;TZID=Europe/Berlin:20220220T124500
DTEND;TZID=Europe/Berlin:20220220T144500
LOCATION:Sportovní hala Jihočeské univerzity\, Na Sádkách 305 České Budějov
 ice - České Budějovice 2
SUMMARY:CP-JKY-3C: VSK Slavia ČB-VK Brno
END:VEVENT
BEGIN:VEVENT
UID:61386132-3063-4662-b965-346634343063
DTSTAMP:20260422T191308Z
DESCRIPTION:14/28 VSK Slavia ČB - VK Litomyšl 2:0 (0\,0)
DTSTART;TZID=Europe/Berlin:20220220T151500
DTEND;TZID=Europe/Berlin:20220220T171500
LOCATION:Sportovní hala Jihočeské univerzity\, Na Sádkách 305 České Budějov
 ice - České Budějovice 2
SUMMARY:CP-JKY-3C: VSK Slavia ČB-VK Litomyšl
END:VEVENT
BEGIN:VEVENT
UID:33656466-3434-4231-b563-363139353663
DTSTAMP:20260422T191308Z
DESCRIPTION:1/1 VSK ČK A - VSK Slavia ČB 2:0 (13\,16)
DTSTART;TZID=Europe/Berlin:20220219T090000
DTEND;TZID=Europe/Berlin:20220219T110000
LOCATION:ZŠ Za Nádražím Český Krumlov\, Za Nádražím 222 Český Krumlov - Nád
 ražní Předměstí
SUMMARY:CP-JKY-3C: VSK ČK A-VSK Slavia ČB
END:VEVENT
BEGIN:VEVENT
UID:33616564-3437-4566-b762-353035303138
DTSTAMP:20260422T191308Z
DESCRIPTION:3/5 VSK Slavia ČB - VK Litomyšl 2:0 (12\,23)
DTSTART;TZID=Europe/Berlin:20220319T110000
DTEND;TZID=Europe/Berlin:20220319T130000
LOCATION:Sportovní hala Jihočeské univerzity\, Na Sádkách 305 České Budějov
 ice - České Budějovice 2
SUMMARY:CP-JKY-4C: VSK Slavia ČB-VK Litomyšl
END:VEVENT
BEGIN:VEVENT
UID:37303939-3736-4562-b762-323135653837
DTSTAMP:20260422T191308Z
DESCRIPTION:5/10 VSK Slavia ČB - Břeclav 2:X
DTSTART;TZID=Europe/Berlin:20220319T130000
DTEND;TZID=Europe/Berlin:20220319T150000
LOCATION:Sportovní hala Jihočeské univerzity\, Na Sádkách 305 České Budějov
 ice - České Budějovice 2
SUMMARY:CP-JKY-4C: VSK Slavia ČB-Břeclav
END:VEVENT
BEGIN:VEVENT
UID:37376637-3763-4865-b334-356131646231
DTSTAMP:20260422T191308Z
DESCRIPTION:14/28 VSK Slavia ČB - TJ JUNIOR Brno 2:1 (22\,-14\,21)
DTSTART;TZID=Europe/Berlin:20220320T113000
DTEND;TZID=Europe/Berlin:20220320T133000
LOCATION:Sportovní hala Jihočeské univerzity\, Na Sádkách 305 České Budějov
 ice - České Budějovice 2
SUMMARY:CP-JKY-4C: VSK Slavia ČB-TJ JUNIOR Brno
END:VEVENT
BEGIN:VEVENT
UID:35376663-3835-4132-b036-383266663036
DTSTAMP:20260422T191308Z
DESCRIPTION:2/4 VSK ČK A - VSK Slavia ČB 2:1 (-18\,16\,5)
DTSTART;TZID=Europe/Berlin:20220319T100000
DTEND;TZID=Europe/Berlin:20220319T120000
LOCATION:ZŠ Za Nádražím Český Krumlov\, Za Nádražím 222 Český Krumlov - Nád
 ražní Předměstí
SUMMARY:CP-JKY-4C: VSK ČK A-VSK Slavia ČB
END:VEVENT
BEGIN:VEVENT
UID:62626530-3330-4261-b463-623661616636
DTSTAMP:20260422T191308Z
DESCRIPTION:8/15 TJ Sokol Mnichovo Hradiště - VSK Slavia ČB 2:0 (16\,13)
DTSTART;TZID=Europe/Berlin:20220319T160000
DTEND;TZID=Europe/Berlin:20220319T180000
LOCATION:Sokolovna\, Víta Nejedlého 596 Mnichovo Hradiště
SUMMARY:CP-JKY-4C: TJ Sokol Mnichovo Hradiště-VSK Slavia ČB
END:VEVENT
BEGIN:VEVENT
UID:30623265-3338-4336-a666-663632663663
DTSTAMP:20260422T191308Z
DESCRIPTION:10/20 Karlovy Vary - VSK Slavia ČB 1:2 (-16\,19\,-8)
DTSTART;TZID=Europe/Berlin:20220319T180000
DTEND;TZID=Europe/Berlin:20220319T200000
LOCATION:Mattoni Arena Hala míčových sportů\, Západní 1812 Karlovy Vary
SUMMARY:CP-JKY-4C: Karlovy Vary-VSK Slavia ČB
END:VEVENT
BEGIN:VEVENT
UID:63303566-3537-4630-b935-656166653065
DTSTAMP:20260422T191308Z
DESCRIPTION:11/21 Opava - VSK Slavia ČB 1:2 (23\,-23\,-8)
DTSTART;TZID=Europe/Berlin:20220320T083000
DTEND;TZID=Europe/Berlin:20220320T103000
LOCATION:ZŠ Ed. Beneše\, Edvarda Beneše 961 Opava - Kateřinky
SUMMARY:CP-JKY-4C: Opava-VSK Slavia ČB
END:VEVENT
END:VCALENDAR
