BEGIN:VCALENDAR
VERSION:2.0
PRODID:-//SK Třebín B76717//NONSGML kigkonsult.se iCalcreator 2.41.80//
CALSCALE:GREGORIAN
UID:63306335-3662-4031-a531-646137316465
BEGIN:VEVENT
UID:65353764-3261-4431-a462-383333343939
DTSTAMP:20260423T062621Z
DESCRIPTION:1/4 SK Třebín B - VSK ČK B 2:1 (19\,-19\,10)
DTSTART;TZID=Europe/Berlin:20210926T100000
DTEND;TZID=Europe/Berlin:20210926T120000
LOCATION:ZŠ Oskara Nedbala České Budějovice\, O. Nedbala 882 České Budějovi
 ce - České Budějovice 2
SUMMARY:JC-JKY-1B: SK Třebín B-VSK ČK B
END:VEVENT
BEGIN:VEVENT
UID:38393866-6263-4638-a637-623662333365
DTSTAMP:20260423T062621Z
DESCRIPTION:1/1 VK Madeta ČB B - SK Třebín B 1:2 (-12\,25\,-10)
DTSTART;TZID=Europe/Berlin:20210926T090000
DTEND;TZID=Europe/Berlin:20210926T110000
LOCATION:ZŠ Oskara Nedbala České Budějovice\, O. Nedbala 882 České Budějovi
 ce - České Budějovice 2
SUMMARY:JC-JKY-1B: VK Madeta ČB B-SK Třebín B
END:VEVENT
BEGIN:VEVENT
UID:62623232-3333-4338-a366-343263393063
DTSTAMP:20260423T062621Z
DESCRIPTION:1/5 Volejbal Tábor - SK Třebín B 0:2 (-15\,-15)
DTSTART;TZID=Europe/Berlin:20210926T100000
DTEND;TZID=Europe/Berlin:20210926T120000
LOCATION:ZŠ Oskara Nedbala České Budějovice\, O. Nedbala 882 České Budějovi
 ce - České Budějovice 2
SUMMARY:JC-JKY-1B: Volejbal Tábor-SK Třebín B
END:VEVENT
BEGIN:VEVENT
UID:63316534-3032-4933-b664-666134386664
DTSTAMP:20260423T062621Z
DESCRIPTION:1/6 SK Třebín B - SK Třebín A 2:0 (23\,21)
DTSTART;TZID=Europe/Berlin:20211205T110000
DTEND;TZID=Europe/Berlin:20211205T130000
LOCATION:ZŠ Máj I\, M. Chlajna 1319 České Budějovice - České Budějovice 2
SUMMARY:JC-JKY-2A: SK Třebín B-SK Třebín A
END:VEVENT
BEGIN:VEVENT
UID:66333735-3531-4236-b832-393865353065
DTSTAMP:20260423T062621Z
DESCRIPTION:1/11 SK Třebín B - SK Hlincovka 1:2 (-17\,19\,-6)
DTSTART;TZID=Europe/Berlin:20211205T140000
DTEND;TZID=Europe/Berlin:20211205T160000
LOCATION:ZŠ Máj I\, M. Chlajna 1319 České Budějovice - České Budějovice 2
SUMMARY:JC-JKY-2A: SK Třebín B-SK Hlincovka
END:VEVENT
BEGIN:VEVENT
UID:65636166-6236-4834-a237-363530386437
DTSTAMP:20260423T062621Z
DESCRIPTION:1/3 Volejbal Tábor - SK Třebín B 0:2 (-18\,-21)
DTSTART;TZID=Europe/Berlin:20211205T100000
DTEND;TZID=Europe/Berlin:20211205T120000
LOCATION:ZŠ Máj I\, M. Chlajna 1319 České Budějovice - České Budějovice 2
SUMMARY:JC-JKY-2A: Volejbal Tábor-SK Třebín B
END:VEVENT
BEGIN:VEVENT
UID:65363665-6638-4739-b066-363861393138
DTSTAMP:20260423T062621Z
DESCRIPTION:1/10 TJ ČZ Strakonice - SK Třebín B 0:2 (-9\,-22)
DTSTART;TZID=Europe/Berlin:20211205T130000
DTEND;TZID=Europe/Berlin:20211205T150000
LOCATION:ZŠ Máj I\, M. Chlajna 1319 České Budějovice - České Budějovice 2
SUMMARY:JC-JKY-2A: TJ ČZ Strakonice-SK Třebín B
END:VEVENT
BEGIN:VEVENT
UID:62393337-3266-4333-a434-633161636265
DTSTAMP:20260423T062621Z
DESCRIPTION:1/13 České Budějovice C - SK Třebín B 2:1 (22\,-13\,10)
DTSTART;TZID=Europe/Berlin:20211205T150000
DTEND;TZID=Europe/Berlin:20211205T170000
LOCATION:ZŠ Máj I\, M. Chlajna 1319 České Budějovice - České Budějovice 2
SUMMARY:JC-JKY-2A: České Budějovice C-SK Třebín B
END:VEVENT
BEGIN:VEVENT
UID:31326366-3665-4735-a564-643665326237
DTSTAMP:20260423T062621Z
DESCRIPTION:1/1 SK Třebín B - České Budějovice C 0:2 (-16\,-14)
DTSTART;TZID=Europe/Berlin:20220130T090000
DTEND;TZID=Europe/Berlin:20220130T110000
LOCATION:ZŠ Máj I\, M. Chlajna 1319 České Budějovice - České Budějovice 2
SUMMARY:JC-JKY-3A: SK Třebín B-České Budějovice C
END:VEVENT
BEGIN:VEVENT
UID:37356335-6332-4536-a635-616332646463
DTSTAMP:20260423T062621Z
DESCRIPTION:1/8 SK Třebín B - SK Třebín A 2:0 (21\,22)
DTSTART;TZID=Europe/Berlin:20220130T110000
DTEND;TZID=Europe/Berlin:20220130T130000
LOCATION:ZŠ Máj I\, M. Chlajna 1319 České Budějovice - České Budějovice 2
SUMMARY:JC-JKY-3A: SK Třebín B-SK Třebín A
END:VEVENT
BEGIN:VEVENT
UID:66346664-3930-4638-a165-656662376237
DTSTAMP:20260423T062621Z
DESCRIPTION:1/6 VSK Slavia ČB - SK Třebín B 0:2 (-19\,-16)
DTSTART;TZID=Europe/Berlin:20220130T100000
DTEND;TZID=Europe/Berlin:20220130T120000
LOCATION:Sportovní hala Jihočeské univerzity\, Na Sádkách 305 České Budějov
 ice - České Budějovice 2
SUMMARY:JC-JKY-3A: VSK Slavia ČB-SK Třebín B
END:VEVENT
BEGIN:VEVENT
UID:64366263-6638-4338-a630-646135336230
DTSTAMP:20260423T062621Z
DESCRIPTION:1/12 TJ Slovan J. Hradec - SK Třebín B 2:1 (21\,-21\,10)
DTSTART;TZID=Europe/Berlin:20220130T120000
DTEND;TZID=Europe/Berlin:20220130T140000
LOCATION:Sportovní hala J. Hradec\, U Stadionu 1137 Jindřichův Hradec - Jin
 dřichův Hradec II
SUMMARY:JC-JKY-3A: TJ Slovan J. Hradec-SK Třebín B
END:VEVENT
BEGIN:VEVENT
UID:35656134-3062-4131-a166-303663323266
DTSTAMP:20260423T062621Z
DESCRIPTION:1/15 SK Hlincovka - SK Třebín B 2:1 (-23\,17\,9)
DTSTART;TZID=Europe/Berlin:20220130T130000
DTEND;TZID=Europe/Berlin:20220130T150000
LOCATION:Sportovní hala Rudolfov\, Adamovská 511 Rudolfov
SUMMARY:JC-JKY-3A: SK Hlincovka-SK Třebín B
END:VEVENT
BEGIN:VEVENT
UID:62316434-3565-4036-b565-313435666264
DTSTAMP:20260423T062621Z
DESCRIPTION:1/1 SK Třebín B - České Budějovice C 0:2 (-17\,-16)
DTSTART;TZID=Europe/Berlin:20220410T080000
DTEND;TZID=Europe/Berlin:20220410T100000
LOCATION:ZŠ Máj I\, M. Chlajna 1319 České Budějovice - České Budějovice 2
SUMMARY:JC-JKY-4A: SK Třebín B-České Budějovice C
END:VEVENT
BEGIN:VEVENT
UID:32373366-6630-4766-a662-613232636331
DTSTAMP:20260423T062621Z
DESCRIPTION:1/5 SK Třebín B - SK Hlincovka 0:2 (-10\,-14)
DTSTART;TZID=Europe/Berlin:20220410T100000
DTEND;TZID=Europe/Berlin:20220410T120000
LOCATION:ZŠ Máj I\, M. Chlajna 1319 České Budějovice - České Budějovice 2
SUMMARY:JC-JKY-4A: SK Třebín B-SK Hlincovka
END:VEVENT
BEGIN:VEVENT
UID:35346133-3765-4230-b536-353962613237
DTSTAMP:20260423T062621Z
DESCRIPTION:1/15 SK Třebín B - VSK ČK B 2:0 (17\,19)
DTSTART;TZID=Europe/Berlin:20220410T170000
DTEND;TZID=Europe/Berlin:20220410T190000
LOCATION:ZŠ Máj I\, M. Chlajna 1319 České Budějovice - České Budějovice 2
SUMMARY:JC-JKY-4A: SK Třebín B-VSK ČK B
END:VEVENT
BEGIN:VEVENT
UID:34353166-6436-4331-b939-353938663561
DTSTAMP:20260423T062621Z
DESCRIPTION:1/7 SK Třebín C - SK Třebín B 1:2 (-20\,16\,-13)
DTSTART;TZID=Europe/Berlin:20220410T120000
DTEND;TZID=Europe/Berlin:20220410T140000
LOCATION:ZŠ Máj I\, M. Chlajna 1319 České Budějovice - České Budějovice 2
SUMMARY:JC-JKY-4A: SK Třebín C-SK Třebín B
END:VEVENT
BEGIN:VEVENT
UID:39633238-3534-4261-a362-633932366330
DTSTAMP:20260423T062621Z
DESCRIPTION:1/12 SK Třebín A - SK Třebín B 0:2 (-13\,-19)
DTSTART;TZID=Europe/Berlin:20220410T150000
DTEND;TZID=Europe/Berlin:20220410T170000
LOCATION:ZŠ Máj I\, M. Chlajna 1319 České Budějovice - České Budějovice 2
SUMMARY:JC-JKY-4A: SK Třebín A-SK Třebín B
END:VEVENT
END:VCALENDAR
