BEGIN:VCALENDAR
VERSION:2.0
PRODID:-//SK Hlincovka B76727//NONSGML kigkonsult.se iCalcreator 2.41.80//
CALSCALE:GREGORIAN
UID:62343963-6633-4238-a132-346339306465
BEGIN:VEVENT
UID:37626264-6364-4435-b337-396163663339
DTSTAMP:20260422T034538Z
DESCRIPTION:1/1 SK Hlincovka B - VK Madeta ČB B 2:0 (15\,13)
DTSTART;TZID=Europe/Berlin:20210912T083000
DTEND;TZID=Europe/Berlin:20210912T103000
LOCATION:Sportovní hala Rudolfov\, Adamovská 511 Rudolfov
SUMMARY:JC-ZKY-1B: SK Hlincovka B-VK Madeta ČB B
END:VEVENT
BEGIN:VEVENT
UID:31383966-3565-4165-b961-663264363463
DTSTAMP:20260422T034538Z
DESCRIPTION:1/6 SK Hlincovka B - VSK ČK B 2:1 (15\,-16\,8)
DTSTART;TZID=Europe/Berlin:20210912T103000
DTEND;TZID=Europe/Berlin:20210912T123000
LOCATION:Sportovní hala Rudolfov\, Adamovská 511 Rudolfov
SUMMARY:JC-ZKY-1B: SK Hlincovka B-VSK ČK B
END:VEVENT
BEGIN:VEVENT
UID:30323535-3630-4862-b639-656564366339
DTSTAMP:20260422T034538Z
DESCRIPTION:1/3 TJ Slovan J. Hradec - SK Hlincovka B 2:0 (19\,13)
DTSTART;TZID=Europe/Berlin:20210912T103000
DTEND;TZID=Europe/Berlin:20210912T123000
LOCATION:Sportovní hala J. Hradec\, U Stadionu 1137 Jindřichův Hradec - Jin
 dřichův Hradec II
SUMMARY:JC-ZKY-1B: TJ Slovan J. Hradec-SK Hlincovka B
END:VEVENT
BEGIN:VEVENT
UID:31643932-3937-4565-b766-616635363362
DTSTAMP:20260422T034538Z
DESCRIPTION:1/8 Volejbal Tábor B - SK Hlincovka B 0:2 (-9\,-12)
DTSTART;TZID=Europe/Berlin:20210912T103000
DTEND;TZID=Europe/Berlin:20210912T123000
LOCATION:Tělocvična ZŠ Husova\, Husova 1570 Tábor
SUMMARY:JC-ZKY-1B: Volejbal Tábor B-SK Hlincovka B
END:VEVENT
BEGIN:VEVENT
UID:63656539-6333-4432-b463-373564363964
DTSTAMP:20260422T034538Z
DESCRIPTION:1/3 SK Hlincovka B - TJ Slovan J. Hradec 0:2 (-11\,-18)
DTSTART;TZID=Europe/Berlin:20211024T093000
DTEND;TZID=Europe/Berlin:20211024T113000
LOCATION:Sportovní hala Rudolfov\, Adamovská 511 Rudolfov
SUMMARY:JC-ZKY-2A: SK Hlincovka B-TJ Slovan J. Hradec
END:VEVENT
BEGIN:VEVENT
UID:34353336-3837-4733-b539-363630303962
DTSTAMP:20260422T034538Z
DESCRIPTION:1/5 SK Hlincovka B - Český Krumlov 0:2 (-4\,-9)
DTSTART;TZID=Europe/Berlin:20211024T113000
DTEND;TZID=Europe/Berlin:20211024T133000
LOCATION:Sportovní hala Rudolfov\, Adamovská 511 Rudolfov
SUMMARY:JC-ZKY-2A: SK Hlincovka B-Český Krumlov
END:VEVENT
BEGIN:VEVENT
UID:38643238-6336-4232-b130-366565373736
DTSTAMP:20260422T034538Z
DESCRIPTION:1/7 Hlincovka - SK Hlincovka B 2:0 (13\,11)
DTSTART;TZID=Europe/Berlin:20211024T123000
DTEND;TZID=Europe/Berlin:20211024T143000
LOCATION:Sportovní hala Rudolfov\, Adamovská 511 Rudolfov
SUMMARY:JC-ZKY-2A: Hlincovka-SK Hlincovka B
END:VEVENT
BEGIN:VEVENT
UID:34386561-3634-4534-b931-396331353030
DTSTAMP:20260422T034538Z
DESCRIPTION:1/9 Tábor - SK Hlincovka B 2:0 (5\,11)
DTSTART;TZID=Europe/Berlin:20211024T133000
DTEND;TZID=Europe/Berlin:20211024T153000
LOCATION:Tělocvična ZŠ Husova\, Husova 1570 Tábor
SUMMARY:JC-ZKY-2A: Tábor-SK Hlincovka B
END:VEVENT
BEGIN:VEVENT
UID:33633736-6531-4839-b238-333361633232
DTSTAMP:20260422T034538Z
DESCRIPTION:1/1 SK Hlincovka B - TJ Slovan J. Hradec 2:1 (21\,-22\,11)
DTSTART;TZID=Europe/Berlin:20220109T083000
DTEND;TZID=Europe/Berlin:20220109T103000
LOCATION:Sportovní hala J. Hradec\, U Stadionu 1137 Jindřichův Hradec - Jin
 dřichův Hradec II
SUMMARY:JC-ZKY-3B: SK Hlincovka B-TJ Slovan J. Hradec
END:VEVENT
BEGIN:VEVENT
UID:38663238-3535-4662-a332-616165313336
DTSTAMP:20260422T034538Z
DESCRIPTION:1/6 SK Hlincovka B - VK Madeta ČB B 2:0 (11\,10)
DTSTART;TZID=Europe/Berlin:20220109T113000
DTEND;TZID=Europe/Berlin:20220109T133000
LOCATION:Sportovní hala J. Hradec\, U Stadionu 1137 Jindřichův Hradec - Jin
 dřichův Hradec II
SUMMARY:JC-ZKY-3B: SK Hlincovka B-VK Madeta ČB B
END:VEVENT
BEGIN:VEVENT
UID:66643432-3166-4265-b831-306631663463
DTSTAMP:20260422T034538Z
DESCRIPTION:1/3 Volejbal Tábor B - SK Hlincovka B 0:2 (-15\,-3)
DTSTART;TZID=Europe/Berlin:20220109T093000
DTEND;TZID=Europe/Berlin:20220109T113000
LOCATION:Sportovní hala J. Hradec\, U Stadionu 1137 Jindřichův Hradec - Jin
 dřichův Hradec II
SUMMARY:JC-ZKY-3B: Volejbal Tábor B-SK Hlincovka B
END:VEVENT
BEGIN:VEVENT
UID:35656161-3061-4566-b462-343138353330
DTSTAMP:20260422T034538Z
DESCRIPTION:1/8 TJ ČZ Strakonice - SK Hlincovka B 0:2 (-0\,-0)
DTSTART;TZID=Europe/Berlin:20220109T123000
DTEND;TZID=Europe/Berlin:20220109T143000
LOCATION:Sportovní hala J. Hradec\, U Stadionu 1137 Jindřichův Hradec - Jin
 dřichův Hradec II
SUMMARY:JC-ZKY-3B: TJ ČZ Strakonice-SK Hlincovka B
END:VEVENT
BEGIN:VEVENT
UID:65373730-3566-4862-b239-633635316330
DTSTAMP:20260422T034538Z
DESCRIPTION:1/2 SK Hlincovka B - Český Krumlov 0:2 (-11\,-14)
DTSTART;TZID=Europe/Berlin:20220313T083000
DTEND;TZID=Europe/Berlin:20220313T103000
LOCATION:TĚLOVÝCHOVNÁ JEDNOTA LOKOMOTIVA z. s.\, Třebízského 1044 České Bud
 ějovice - České Budějovice 5
SUMMARY:JC-ZKY-4A: SK Hlincovka B-Český Krumlov
END:VEVENT
BEGIN:VEVENT
UID:37653437-3265-4533-a636-333734396636
DTSTAMP:20260422T034538Z
DESCRIPTION:1/9 SK Hlincovka B - TJ Slovan J. Hradec 2:0 (17\,22)
DTSTART;TZID=Europe/Berlin:20220313T133000
DTEND;TZID=Europe/Berlin:20220313T153000
LOCATION:TĚLOVÝCHOVNÁ JEDNOTA LOKOMOTIVA z. s.\, Třebízského 1044 České Bud
 ějovice - České Budějovice 5
SUMMARY:JC-ZKY-4A: SK Hlincovka B-TJ Slovan J. Hradec
END:VEVENT
BEGIN:VEVENT
UID:31363531-3763-4461-b833-363035663436
DTSTAMP:20260422T034538Z
DESCRIPTION:1/4 České Budějovice - SK Hlincovka B 2:0 (4\,6)
DTSTART;TZID=Europe/Berlin:20220313T103000
DTEND;TZID=Europe/Berlin:20220313T123000
LOCATION:TĚLOVÝCHOVNÁ JEDNOTA LOKOMOTIVA z. s.\, Třebízského 1044 České Bud
 ějovice - České Budějovice 5
SUMMARY:JC-ZKY-4A: České Budějovice-SK Hlincovka B
END:VEVENT
BEGIN:VEVENT
UID:38643037-3338-4131-b536-643331333333
DTSTAMP:20260422T034538Z
DESCRIPTION:1/6 Hlincovka - SK Hlincovka B 2:0 (12\,23)
DTSTART;TZID=Europe/Berlin:20220313T113000
DTEND;TZID=Europe/Berlin:20220313T133000
LOCATION:TĚLOVÝCHOVNÁ JEDNOTA LOKOMOTIVA z. s.\, Třebízského 1044 České Bud
 ějovice - České Budějovice 5
SUMMARY:JC-ZKY-4A: Hlincovka-SK Hlincovka B
END:VEVENT
BEGIN:VEVENT
UID:65306130-3265-4338-a534-393261333832
DTSTAMP:20260422T034538Z
DESCRIPTION:1/4 SK Hlincovka B - TJ Sokol Křemže 2:1 (-24\,13\,1)
DTSTART;TZID=Europe/Berlin:20220403T103000
DTEND;TZID=Europe/Berlin:20220403T123000
LOCATION:Sportovní hala Rudolfov\, Adamovská 511 Rudolfov
SUMMARY:JC-ZKY-5B: SK Hlincovka B-TJ Sokol Křemže
END:VEVENT
BEGIN:VEVENT
UID:33373939-3439-4664-a162-303432323033
DTSTAMP:20260422T034538Z
DESCRIPTION:1/7 SK Hlincovka B - TJ ČZ Strakonice 2:1 (6\,-6\,13)
DTSTART;TZID=Europe/Berlin:20220403T123000
DTEND;TZID=Europe/Berlin:20220403T143000
LOCATION:Sportovní hala Rudolfov\, Adamovská 511 Rudolfov
SUMMARY:JC-ZKY-5B: SK Hlincovka B-TJ ČZ Strakonice
END:VEVENT
BEGIN:VEVENT
UID:31363864-3164-4539-a162-333063386430
DTSTAMP:20260422T034538Z
DESCRIPTION:1/1 TJ Slovan J. Hradec - SK Hlincovka B 0:2 (-24\,-14)
DTSTART;TZID=Europe/Berlin:20220403T083000
DTEND;TZID=Europe/Berlin:20220403T103000
LOCATION:Sportovní hala J. Hradec\, U Stadionu 1137 Jindřichův Hradec - Jin
 dřichův Hradec II
SUMMARY:JC-ZKY-5B: TJ Slovan J. Hradec-SK Hlincovka B
END:VEVENT
BEGIN:VEVENT
UID:32323434-3831-4430-b436-633730613831
DTSTAMP:20260422T034538Z
DESCRIPTION:1/10 VSK ČK B - SK Hlincovka B 2:0 (20\,13)
DTSTART;TZID=Europe/Berlin:20220403T143000
DTEND;TZID=Europe/Berlin:20220403T163000
LOCATION:ZŠ Za Nádražím Český Krumlov\, Za Nádražím 222 Český Krumlov - Nád
 ražní Předměstí
SUMMARY:JC-ZKY-5B: VSK ČK B-SK Hlincovka B
END:VEVENT
END:VCALENDAR
