BEGIN:VCALENDAR
VERSION:2.0
PRODID:-//VK Jihostroj A76752//NONSGML kigkonsult.se iCalcreator 2.41.80//
CALSCALE:GREGORIAN
UID:63343231-6134-4333-a336-396462346435
BEGIN:VEVENT
UID:64373264-6538-4465-b266-663835393335
DTSTAMP:20260424T162119Z
DESCRIPTION:1/3 VK Jihostroj A - VK Jihostroj B 0:3 (-14\,-18\,-21)
DTSTART;TZID=Europe/Berlin:20211017T140000
DTEND;TZID=Europe/Berlin:20211017T160000
LOCATION:ZŠ Oskara Nedbala České Budějovice\, O. Nedbala 882 České Budějovi
 ce - České Budějovice 2
SUMMARY:JC-JRI2: VK Jihostroj A-VK Jihostroj B
END:VEVENT
BEGIN:VEVENT
UID:36666436-6666-4135-a461-396439326339
DTSTAMP:20260424T162119Z
DESCRIPTION:1/1 TJ Slovan J. Hradec - VK Jihostroj A 3:1 (23\,22\,-16\,16)
DTSTART;TZID=Europe/Berlin:20211017T090000
DTEND;TZID=Europe/Berlin:20211017T110000
LOCATION:Sportovní hala J. Hradec\, U Stadionu 1137 Jindřichův Hradec - Jin
 dřichův Hradec II
SUMMARY:JC-JRI2: TJ Slovan J. Hradec-VK Jihostroj A
END:VEVENT
BEGIN:VEVENT
UID:61643866-6235-4461-b930-343734333332
DTSTAMP:20260424T162119Z
DESCRIPTION:1/3 VK Jihostroj A - VSK ČK 1:3 (-9\,-23\,23\,-22)\nSportovní h
 ala Stromovka 12
DTSTART;TZID=Europe/Berlin:20211114T140000
DTEND;TZID=Europe/Berlin:20211114T160000
LOCATION:ZŠ Oskara Nedbala České Budějovice\, O. Nedbala 882 České Budějovi
 ce - České Budějovice 2
SUMMARY:JC-JRI3: VK Jihostroj A-VSK ČK
END:VEVENT
BEGIN:VEVENT
UID:63376536-3433-4562-a332-333161383031
DTSTAMP:20260424T162119Z
DESCRIPTION:1/1 TJ Slovan J. Hradec - VK Jihostroj A 3:0 (23\,23\,22)\nSpor
 tovní hala Stromovka 12
DTSTART;TZID=Europe/Berlin:20211114T090000
DTEND;TZID=Europe/Berlin:20211114T110000
LOCATION:Sportovní hala J. Hradec\, U Stadionu 1137 Jindřichův Hradec - Jin
 dřichův Hradec II
SUMMARY:JC-JRI3: TJ Slovan J. Hradec-VK Jihostroj A
END:VEVENT
BEGIN:VEVENT
UID:63333130-3438-4362-b332-633539396536
DTSTAMP:20260424T162119Z
DESCRIPTION:1/2 VK Jihostroj A - VSK ČK 0:3 (-21\,-19\,-21)
DTSTART;TZID=Europe/Berlin:20211218T113000
DTEND;TZID=Europe/Berlin:20211218T133000
LOCATION:ZŠ Oskara Nedbala České Budějovice\, O. Nedbala 882 České Budějovi
 ce - České Budějovice 2
SUMMARY:JC-JRI4: VK Jihostroj A-VSK ČK
END:VEVENT
BEGIN:VEVENT
UID:61333135-3862-4231-b438-323264643064
DTSTAMP:20260424T162119Z
DESCRIPTION:1/3 VK Jihostroj B - VK Jihostroj A 1:3 (-19\,-16\,20\,-23)
DTSTART;TZID=Europe/Berlin:20211218T140000
DTEND;TZID=Europe/Berlin:20211218T160000
LOCATION:ZŠ Oskara Nedbala České Budějovice\, O. Nedbala 882 České Budějovi
 ce - České Budějovice 2
SUMMARY:JC-JRI4: VK Jihostroj B-VK Jihostroj A
END:VEVENT
BEGIN:VEVENT
UID:64383234-3930-4437-b935-346165363739
DTSTAMP:20260424T162119Z
DESCRIPTION:1/2 VK Jihostroj B - VK Jihostroj A 3:2 (-23\,-24\,20\,23\,15)
DTSTART;TZID=Europe/Berlin:20220219T110000
DTEND;TZID=Europe/Berlin:20220219T130000
LOCATION:Sportovní hala\, Stromovka 1216 České Budějovice - České Budějovic
 e 2
SUMMARY:JC-JRI6: VK Jihostroj B-VK Jihostroj A
END:VEVENT
BEGIN:VEVENT
UID:31646164-6439-4233-a366-363065663666
DTSTAMP:20260424T162119Z
DESCRIPTION:1/3 TJ Slovan J. Hradec - VK Jihostroj A 3:2 (-19\,21\,21\,-14\
 ,10)
DTSTART;TZID=Europe/Berlin:20220219T130000
DTEND;TZID=Europe/Berlin:20220219T150000
LOCATION:Sportovní hala J. Hradec\, U Stadionu 1137 Jindřichův Hradec - Jin
 dřichův Hradec II
SUMMARY:JC-JRI6: TJ Slovan J. Hradec-VK Jihostroj A
END:VEVENT
BEGIN:VEVENT
UID:35363364-6238-4332-a537-653539373735
DTSTAMP:20260424T162119Z
DESCRIPTION:1/2 VK Jihostroj A - VSK ČK 2:3 (-22\,20\,21\,-17\,-10)\nO. Ned
 bala 30\, České Budějovice 37005
DTSTART;TZID=Europe/Berlin:20220319T110000
DTEND;TZID=Europe/Berlin:20220319T130000
LOCATION:ZŠ Oskara Nedbala České Budějovice\, O. Nedbala 882 České Budějovi
 ce - České Budějovice 2
SUMMARY:JC-JRI7: VK Jihostroj A-VSK ČK
END:VEVENT
BEGIN:VEVENT
UID:65366237-3534-4463-a562-386630313039
DTSTAMP:20260424T162119Z
DESCRIPTION:1/3 VK Jihostroj B - VK Jihostroj A 0:3 (-19\,-19\,-18)\nO. Ned
 bala 30\, České Budějovice 37005
DTSTART;TZID=Europe/Berlin:20220319T130000
DTEND;TZID=Europe/Berlin:20220319T150000
LOCATION:ZŠ Oskara Nedbala České Budějovice\, O. Nedbala 882 České Budějovi
 ce - České Budějovice 2
SUMMARY:JC-JRI7: VK Jihostroj B-VK Jihostroj A
END:VEVENT
BEGIN:VEVENT
UID:37633265-3238-4632-b661-663664316531
DTSTAMP:20260424T162119Z
DESCRIPTION:1/1 VK Jihostroj A - VSK ČK 0:3 (-20\,-20\,-17)
DTSTART;TZID=Europe/Berlin:20220423T090000
DTEND;TZID=Europe/Berlin:20220423T110000
LOCATION:Sportovní hala\, Stromovka 1216 České Budějovice - České Budějovic
 e 2
SUMMARY:JC-JRI8: VK Jihostroj A-VSK ČK
END:VEVENT
BEGIN:VEVENT
UID:39393930-6563-4131-b537-663866326662
DTSTAMP:20260424T162119Z
DESCRIPTION:1/3 VK Jihostroj A - TJ Slovan J. Hradec 3:1 (18\,-22\,20\,16)
DTSTART;TZID=Europe/Berlin:20220423T130000
DTEND;TZID=Europe/Berlin:20220423T150000
LOCATION:ZŠ Oskara Nedbala České Budějovice\, O. Nedbala 882 České Budějovi
 ce - České Budějovice 2
SUMMARY:JC-JRI8: VK Jihostroj A-TJ Slovan J. Hradec
END:VEVENT
END:VCALENDAR
