BEGIN:VCALENDAR
VERSION:2.0
PRODID:-//Volejbalový klub Teplice z.s.76773//NONSGML kigkonsult.se iCalcreator 2.41.80//
CALSCALE:GREGORIAN
UID:63626530-3831-4663-b562-316366356161
BEGIN:VEVENT
UID:35363031-3364-4666-b064-303439666331
DTSTAMP:20260422T014834Z
DESCRIPTION:2/24 Volejbalový klub Teplice z.s. - Volejbal Sokolov\, z.s. 2:
 1 (20\,-24\,13)
DTSTART;TZID=Europe/Berlin:20211023T083000
DTEND;TZID=Europe/Berlin:20211023T103000
LOCATION:Chlumec Základní škola\, Muchova 228 Chlumec
SUMMARY:KV-ZCI: Volejbalový klub Teplice z.s.-Volejbal Sokolov\, z.s.
END:VEVENT
BEGIN:VEVENT
UID:38646439-6338-4139-b536-653063386334
DTSTAMP:20260422T014834Z
DESCRIPTION:2/28 Volejbalový klub Teplice z.s. - Karlovarsko 0:2 (-25\,-15)
DTSTART;TZID=Europe/Berlin:20211023T083000
DTEND;TZID=Europe/Berlin:20211023T103000
LOCATION:Chlumec Základní škola\, Muchova 228 Chlumec
SUMMARY:KV-ZCI: Volejbalový klub Teplice z.s.-Karlovarsko
END:VEVENT
BEGIN:VEVENT
UID:63383137-6139-4938-b966-373235326532
DTSTAMP:20260422T014834Z
DESCRIPTION:3/35 Volejbalový klub Teplice z.s. - USK Plzeň 0:2 (-16\,-9)
DTSTART;TZID=Europe/Berlin:20211113T083000
DTEND;TZID=Europe/Berlin:20211113T103000
LOCATION:Chlumec Základní škola\, Muchova 228 Chlumec
SUMMARY:KV-ZCI: Volejbalový klub Teplice z.s.-USK Plzeň
END:VEVENT
BEGIN:VEVENT
UID:37616163-3462-4762-a235-646431636638
DTSTAMP:20260422T014834Z
DESCRIPTION:3/37 Volejbalový klub Teplice z.s. - Karlovarsko 0:2 (-24\,-18)
DTSTART;TZID=Europe/Berlin:20211113T083000
DTEND;TZID=Europe/Berlin:20211113T103000
LOCATION:Chlumec Základní škola\, Muchova 228 Chlumec
SUMMARY:KV-ZCI: Volejbalový klub Teplice z.s.-Karlovarsko
END:VEVENT
BEGIN:VEVENT
UID:30613039-3630-4232-b836-633463353561
DTSTAMP:20260422T014834Z
DESCRIPTION:3/45 Volejbalový klub Teplice z.s. - Aš-Klokani 1:2 (20\,-23\,-
 8)
DTSTART;TZID=Europe/Berlin:20211113T083000
DTEND;TZID=Europe/Berlin:20211113T103000
LOCATION:Chlumec Základní škola\, Muchova 228 Chlumec
SUMMARY:KV-ZCI: Volejbalový klub Teplice z.s.-Aš-Klokani
END:VEVENT
BEGIN:VEVENT
UID:38633231-3437-4663-b139-306132333432
DTSTAMP:20260422T014834Z
DESCRIPTION:4/46 Volejbalový klub Teplice z.s. - Karlovarsko 0:2 (-17\,-34)
 \npořádá Jirkov
DTSTART;TZID=Europe/Berlin:20220109T083000
DTEND;TZID=Europe/Berlin:20220109T103000
LOCATION:Chlumec Základní škola\, Muchova 228 Chlumec
SUMMARY:KV-ZCI: Volejbalový klub Teplice z.s.-Karlovarsko
END:VEVENT
BEGIN:VEVENT
UID:39646631-3663-4630-b738-333063323163
DTSTAMP:20260422T014834Z
DESCRIPTION:4/48 Volejbalový klub Teplice z.s. - Aš-Klokani 0:2 (-20\,-15)
DTSTART;TZID=Europe/Berlin:20220109T083000
DTEND;TZID=Europe/Berlin:20220109T103000
LOCATION:Chlumec Základní škola\, Muchova 228 Chlumec
SUMMARY:KV-ZCI: Volejbalový klub Teplice z.s.-Aš-Klokani
END:VEVENT
BEGIN:VEVENT
UID:63323035-3434-4163-b664-613639303131
DTSTAMP:20260422T014834Z
DESCRIPTION:4/55 Volejbalový klub Teplice z.s. - Jirkov 0:2 (-12\,-19)
DTSTART;TZID=Europe/Berlin:20220109T083000
DTEND;TZID=Europe/Berlin:20220109T103000
LOCATION:Chlumec Základní škola\, Muchova 228 Chlumec
SUMMARY:KV-ZCI: Volejbalový klub Teplice z.s.-Jirkov
END:VEVENT
BEGIN:VEVENT
UID:61663036-3732-4263-b937-613465303332
DTSTAMP:20260422T014834Z
DESCRIPTION:5/71 Volejbalový klub Teplice z.s. - Ústí n. L. 0:2 (-0\,-0)
DTSTART;TZID=Europe/Berlin:20220205T083000
DTEND;TZID=Europe/Berlin:20220205T103000
LOCATION:Chlumec Základní škola\, Muchova 228 Chlumec
SUMMARY:KV-ZCI: Volejbalový klub Teplice z.s.-Ústí n. L.
END:VEVENT
BEGIN:VEVENT
UID:31333464-3834-4232-a135-313235633933
DTSTAMP:20260422T014834Z
DESCRIPTION:6/87 Volejbalový klub Teplice z.s. - USK Plzeň 0:2 (-18\,-14)
DTSTART;TZID=Europe/Berlin:20220305T083000
DTEND;TZID=Europe/Berlin:20220305T103000
LOCATION:Chlumec Základní škola\, Muchova 228 Chlumec
SUMMARY:KV-ZCI: Volejbalový klub Teplice z.s.-USK Plzeň
END:VEVENT
BEGIN:VEVENT
UID:62663933-3131-4338-b237-626633646466
DTSTAMP:20260422T014834Z
DESCRIPTION:6/89 Volejbalový klub Teplice z.s. - Volejbal Sokolov\, z.s. 0:
 2 (-16\,-15)
DTSTART;TZID=Europe/Berlin:20220305T083000
DTEND;TZID=Europe/Berlin:20220305T103000
LOCATION:Chlumec Základní škola\, Muchova 228 Chlumec
SUMMARY:KV-ZCI: Volejbalový klub Teplice z.s.-Volejbal Sokolov\, z.s.
END:VEVENT
BEGIN:VEVENT
UID:65396161-3734-4237-b465-363561316535
DTSTAMP:20260422T014834Z
DESCRIPTION:7/92 Volejbalový klub Teplice z.s. - USK Plzeň 0:2 (-23\,-18)
DTSTART;TZID=Europe/Berlin:20220327T083000
DTEND;TZID=Europe/Berlin:20220327T103000
LOCATION:Chlumec Základní škola\, Muchova 228 Chlumec
SUMMARY:KV-ZCI: Volejbalový klub Teplice z.s.-USK Plzeň
END:VEVENT
BEGIN:VEVENT
UID:64643563-6662-4537-b136-613332383061
DTSTAMP:20260422T014834Z
DESCRIPTION:7/94 Volejbalový klub Teplice z.s. - Ústí n. L. 0:2 (-16\,-16)
DTSTART;TZID=Europe/Berlin:20220327T083000
DTEND;TZID=Europe/Berlin:20220327T103000
LOCATION:Chlumec Základní škola\, Muchova 228 Chlumec
SUMMARY:KV-ZCI: Volejbalový klub Teplice z.s.-Ústí n. L.
END:VEVENT
BEGIN:VEVENT
UID:61346139-3639-4132-b532-646463643734
DTSTAMP:20260422T014834Z
DESCRIPTION:7/96 Volejbalový klub Teplice z.s. - Volejbal Sokolov\, z.s. 2:
 0 (20\,21)
DTSTART;TZID=Europe/Berlin:20220327T083000
DTEND;TZID=Europe/Berlin:20220327T103000
LOCATION:Chlumec Základní škola\, Muchova 228 Chlumec
SUMMARY:KV-ZCI: Volejbalový klub Teplice z.s.-Volejbal Sokolov\, z.s.
END:VEVENT
BEGIN:VEVENT
UID:63643534-3531-4238-a362-386666663262
DTSTAMP:20260422T014834Z
DESCRIPTION:7/98 Volejbalový klub Teplice z.s. - Aš-Klokani 1:2 (-24\,24\,-
 6)
DTSTART;TZID=Europe/Berlin:20220327T083000
DTEND;TZID=Europe/Berlin:20220327T103000
LOCATION:Chlumec Základní škola\, Muchova 228 Chlumec
SUMMARY:KV-ZCI: Volejbalový klub Teplice z.s.-Aš-Klokani
END:VEVENT
BEGIN:VEVENT
UID:66613763-6334-4137-a233-643934636139
DTSTAMP:20260422T014834Z
DESCRIPTION:2/17 Jirkov - Volejbalový klub Teplice z.s. 2:0 (14\,13)
DTSTART;TZID=Europe/Berlin:20211023T083000
DTEND;TZID=Europe/Berlin:20211023T103000
LOCATION:Sportovní hala MG a ZŠ Jirkov\, Krušnohorská 1675 Jirkov
SUMMARY:KV-ZCI: Jirkov-Volejbalový klub Teplice z.s.
END:VEVENT
BEGIN:VEVENT
UID:38616530-3164-4132-a161-333037363935
DTSTAMP:20260422T014834Z
DESCRIPTION:2/20 Ústí n. L. - Volejbalový klub Teplice z.s. 2:0 (21\,25)
DTSTART;TZID=Europe/Berlin:20211023T083000
DTEND;TZID=Europe/Berlin:20211023T103000
LOCATION:ZŠ Rabasova\, Rabasova 3282 Ústí nad Labem - Severní Terasa
SUMMARY:KV-ZCI: Ústí n. L.-Volejbalový klub Teplice z.s.
END:VEVENT
BEGIN:VEVENT
UID:38636237-3563-4437-a436-663738386665
DTSTAMP:20260422T014834Z
DESCRIPTION:2/27 Aš-Klokani - Volejbalový klub Teplice z.s. 2:0 (12\,20)
DTSTART;TZID=Europe/Berlin:20211023T083000
DTEND;TZID=Europe/Berlin:20211023T103000
LOCATION:Sportovní hala Textilka\, Gustava Geipela 2713 Aš
SUMMARY:KV-ZCI: Aš-Klokani-Volejbalový klub Teplice z.s.
END:VEVENT
BEGIN:VEVENT
UID:31323162-6236-4132-a430-366165633163
DTSTAMP:20260422T014834Z
DESCRIPTION:3/34 Jirkov - Volejbalový klub Teplice z.s. 2:0 (8\,10)
DTSTART;TZID=Europe/Berlin:20211113T083000
DTEND;TZID=Europe/Berlin:20211113T103000
LOCATION:Sportovní hala MG a ZŠ Jirkov\, Krušnohorská 1675 Jirkov
SUMMARY:KV-ZCI: Jirkov-Volejbalový klub Teplice z.s.
END:VEVENT
BEGIN:VEVENT
UID:65663030-6264-4237-b664-343935626435
DTSTAMP:20260422T014834Z
DESCRIPTION:3/41 Volejbal Sokolov\, z.s. - Volejbalový klub Teplice z.s. 1:
 2 (-16\,14\,-15)
DTSTART;TZID=Europe/Berlin:20211113T083000
DTEND;TZID=Europe/Berlin:20211113T103000
LOCATION:Jiskra\, Maxima Gorkého 280 Sokolov
SUMMARY:KV-ZCI: Volejbal Sokolov\, z.s.-Volejbalový klub Teplice z.s.
END:VEVENT
BEGIN:VEVENT
UID:30313539-6363-4632-b531-336334326461
DTSTAMP:20260422T014834Z
DESCRIPTION:4/52 Ústí n. L. - Volejbalový klub Teplice z.s. 2:0 (14\,15)
DTSTART;TZID=Europe/Berlin:20220109T083000
DTEND;TZID=Europe/Berlin:20220109T103000
LOCATION:ZŠ Rabasova\, Rabasova 3282 Ústí nad Labem - Severní Terasa
SUMMARY:KV-ZCI: Ústí n. L.-Volejbalový klub Teplice z.s.
END:VEVENT
BEGIN:VEVENT
UID:38306234-3531-4264-a633-346236666466
DTSTAMP:20260422T014834Z
DESCRIPTION:4/58 USK Plzeň - Volejbalový klub Teplice z.s. 2:0 (11\,17)
DTSTART;TZID=Europe/Berlin:20220109T083000
DTEND;TZID=Europe/Berlin:20220109T103000
LOCATION:Bolevecká základní škola ( 18.ZŠ)\, náměstí Odboje 550 Plzeň - Bol
 evec
SUMMARY:KV-ZCI: USK Plzeň-Volejbalový klub Teplice z.s.
END:VEVENT
BEGIN:VEVENT
UID:39643064-3963-4864-a563-336565373833
DTSTAMP:20260422T014834Z
DESCRIPTION:5/61 Volejbal Sokolov\, z.s. - Volejbalový klub Teplice z.s. 2:
 0 (0\,0)\npořádá Aš
DTSTART;TZID=Europe/Berlin:20220205T083000
DTEND;TZID=Europe/Berlin:20220205T103000
LOCATION:Jiskra\, Maxima Gorkého 280 Sokolov
SUMMARY:KV-ZCI: Volejbal Sokolov\, z.s.-Volejbalový klub Teplice z.s.
END:VEVENT
BEGIN:VEVENT
UID:37643862-3537-4233-a137-363430356537
DTSTAMP:20260422T014834Z
DESCRIPTION:5/66 Jirkov - Volejbalový klub Teplice z.s. 2:0 (0\,0)
DTSTART;TZID=Europe/Berlin:20220205T083000
DTEND;TZID=Europe/Berlin:20220205T103000
LOCATION:Sportovní hala MG a ZŠ Jirkov\, Krušnohorská 1675 Jirkov
SUMMARY:KV-ZCI: Jirkov-Volejbalový klub Teplice z.s.
END:VEVENT
BEGIN:VEVENT
UID:34356231-3237-4733-b737-316139303733
DTSTAMP:20260422T014834Z
DESCRIPTION:5/69 USK Plzeň - Volejbalový klub Teplice z.s. 2:0 (0\,0)
DTSTART;TZID=Europe/Berlin:20220205T083000
DTEND;TZID=Europe/Berlin:20220205T103000
LOCATION:Bolevecká základní škola ( 18.ZŠ)\, náměstí Odboje 550 Plzeň - Bol
 evec
SUMMARY:KV-ZCI: USK Plzeň-Volejbalový klub Teplice z.s.
END:VEVENT
BEGIN:VEVENT
UID:64326434-3465-4634-b664-313931613838
DTSTAMP:20260422T014834Z
DESCRIPTION:5/74 Aš-Klokani - Volejbalový klub Teplice z.s. 2:0 (0\,0)
DTSTART;TZID=Europe/Berlin:20220205T083000
DTEND;TZID=Europe/Berlin:20220205T103000
LOCATION:Sportovní hala Textilka\, Gustava Geipela 2713 Aš
SUMMARY:KV-ZCI: Aš-Klokani-Volejbalový klub Teplice z.s.
END:VEVENT
BEGIN:VEVENT
UID:38653361-6633-4037-b437-333166303138
DTSTAMP:20260422T014834Z
DESCRIPTION:6/78 Karlovarsko - Volejbalový klub Teplice z.s. 2:0 (20\,25)
DTSTART;TZID=Europe/Berlin:20220305T083000
DTEND;TZID=Europe/Berlin:20220305T103000
LOCATION:Mattoni Arena Hala míčových sportů\, Západní 1812 Karlovy Vary
SUMMARY:KV-ZCI: Karlovarsko-Volejbalový klub Teplice z.s.
END:VEVENT
BEGIN:VEVENT
UID:38363336-3762-4237-a234-656666613262
DTSTAMP:20260422T014834Z
DESCRIPTION:6/83 Jirkov - Volejbalový klub Teplice z.s. 2:0 (9\,18)
DTSTART;TZID=Europe/Berlin:20220305T083000
DTEND;TZID=Europe/Berlin:20220305T103000
LOCATION:Sportovní hala MG a ZŠ Jirkov\, Krušnohorská 1675 Jirkov
SUMMARY:KV-ZCI: Jirkov-Volejbalový klub Teplice z.s.
END:VEVENT
BEGIN:VEVENT
UID:32353362-3734-4831-b563-383934326661
DTSTAMP:20260422T014834Z
DESCRIPTION:6/90 Ústí n. L. - Volejbalový klub Teplice z.s. 2:0 (19\,13)
DTSTART;TZID=Europe/Berlin:20220305T083000
DTEND;TZID=Europe/Berlin:20220305T103000
LOCATION:ZŠ Rabasova\, Rabasova 3282 Ústí nad Labem - Severní Terasa
SUMMARY:KV-ZCI: Ústí n. L.-Volejbalový klub Teplice z.s.
END:VEVENT
BEGIN:VEVENT
UID:38656265-3638-4365-a161-353533623739
DTSTAMP:20260422T014834Z
DESCRIPTION:7/100 Karlovarsko - Volejbalový klub Teplice z.s. 2:1 (23\,-22\
 ,8)
DTSTART;TZID=Europe/Berlin:20220327T083000
DTEND;TZID=Europe/Berlin:20220327T103000
LOCATION:Mattoni Arena Hala míčových sportů\, Západní 1812 Karlovy Vary
SUMMARY:KV-ZCI: Karlovarsko-Volejbalový klub Teplice z.s.
END:VEVENT
END:VCALENDAR
