BEGIN:VCALENDAR
VERSION:2.0
PRODID:-//Volejbalový sportovní klub Baník Sokolov, z.s. "B"76795//NONSGML kigkonsult.se iCalcreator 2.41.80//
CALSCALE:GREGORIAN
UID:30623339-6232-4566-a630-653362633264
BEGIN:VEVENT
UID:39386430-3661-4837-a332-643564363462
DTSTAMP:20260422T131118Z
DESCRIPTION:1/2 Volejbalový klub Karlovy Vary z.s. 'B' - Volejbalový sporto
 vní klub Baník Sokolov\, z.s. 'B' 2:1 (11\,-24\,10)
DTSTART;TZID=Europe/Berlin:20211003T090000
DTEND;TZID=Europe/Berlin:20211003T110000
LOCATION:Mattoni Arena Hala míčových sportů\, Západní 1812 Karlovy Vary
SUMMARY:KV-ZKY-A: Volejbalový klub Karlovy Vary z.s. 'B'-Volejbalový sporto
 vní klub Baník Sokolov\, z.s. 'B'
END:VEVENT
BEGIN:VEVENT
UID:30393665-6130-4239-b337-326333643763
DTSTAMP:20260422T131118Z
DESCRIPTION:1/3 BVC Chodov - Volejbalový sportovní klub Baník Sokolov\, z.s
 . 'B' 2:1 (10\,-11\,8)
DTSTART;TZID=Europe/Berlin:20211003T090000
DTEND;TZID=Europe/Berlin:20211003T110000
LOCATION:Městská sportovní hala Chodov\, Tyršova 1201 Chodov
SUMMARY:KV-ZKY-A: BVC Chodov-Volejbalový sportovní klub Baník Sokolov\, z.s
 . 'B'
END:VEVENT
BEGIN:VEVENT
UID:36326363-6539-4231-b966-336639636237
DTSTAMP:20260422T131118Z
DESCRIPTION:1/6 Volejbal Aš - Klokani z.s. - Volejbalový sportovní klub Ban
 ík Sokolov\, z.s. 'B' 0:2 (-11\,-21)
DTSTART;TZID=Europe/Berlin:20211003T090000
DTEND;TZID=Europe/Berlin:20211003T110000
LOCATION:Sportovní hala Textilka\, Gustava Geipela 2713 Aš
SUMMARY:KV-ZKY-A: Volejbal Aš - Klokani z.s.-Volejbalový sportovní klub Ban
 ík Sokolov\, z.s. 'B'
END:VEVENT
BEGIN:VEVENT
UID:61623163-3838-4237-a435-313164653136
DTSTAMP:20260422T131118Z
DESCRIPTION:1/2 Beach volleyball club Chodov\, zapsaný spolek 'B' - Volejba
 lový sportovní klub Baník Sokolov\, z.s. 'B' 0:2 (-8\,-11)
DTSTART;TZID=Europe/Berlin:20211107T090000
DTEND;TZID=Europe/Berlin:20211107T110000
LOCATION:Městská sportovní hala Chodov\, Tyršova 1201 Chodov
SUMMARY:KV-ZKY-D: Beach volleyball club Chodov\, zapsaný spolek 'B'-Volejba
 lový sportovní klub Baník Sokolov\, z.s. 'B'
END:VEVENT
BEGIN:VEVENT
UID:36663165-3431-4234-b235-333338666463
DTSTAMP:20260422T131118Z
DESCRIPTION:1/3 Volejbal Aš - Klokani z.s. - Volejbalový sportovní klub Ban
 ík Sokolov\, z.s. 'B' 0:2 (-0\,-0)
DTSTART;TZID=Europe/Berlin:20211107T090000
DTEND;TZID=Europe/Berlin:20211107T110000
LOCATION:Sportovní hala Textilka\, Gustava Geipela 2713 Aš
SUMMARY:KV-ZKY-D: Volejbal Aš - Klokani z.s.-Volejbalový sportovní klub Ban
 ík Sokolov\, z.s. 'B'
END:VEVENT
BEGIN:VEVENT
UID:64396666-3162-4630-a666-393836633039
DTSTAMP:20260422T131118Z
DESCRIPTION:1/6 Volejbalový sportovní klub Baník Sokolov\, z.s. 'C' - Volej
 balový sportovní klub Baník Sokolov\, z.s. 'B' 0:2 (-6\,-14)
DTSTART;TZID=Europe/Berlin:20211107T090000
DTEND;TZID=Europe/Berlin:20211107T110000
LOCATION:Jiskra\, Maxima Gorkého 280 Sokolov
SUMMARY:KV-ZKY-D: Volejbalový sportovní klub Baník Sokolov\, z.s. 'C'-Volej
 balový sportovní klub Baník Sokolov\, z.s. 'B'
END:VEVENT
BEGIN:VEVENT
UID:65353530-3639-4632-a633-633434653561
DTSTAMP:20260422T131118Z
DESCRIPTION:1/6 Volejbalový sportovní klub Baník Sokolov\, z.s. 'B' - Volej
 balový klub Karlovy Vary z.s. 'B' 0:2 (-12\,-21)
DTSTART;TZID=Europe/Berlin:20220115T090000
DTEND;TZID=Europe/Berlin:20220115T110000
LOCATION:Jiskra\, Maxima Gorkého 280 Sokolov
SUMMARY:KV-ZKY-E: Volejbalový sportovní klub Baník Sokolov\, z.s. 'B'-Volej
 balový klub Karlovy Vary z.s. 'B'
END:VEVENT
BEGIN:VEVENT
UID:34353261-3131-4863-b131-303935376636
DTSTAMP:20260422T131118Z
DESCRIPTION:1/1 Sokolov - Volejbalový sportovní klub Baník Sokolov\, z.s. '
 B' 2:0 (12\,4)
DTSTART;TZID=Europe/Berlin:20220115T090000
DTEND;TZID=Europe/Berlin:20220115T110000
LOCATION:Jiskra\, Maxima Gorkého 280 Sokolov
SUMMARY:KV-ZKY-E: Sokolov-Volejbalový sportovní klub Baník Sokolov\, z.s. '
 B'
END:VEVENT
BEGIN:VEVENT
UID:38653933-6662-4132-b361-666130636236
DTSTAMP:20260422T131118Z
DESCRIPTION:1/4 Karlovy Vary - Volejbalový sportovní klub Baník Sokolov\, z
 .s. 'B' 2:0 (6\,11)
DTSTART;TZID=Europe/Berlin:20220115T090000
DTEND;TZID=Europe/Berlin:20220115T110000
LOCATION:Mattoni Arena Hala míčových sportů\, Západní 1812 Karlovy Vary
SUMMARY:KV-ZKY-E: Karlovy Vary-Volejbalový sportovní klub Baník Sokolov\, z
 .s. 'B'
END:VEVENT
BEGIN:VEVENT
UID:61373331-3239-4439-b964-323965313135
DTSTAMP:20260422T131118Z
DESCRIPTION:1/1 Volejbalový sportovní klub Baník Sokolov\, z.s. 'B' - Beach
  volleyball club Chodov\, zapsaný spolek 'B' 2:0 (12\,13)
DTSTART;TZID=Europe/Berlin:20220227T090000
DTEND;TZID=Europe/Berlin:20220227T110000
LOCATION:Jiskra\, Maxima Gorkého 280 Sokolov
SUMMARY:KV-ZKY-H: Volejbalový sportovní klub Baník Sokolov\, z.s. 'B'-Beach
  volleyball club Chodov\, zapsaný spolek 'B'
END:VEVENT
BEGIN:VEVENT
UID:65366661-6135-4134-a636-646564313331
DTSTAMP:20260422T131118Z
DESCRIPTION:1/3 Volejbalový sportovní klub Baník Sokolov\, z.s. 'B' - Volej
 bal Aš - Klokani z.s. 2:0 (10\,9)
DTSTART;TZID=Europe/Berlin:20220227T090000
DTEND;TZID=Europe/Berlin:20220227T110000
LOCATION:Jiskra\, Maxima Gorkého 280 Sokolov
SUMMARY:KV-ZKY-H: Volejbalový sportovní klub Baník Sokolov\, z.s. 'B'-Volej
 bal Aš - Klokani z.s.
END:VEVENT
BEGIN:VEVENT
UID:30353130-3332-4335-a331-393034376261
DTSTAMP:20260422T131118Z
DESCRIPTION:1/5 Volejbalový sportovní klub Baník Sokolov\, z.s. 'B' - Volej
 balový sportovní klub Baník Sokolov\, z.s. 'C' 2:0 (14\,7)
DTSTART;TZID=Europe/Berlin:20220227T090000
DTEND;TZID=Europe/Berlin:20220227T110000
LOCATION:Jiskra\, Maxima Gorkého 280 Sokolov
SUMMARY:KV-ZKY-H: Volejbalový sportovní klub Baník Sokolov\, z.s. 'B'-Volej
 balový sportovní klub Baník Sokolov\, z.s. 'C'
END:VEVENT
END:VCALENDAR
