BEGIN:VCALENDAR
VERSION:2.0
PRODID:-//VOLEJBAL VYŠKOV, z.s. A76808//NONSGML kigkonsult.se iCalcreator 2.41.80//
CALSCALE:GREGORIAN
UID:65363238-6233-4630-a564-653932393934
BEGIN:VEVENT
UID:63616538-3964-4535-b833-376365306239
DTSTAMP:20260421T201607Z
DESCRIPTION:2/2 VOLEJBAL VYŠKOV - PFN Znojmo 2:0 (16\,16)
DTSTART;TZID=Europe/Berlin:20210911T103000
DTEND;TZID=Europe/Berlin:20210911T123000
LOCATION:Tělocvična ZŠ Nádražní\, Nádražní 5 Vyškov - Vyškov-Město
SUMMARY:JM-ZKY-KVE: VOLEJBAL VYŠKOV-PFN Znojmo
END:VEVENT
BEGIN:VEVENT
UID:31386636-3065-4861-a230-313863386634
DTSTAMP:20260421T201607Z
DESCRIPTION:1/1 VOLEJBAL VYŠKOV\, z.s. C - VOLEJBAL VYŠKOV 0:2 (-7\,-11)
DTSTART;TZID=Europe/Berlin:20210911T090000
DTEND;TZID=Europe/Berlin:20210911T110000
LOCATION:Tělocvična ZŠ Nádražní\, Nádražní 5 Vyškov - Vyškov-Město
SUMMARY:JM-ZKY-KVE: VOLEJBAL VYŠKOV\, z.s. C-VOLEJBAL VYŠKOV
END:VEVENT
BEGIN:VEVENT
UID:38643634-3330-4335-b961-626434313435
DTSTAMP:20260421T201607Z
DESCRIPTION:3/3 VOLEJBAL VYŠKOV - Znojmo 2:1 (-22\,18\,13)\n1E vs 1F\, Kurt
  1
DTSTART;TZID=Europe/Berlin:20210911T141500
DTEND;TZID=Europe/Berlin:20210911T161500
LOCATION:Tělocvična ZŠ Nádražní\, Nádražní 5 Vyškov - Vyškov-Město
SUMMARY:JM-ZKY-KVEF: VOLEJBAL VYŠKOV-Znojmo
END:VEVENT
BEGIN:VEVENT
UID:62626531-3438-4432-b064-353161323166
DTSTAMP:20260421T201607Z
DESCRIPTION:7/12 VOLEJBAL VYŠKOV - KP Brno 0:2 (-0\,-0)
DTSTART;TZID=Europe/Berlin:20210918T163000
DTEND;TZID=Europe/Berlin:20210918T183000
LOCATION:Tělocvična ZŠ Nádražní\, Nádražní 5 Vyškov - Vyškov-Město
SUMMARY:CP-ZKY-H: VOLEJBAL VYŠKOV-KP Brno
END:VEVENT
BEGIN:VEVENT
UID:31326264-6537-4432-b133-613263656137
DTSTAMP:20260421T201607Z
DESCRIPTION:8/15 VOLEJBAL VYŠKOV - DUKLA Liberec 0:2 (-0\,-0)
DTSTART;TZID=Europe/Berlin:20210918T173000
DTEND;TZID=Europe/Berlin:20210918T193000
LOCATION:Tělocvična ZŠ Nádražní\, Nádražní 5 Vyškov - Vyškov-Město
SUMMARY:CP-ZKY-H: VOLEJBAL VYŠKOV-DUKLA Liberec
END:VEVENT
BEGIN:VEVENT
UID:30643165-3966-4264-b764-353031336232
DTSTAMP:20260421T201607Z
DESCRIPTION:11/22 VOLEJBAL VYŠKOV - Prostějov 0:2 (-0\,-0)
DTSTART;TZID=Europe/Berlin:20210919T111500
DTEND;TZID=Europe/Berlin:20210919T131500
LOCATION:Tělocvična ZŠ Nádražní\, Nádražní 5 Vyškov - Vyškov-Město
SUMMARY:CP-ZKY-H: VOLEJBAL VYŠKOV-Prostějov
END:VEVENT
BEGIN:VEVENT
UID:30616333-3939-4265-b632-343061303664
DTSTAMP:20260421T201607Z
DESCRIPTION:2/2 Přerov - VOLEJBAL VYŠKOV 2:0 (0\,0)
DTSTART;TZID=Europe/Berlin:20210918T103000
DTEND;TZID=Europe/Berlin:20210918T123000
LOCATION:Městská sportovní hala\, Petřivalského 2884 Přerov - Přerov I-Měst
 o
SUMMARY:CP-ZKY-H: Přerov-VOLEJBAL VYŠKOV
END:VEVENT
BEGIN:VEVENT
UID:37376230-3031-4936-b465-373135316337
DTSTAMP:20260421T201607Z
DESCRIPTION:4/6 TJ Sokol F. - Místek - VOLEJBAL VYŠKOV 2:0 (0\,0)
DTSTART;TZID=Europe/Berlin:20210918T130000
DTEND;TZID=Europe/Berlin:20210918T150000
LOCATION:ZŠ Jiřího z Poděbrad Frýdek-Místek\, Jiřího z Poděbrad 3109 Frýdek
 -Místek - Frýdek
SUMMARY:CP-ZKY-H: TJ Sokol F. - Místek-VOLEJBAL VYŠKOV
END:VEVENT
BEGIN:VEVENT
UID:37383737-3364-4237-b966-613266663936
DTSTAMP:20260421T201607Z
DESCRIPTION:10/20 Opava - VOLEJBAL VYŠKOV 2:0 (0\,0)
DTSTART;TZID=Europe/Berlin:20210919T100000
DTEND;TZID=Europe/Berlin:20210919T120000
LOCATION:Sportovní hala Slezského gymnázia v Opavě\, Zámecký okruh 461 Opav
 a - Město
SUMMARY:CP-ZKY-H: Opava-VOLEJBAL VYŠKOV
END:VEVENT
BEGIN:VEVENT
UID:34663864-6363-4032-a566-376235626536
DTSTAMP:20260421T201607Z
DESCRIPTION:14/28 Slavia UH - VOLEJBAL VYŠKOV 2:0 (0\,0)
DTSTART;TZID=Europe/Berlin:20210919T131500
DTEND;TZID=Europe/Berlin:20210919T151500
LOCATION:Městská sportovní hala\, Stonky 860 Uherské Hradiště
SUMMARY:CP-ZKY-H: Slavia UH-VOLEJBAL VYŠKOV
END:VEVENT
BEGIN:VEVENT
UID:32356632-6330-4939-b234-396433353037
DTSTAMP:20260421T201607Z
DESCRIPTION:6/6 VOLEJBAL VYŠKOV - KP Brno MA 2:1 (-10\,15\,8)
DTSTART;TZID=Europe/Berlin:20210925T153000
DTEND;TZID=Europe/Berlin:20210925T173000
LOCATION:Tělocvična ZŠ Nádražní\, Nádražní 5 Vyškov - Vyškov-Město
SUMMARY:JM-ZKY-IA: VOLEJBAL VYŠKOV-KP Brno MA
END:VEVENT
BEGIN:VEVENT
UID:31643936-3162-4639-b430-386337613032
DTSTAMP:20260421T201607Z
DESCRIPTION:2/2 Břeclav - VOLEJBAL VYŠKOV 2:0 (18\,16)
DTSTART;TZID=Europe/Berlin:20210925T103000
DTEND;TZID=Europe/Berlin:20210925T123000
LOCATION:TJ Lokomotiva Břeclav\, Veslařská 2753 Břeclav
SUMMARY:JM-ZKY-IA: Břeclav-VOLEJBAL VYŠKOV
END:VEVENT
BEGIN:VEVENT
UID:39626633-6366-4261-a264-376161323438
DTSTAMP:20260421T201607Z
DESCRIPTION:3/3 KP Brno - VOLEJBAL VYŠKOV 2:0 (17\,17)
DTSTART;TZID=Europe/Berlin:20210925T114500
DTEND;TZID=Europe/Berlin:20210925T134500
LOCATION:Sportovní gymnázium Ludvíka Daňka\, Botanická 63 Brno - Ponava
SUMMARY:JM-ZKY-IA: KP Brno-VOLEJBAL VYŠKOV
END:VEVENT
BEGIN:VEVENT
UID:39313436-3631-4336-b937-313061633938
DTSTAMP:20260421T201607Z
DESCRIPTION:2/3 VOLEJBAL VYŠKOV - TJ Sokol Jehnice 2:0 (14\,15)
DTSTART;TZID=Europe/Berlin:20211023T103000
DTEND;TZID=Europe/Berlin:20211023T123000
LOCATION:Tělocvična ZŠ Nádražní\, Nádražní 5 Vyškov - Vyškov-Město
SUMMARY:JM-ZKY-IIB: VOLEJBAL VYŠKOV-TJ Sokol Jehnice
END:VEVENT
BEGIN:VEVENT
UID:32663330-3032-4536-b335-336139323863
DTSTAMP:20260421T201607Z
DESCRIPTION:1/1 VK Vejrostova - VOLEJBAL VYŠKOV 2:0 (24\,18)
DTSTART;TZID=Europe/Berlin:20211023T090000
DTEND;TZID=Europe/Berlin:20211023T110000
LOCATION:ZŠ Vejrostova\, Vejrostova 1066 Brno - Bystrc
SUMMARY:JM-ZKY-IIB: VK Vejrostova-VOLEJBAL VYŠKOV
END:VEVENT
BEGIN:VEVENT
UID:62613030-6639-4531-a433-303964303436
DTSTAMP:20260421T201607Z
DESCRIPTION:3/5 TJ Slovan Ivančice\, z.s. - VOLEJBAL VYŠKOV 0:2 (-22\,-14)
DTSTART;TZID=Europe/Berlin:20211023T114500
DTEND;TZID=Europe/Berlin:20211023T134500
LOCATION:sokolovna Ivančice\, Rybářská 1052 Ivančice
SUMMARY:JM-ZKY-IIB: TJ Slovan Ivančice\, z.s.-VOLEJBAL VYŠKOV
END:VEVENT
BEGIN:VEVENT
UID:33343361-6238-4733-b635-636462363063
DTSTAMP:20260421T201607Z
DESCRIPTION:6/6 VOLEJBAL VYŠKOV - PFN Znojmo 2:0 (23\,19)
DTSTART;TZID=Europe/Berlin:20211113T153000
DTEND;TZID=Europe/Berlin:20211113T173000
LOCATION:Tělocvična ZŠ Nádražní\, Nádražní 5 Vyškov - Vyškov-Město
SUMMARY:JM-ZKY-IIIB: VOLEJBAL VYŠKOV-PFN Znojmo
END:VEVENT
BEGIN:VEVENT
UID:62363839-3663-4530-b937-633861363336
DTSTAMP:20260421T201607Z
DESCRIPTION:2/2 TJ Sokol Jehnice - VOLEJBAL VYŠKOV 0:2 (-10\,-15)
DTSTART;TZID=Europe/Berlin:20211113T103000
DTEND;TZID=Europe/Berlin:20211113T123000
LOCATION:TJ Sokol Jehnice\, Blanenská 1 Brno - Jehnice
SUMMARY:JM-ZKY-IIIB: TJ Sokol Jehnice-VOLEJBAL VYŠKOV
END:VEVENT
BEGIN:VEVENT
UID:31636334-6237-4435-b365-393663653531
DTSTAMP:20260421T201607Z
DESCRIPTION:3/3 KP Brno MA - VOLEJBAL VYŠKOV 2:1 (-23\,15\,8)
DTSTART;TZID=Europe/Berlin:20211113T114500
DTEND;TZID=Europe/Berlin:20211113T134500
LOCATION:ZŠ Milénova 14\, Milénova 808 Brno - Lesná
SUMMARY:JM-ZKY-IIIB: KP Brno MA-VOLEJBAL VYŠKOV
END:VEVENT
BEGIN:VEVENT
UID:64313764-6662-4462-b438-333434643134
DTSTAMP:20260421T201607Z
DESCRIPTION:6/6 VOLEJBAL VYŠKOV - Znojmo 0:2 (-0\,-0)
DTSTART;TZID=Europe/Berlin:20211204T153000
DTEND;TZID=Europe/Berlin:20211204T173000
LOCATION:Tělocvična ZŠ Nádražní\, Nádražní 5 Vyškov - Vyškov-Město
SUMMARY:JM-ZKY-IVB: VOLEJBAL VYŠKOV-Znojmo
END:VEVENT
BEGIN:VEVENT
UID:61633734-3436-4264-a131-653838646163
DTSTAMP:20260421T201607Z
DESCRIPTION:2/2 TJ Slovan Ivančice\, z.s. - VOLEJBAL VYŠKOV 2:0 (0\,0)
DTSTART;TZID=Europe/Berlin:20211204T103000
DTEND;TZID=Europe/Berlin:20211204T123000
LOCATION:sokolovna Ivančice\, Rybářská 1052 Ivančice
SUMMARY:JM-ZKY-IVB: TJ Slovan Ivančice\, z.s.-VOLEJBAL VYŠKOV
END:VEVENT
BEGIN:VEVENT
UID:33363363-6538-4133-b137-613663616536
DTSTAMP:20260421T201607Z
DESCRIPTION:3/3 PFN Znojmo - VOLEJBAL VYŠKOV 2:0 (0\,0)
DTSTART;TZID=Europe/Berlin:20211204T114500
DTEND;TZID=Europe/Berlin:20211204T134500
LOCATION:Tělocvična ZŠ Prokopa Diviše a MŠ\, Ke Škole 569 Znojmo - Přímětic
 e
SUMMARY:JM-ZKY-IVB: PFN Znojmo-VOLEJBAL VYŠKOV
END:VEVENT
BEGIN:VEVENT
UID:32626137-3863-4762-a466-316336316237
DTSTAMP:20260421T201607Z
DESCRIPTION:4/4 VS Drásov - VOLEJBAL VYŠKOV 2:X
DTSTART;TZID=Europe/Berlin:20211218T130000
DTEND;TZID=Europe/Berlin:20211218T150000
LOCATION:Hala u ZŠ TGM Drásov\, Školní 167 Drásov
SUMMARY:JM-ZKY-VC: VS Drásov-VOLEJBAL VYŠKOV
END:VEVENT
BEGIN:VEVENT
UID:65353863-3264-4636-b731-363338343537
DTSTAMP:20260421T201607Z
DESCRIPTION:5/5 Tělocvičná jednota Sokol Předklášteří - VOLEJBAL VYŠKOV 2:X
DTSTART;TZID=Europe/Berlin:20211218T141500
DTEND;TZID=Europe/Berlin:20211218T161500
LOCATION:ZŠ Předklášteří\, Komenského 1097 Předklášteří
SUMMARY:JM-ZKY-VC: Tělocvičná jednota Sokol Předklášteří-VOLEJBAL VYŠKOV
END:VEVENT
BEGIN:VEVENT
UID:66623435-3163-4262-b337-363263393763
DTSTAMP:20260421T201607Z
DESCRIPTION:6/6 TJ Sokol Jehnice - VOLEJBAL VYŠKOV 2:X
DTSTART;TZID=Europe/Berlin:20211218T153000
DTEND;TZID=Europe/Berlin:20211218T173000
LOCATION:TJ Sokol Jehnice\, Blanenská 1 Brno - Jehnice
SUMMARY:JM-ZKY-VC: TJ Sokol Jehnice-VOLEJBAL VYŠKOV
END:VEVENT
BEGIN:VEVENT
UID:35396132-6538-4737-b161-633564306432
DTSTAMP:20260421T201607Z
DESCRIPTION:4/4 VOLEJBAL VYŠKOV\, z.s. B - VOLEJBAL VYŠKOV 2:X
DTSTART;TZID=Europe/Berlin:20220115T130000
DTEND;TZID=Europe/Berlin:20220115T150000
LOCATION:Tělocvična ZŠ Nádražní\, Nádražní 5 Vyškov - Vyškov-Město
SUMMARY:JM-ZKY-VID: VOLEJBAL VYŠKOV\, z.s. B-VOLEJBAL VYŠKOV
END:VEVENT
BEGIN:VEVENT
UID:63303133-6235-4765-b835-333163353233
DTSTAMP:20260421T201607Z
DESCRIPTION:5/5 Orel Křenovice - VOLEJBAL VYŠKOV 2:X
DTSTART;TZID=Europe/Berlin:20220115T141500
DTEND;TZID=Europe/Berlin:20220115T161500
LOCATION:Sportovní hala Křenovice \, Bratří Mrázků 635 Křenovice
SUMMARY:JM-ZKY-VID: Orel Křenovice-VOLEJBAL VYŠKOV
END:VEVENT
BEGIN:VEVENT
UID:33343237-3136-4165-b032-386433303532
DTSTAMP:20260421T201607Z
DESCRIPTION:6/6 TJ Agrotec Hustopeče z.s. - VOLEJBAL VYŠKOV 2:X
DTSTART;TZID=Europe/Berlin:20220115T153000
DTEND;TZID=Europe/Berlin:20220115T173000
LOCATION:Městská sportovní hala\, Šafaříkova 1016 Hustopeče
SUMMARY:JM-ZKY-VID: TJ Agrotec Hustopeče z.s.-VOLEJBAL VYŠKOV
END:VEVENT
END:VCALENDAR
