BEGIN:VCALENDAR
VERSION:2.0
PRODID:-//Lokomotiva Fosfa Břeclav76823//NONSGML kigkonsult.se iCalcreator 2.41.80//
CALSCALE:GREGORIAN
UID:62313338-6664-4265-b634-656437366430
BEGIN:VEVENT
UID:31633730-6565-4163-b664-373964613662
DTSTAMP:20260422T001400Z
DESCRIPTION:2/2 Loko Fosfa Břeclav - VK Brno\, z.s. 2:0 (22\,15)
DTSTART;TZID=Europe/Berlin:20210911T090000
DTEND;TZID=Europe/Berlin:20210911T110000
LOCATION:TJ Lokomotiva Břeclav\, Veslařská 2753 Břeclav
SUMMARY:JM-ZKY-KVC: Loko Fosfa Břeclav-VK Brno\, z.s.
END:VEVENT
BEGIN:VEVENT
UID:62333165-3962-4631-a661-666239363264
DTSTAMP:20260422T001400Z
DESCRIPTION:5/5 Loko Fosfa Břeclav - TJ Sokol Šlapanice 2:0 (17\,22)
DTSTART;TZID=Europe/Berlin:20210911T114500
DTEND;TZID=Europe/Berlin:20210911T134500
LOCATION:TJ Lokomotiva Břeclav\, Veslařská 2753 Břeclav
SUMMARY:JM-ZKY-KVC: Loko Fosfa Břeclav-TJ Sokol Šlapanice
END:VEVENT
BEGIN:VEVENT
UID:31333037-3033-4964-a462-373965336636
DTSTAMP:20260422T001400Z
DESCRIPTION:4/4 TJ Sokol Jehnice - Loko Fosfa Břeclav 2:0 (10\,14)
DTSTART;TZID=Europe/Berlin:20210911T103000
DTEND;TZID=Europe/Berlin:20210911T123000
LOCATION:TJ Sokol Jehnice\, Blanenská 1 Brno - Jehnice
SUMMARY:JM-ZKY-KVC: TJ Sokol Jehnice-Loko Fosfa Břeclav
END:VEVENT
BEGIN:VEVENT
UID:39333136-3238-4139-a430-663862646665
DTSTAMP:20260422T001400Z
DESCRIPTION:10/10 Břeclav - Loko Fosfa Břeclav 2:0 (23\,17)
DTSTART;TZID=Europe/Berlin:20210911T141500
DTEND;TZID=Europe/Berlin:20210911T161500
LOCATION:TJ Lokomotiva Břeclav\, Veslařská 2753 Břeclav
SUMMARY:JM-ZKY-KVC: Břeclav-Loko Fosfa Břeclav
END:VEVENT
BEGIN:VEVENT
UID:39653561-3462-4136-b037-393530343466
DTSTAMP:20260422T001400Z
DESCRIPTION:1/1 Loko Fosfa Břeclav - VS Drásov 0:2 (-15\,-13)
DTSTART;TZID=Europe/Berlin:20210925T090000
DTEND;TZID=Europe/Berlin:20210925T110000
LOCATION:TJ Lokomotiva Břeclav\, Veslařská 2753 Břeclav
SUMMARY:JM-ZKY-IC: Loko Fosfa Břeclav-VS Drásov
END:VEVENT
BEGIN:VEVENT
UID:65353033-6332-4039-b732-393031646332
DTSTAMP:20260422T001400Z
DESCRIPTION:4/4 Loko Fosfa Břeclav - Orel Křenovice 1:2 (-12\,20\,-16)
DTSTART;TZID=Europe/Berlin:20210925T103000
DTEND;TZID=Europe/Berlin:20210925T123000
LOCATION:TJ Lokomotiva Břeclav\, Veslařská 2753 Břeclav
SUMMARY:JM-ZKY-IC: Loko Fosfa Břeclav-Orel Křenovice
END:VEVENT
BEGIN:VEVENT
UID:35333461-6337-4836-b634-393137646436
DTSTAMP:20260422T001400Z
DESCRIPTION:6/6 VK Vejrostova - Loko Fosfa Břeclav 2:0 (13\,15)
DTSTART;TZID=Europe/Berlin:20210925T114500
DTEND;TZID=Europe/Berlin:20210925T134500
LOCATION:ZŠ Vejrostova\, Vejrostova 1066 Brno - Bystrc
SUMMARY:JM-ZKY-IC: VK Vejrostova-Loko Fosfa Břeclav
END:VEVENT
BEGIN:VEVENT
UID:65623437-6462-4265-b630-373530316132
DTSTAMP:20260422T001400Z
DESCRIPTION:11/22 Loko Fosfa Břeclav - Prostějov 0:2 (-22\,-19)
DTSTART;TZID=Europe/Berlin:20211017T101500
DTEND;TZID=Europe/Berlin:20211017T121500
LOCATION:TJ Lokomotiva Břeclav\, Veslařská 2753 Břeclav
SUMMARY:CP-ZKY-V1B: Loko Fosfa Břeclav-Prostějov
END:VEVENT
BEGIN:VEVENT
UID:31333966-3437-4635-a666-333866373966
DTSTAMP:20260422T001400Z
DESCRIPTION:2/3 Dolní Újezd - Loko Fosfa Břeclav 1:2 (-18\,26\,-13)
DTSTART;TZID=Europe/Berlin:20211016T101500
DTEND;TZID=Europe/Berlin:20211016T121500
LOCATION:tělocvična Základní školy\,  Dolní Újezd342
SUMMARY:CP-ZKY-V1B: Dolní Újezd-Loko Fosfa Břeclav
END:VEVENT
BEGIN:VEVENT
UID:37396331-3439-4666-b036-666336663735
DTSTAMP:20260422T001400Z
DESCRIPTION:4/8 RÉMA - Loko Fosfa Břeclav 1:2 (22\,-24\,-10)
DTSTART;TZID=Europe/Berlin:20211016T124500
DTEND;TZID=Europe/Berlin:20211016T144500
LOCATION:Hala VOŠ a SPŠS\, U Stadionu 1166 Rychnov nad Kněžnou
SUMMARY:CP-ZKY-V1B: RÉMA-Loko Fosfa Břeclav
END:VEVENT
BEGIN:VEVENT
UID:63623138-6434-4461-b838-313934303364
DTSTAMP:20260422T001400Z
DESCRIPTION:6/12 Hronov - Loko Fosfa Břeclav 2:0 (20\,20)
DTSTART;TZID=Europe/Berlin:20211016T151500
DTEND;TZID=Europe/Berlin:20211016T171500
LOCATION:ZŠ Hronov\, Palackého 162 Hronov
SUMMARY:CP-ZKY-V1B: Hronov-Loko Fosfa Břeclav
END:VEVENT
BEGIN:VEVENT
UID:39613265-6265-4234-b133-656234376364
DTSTAMP:20260422T001400Z
DESCRIPTION:8/15 Opava - Loko Fosfa Břeclav 2:1 (-18\,21\,14)
DTSTART;TZID=Europe/Berlin:20211016T174500
DTEND;TZID=Europe/Berlin:20211016T194500
LOCATION:Sportovní hala Slezského gymnázia v Opavě\, Zámecký okruh 461 Opav
 a - Město
SUMMARY:CP-ZKY-V1B: Opava-Loko Fosfa Břeclav
END:VEVENT
BEGIN:VEVENT
UID:38396632-3064-4661-a561-393138646432
DTSTAMP:20260422T001400Z
DESCRIPTION:12/23 VK UP Olomouc A - Loko Fosfa Břeclav 2:1 (-23\,16\,12)
DTSTART;TZID=Europe/Berlin:20211017T113000
DTEND;TZID=Europe/Berlin:20211017T133000
LOCATION:Čajkaréna\, Čajkovského 68 Olomouc - Nová Ulice
SUMMARY:CP-ZKY-V1B: VK UP Olomouc A-Loko Fosfa Břeclav
END:VEVENT
BEGIN:VEVENT
UID:36633837-3765-4332-a366-636430366531
DTSTAMP:20260422T001400Z
DESCRIPTION:14/28 Svitavy - Loko Fosfa Břeclav 2:0 (23\,12)
DTSTART;TZID=Europe/Berlin:20211017T140000
DTEND;TZID=Europe/Berlin:20211017T160000
LOCATION:Tělocvična ZŠ\, Felberova 669 Svitavy - Lány
SUMMARY:CP-ZKY-V1B: Svitavy-Loko Fosfa Břeclav
END:VEVENT
BEGIN:VEVENT
UID:33636536-6464-4364-b535-313936613533
DTSTAMP:20260422T001400Z
DESCRIPTION:1/2 Loko Fosfa Břeclav - VK Brno\, z.s. 2:0 (20\,15)
DTSTART;TZID=Europe/Berlin:20211023T090000
DTEND;TZID=Europe/Berlin:20211023T110000
LOCATION:TJ Lokomotiva Břeclav\, Veslařská 2753 Břeclav
SUMMARY:JM-ZKY-IID: Loko Fosfa Břeclav-VK Brno\, z.s.
END:VEVENT
BEGIN:VEVENT
UID:30616433-6636-4830-a261-373239356132
DTSTAMP:20260422T001400Z
DESCRIPTION:3/5 Loko Fosfa Břeclav - VOLEJBAL VYŠKOV\, z.s. B 0:2 (-19\,-14
 )
DTSTART;TZID=Europe/Berlin:20211023T114500
DTEND;TZID=Europe/Berlin:20211023T134500
LOCATION:TJ Lokomotiva Břeclav\, Veslařská 2753 Břeclav
SUMMARY:JM-ZKY-IID: Loko Fosfa Břeclav-VOLEJBAL VYŠKOV\, z.s. B
END:VEVENT
BEGIN:VEVENT
UID:63393037-6661-4831-b063-393366643533
DTSTAMP:20260422T001400Z
DESCRIPTION:2/4 TJ JUNIOR Brno A - Loko Fosfa Břeclav 2:0 (23\,15)
DTSTART;TZID=Europe/Berlin:20211023T103000
DTEND;TZID=Europe/Berlin:20211023T123000
LOCATION:tělocvičny ZŠ Novolíšeňská\, Brno\, Novolíšeňská 2411 Brno - Líšeň
SUMMARY:JM-ZKY-IID: TJ JUNIOR Brno A-Loko Fosfa Břeclav
END:VEVENT
BEGIN:VEVENT
UID:39643734-3966-4135-a634-626131323032
DTSTAMP:20260422T001400Z
DESCRIPTION:2/2 Loko Fosfa Břeclav - VOLEJBAL VYŠKOV\, z.s. B 2:0 (17\,22)
DTSTART;TZID=Europe/Berlin:20211113T103000
DTEND;TZID=Europe/Berlin:20211113T123000
LOCATION:TJ Lokomotiva Břeclav\, Veslařská 2753 Břeclav
SUMMARY:JM-ZKY-IIID: Loko Fosfa Břeclav-VOLEJBAL VYŠKOV\, z.s. B
END:VEVENT
BEGIN:VEVENT
UID:31633031-6561-4331-a538-306166353330
DTSTAMP:20260422T001400Z
DESCRIPTION:5/5 Loko Fosfa Břeclav - Tělocvičná jednota Sokol Předklášteří 
 2:1 (17\,-14\,14)
DTSTART;TZID=Europe/Berlin:20211113T141500
DTEND;TZID=Europe/Berlin:20211113T161500
LOCATION:TJ Lokomotiva Břeclav\, Veslařská 2753 Břeclav
SUMMARY:JM-ZKY-IIID: Loko Fosfa Břeclav-Tělocvičná jednota Sokol Předklášte
 ří
END:VEVENT
BEGIN:VEVENT
UID:33336333-3338-4565-a666-343566326635
DTSTAMP:20260422T001400Z
DESCRIPTION:4/4 KP Brno MB - Loko Fosfa Břeclav 0:2 (-22\,-16)
DTSTART;TZID=Europe/Berlin:20211113T130000
DTEND;TZID=Europe/Berlin:20211113T150000
LOCATION:ZŠ Milénova 14\, Milénova 808 Brno - Lesná
SUMMARY:JM-ZKY-IIID: KP Brno MB-Loko Fosfa Břeclav
END:VEVENT
BEGIN:VEVENT
UID:63633064-3233-4335-b233-373933313534
DTSTAMP:20260422T001400Z
DESCRIPTION:2/3 Loko Fosfa Břeclav - VS Drásov 0:2 (-4\,-22)
DTSTART;TZID=Europe/Berlin:20211204T103000
DTEND;TZID=Europe/Berlin:20211204T123000
LOCATION:TJ Lokomotiva Břeclav\, Veslařská 2753 Břeclav
SUMMARY:JM-ZKY-IVC: Loko Fosfa Břeclav-VS Drásov
END:VEVENT
BEGIN:VEVENT
UID:39396535-3830-4464-a261-393331643737
DTSTAMP:20260422T001400Z
DESCRIPTION:1/1 TJ JUNIOR Brno A - Loko Fosfa Břeclav 2:0 (16\,22)
DTSTART;TZID=Europe/Berlin:20211204T090000
DTEND;TZID=Europe/Berlin:20211204T110000
LOCATION:tělocvičny ZŠ Novolíšeňská\, Brno\, Novolíšeňská 2411 Brno - Líšeň
SUMMARY:JM-ZKY-IVC: TJ JUNIOR Brno A-Loko Fosfa Břeclav
END:VEVENT
BEGIN:VEVENT
UID:35633137-3735-4165-b239-326436356533
DTSTAMP:20260422T001400Z
DESCRIPTION:3/5 TJ Sokol Jehnice - Loko Fosfa Břeclav 2:0 (18\,19)
DTSTART;TZID=Europe/Berlin:20211204T114500
DTEND;TZID=Europe/Berlin:20211204T134500
LOCATION:TJ Sokol Jehnice\, Blanenská 1 Brno - Jehnice
SUMMARY:JM-ZKY-IVC: TJ Sokol Jehnice-Loko Fosfa Břeclav
END:VEVENT
BEGIN:VEVENT
UID:37623561-6536-4837-b134-613861316236
DTSTAMP:20260422T001400Z
DESCRIPTION:6/6 Loko Fosfa Břeclav - VOLEJBAL VYŠKOV\, z.s. B 1:2 (25\,-12\
 ,-12)
DTSTART;TZID=Europe/Berlin:20211218T153000
DTEND;TZID=Europe/Berlin:20211218T173000
LOCATION:TJ Lokomotiva Břeclav\, Veslařská 2753 Břeclav
SUMMARY:JM-ZKY-VD: Loko Fosfa Břeclav-VOLEJBAL VYŠKOV\, z.s. B
END:VEVENT
BEGIN:VEVENT
UID:33396431-6462-4030-b938-616130626261
DTSTAMP:20260422T001400Z
DESCRIPTION:2/2 Orel Křenovice - Loko Fosfa Břeclav 2:0 (0\,16)
DTSTART;TZID=Europe/Berlin:20211218T103000
DTEND;TZID=Europe/Berlin:20211218T123000
LOCATION:Sportovní hala Křenovice \, Bratří Mrázků 635 Křenovice
SUMMARY:JM-ZKY-VD: Orel Křenovice-Loko Fosfa Břeclav
END:VEVENT
BEGIN:VEVENT
UID:61326165-3962-4831-b730-663732613031
DTSTAMP:20260422T001400Z
DESCRIPTION:3/3 VK Brno\, z.s. - Loko Fosfa Břeclav 2:0 (19\,10)
DTSTART;TZID=Europe/Berlin:20211218T114500
DTEND;TZID=Europe/Berlin:20211218T134500
LOCATION:Tělocvična ZŠ Bílovice nad Svitavou\, Komenského 151 Bílovice nad 
 Svitavou
SUMMARY:JM-ZKY-VD: VK Brno\, z.s.-Loko Fosfa Břeclav
END:VEVENT
BEGIN:VEVENT
UID:36653536-6263-4563-b832-366137356337
DTSTAMP:20260422T001400Z
DESCRIPTION:1/1 Loko Fosfa Břeclav - VK Vejrostova B 2:1 (-21\,16\,5)
DTSTART;TZID=Europe/Berlin:20220115T090000
DTEND;TZID=Europe/Berlin:20220115T110000
LOCATION:TJ Lokomotiva Břeclav\, Veslařská 2753 Břeclav
SUMMARY:JM-ZKY-VIE: Loko Fosfa Břeclav-VK Vejrostova B
END:VEVENT
BEGIN:VEVENT
UID:62366465-6363-4831-b738-346565306466
DTSTAMP:20260422T001400Z
DESCRIPTION:2/4 Loko Fosfa Břeclav - KP Brno MB 2:0 (14\,19)
DTSTART;TZID=Europe/Berlin:20220115T103000
DTEND;TZID=Europe/Berlin:20220115T123000
LOCATION:TJ Lokomotiva Břeclav\, Veslařská 2753 Břeclav
SUMMARY:JM-ZKY-VIE: Loko Fosfa Břeclav-KP Brno MB
END:VEVENT
BEGIN:VEVENT
UID:65643761-3232-4161-b061-386537663036
DTSTAMP:20260422T001400Z
DESCRIPTION:3/6 VK PFN Znojmo 'C' - Loko Fosfa Břeclav 0:2 (-16\,-19)
DTSTART;TZID=Europe/Berlin:20220115T114500
DTEND;TZID=Europe/Berlin:20220115T134500
LOCATION:Tělocvična ZŠ Prokopa Diviše a MŠ\, Ke Škole 569 Znojmo - Přímětic
 e
SUMMARY:JM-ZKY-VIE: VK PFN Znojmo 'C'-Loko Fosfa Břeclav
END:VEVENT
BEGIN:VEVENT
UID:36393730-6230-4635-b538-616331616131
DTSTAMP:20260422T001400Z
DESCRIPTION:2/3 Loko Fosfa Břeclav - VK Brno\, z.s. 1:2 (-24\,8\,-15)
DTSTART;TZID=Europe/Berlin:20220212T103000
DTEND;TZID=Europe/Berlin:20220212T123000
LOCATION:TJ Lokomotiva Břeclav\, Veslařská 2753 Břeclav
SUMMARY:JM-ZKY-VIID: Loko Fosfa Břeclav-VK Brno\, z.s.
END:VEVENT
BEGIN:VEVENT
UID:64613230-3832-4839-b262-383233653362
DTSTAMP:20260422T001400Z
DESCRIPTION:1/1 TJ Agrotec Hustopeče z.s. - Loko Fosfa Břeclav 0:2 (-17\,-2
 4)
DTSTART;TZID=Europe/Berlin:20220212T090000
DTEND;TZID=Europe/Berlin:20220212T110000
LOCATION:Městská sportovní hala\, Šafaříkova 1016 Hustopeče
SUMMARY:JM-ZKY-VIID: TJ Agrotec Hustopeče z.s.-Loko Fosfa Břeclav
END:VEVENT
BEGIN:VEVENT
UID:66363764-3139-4764-a363-623661313437
DTSTAMP:20260422T001400Z
DESCRIPTION:3/5 VOLEJBAL VYŠKOV\, z.s. B - Loko Fosfa Břeclav 0:2 (-24\,-25
 )
DTSTART;TZID=Europe/Berlin:20220212T114500
DTEND;TZID=Europe/Berlin:20220212T134500
LOCATION:Tělocvična ZŠ Nádražní\, Nádražní 5 Vyškov - Vyškov-Město
SUMMARY:JM-ZKY-VIID: VOLEJBAL VYŠKOV\, z.s. B-Loko Fosfa Břeclav
END:VEVENT
BEGIN:VEVENT
UID:38633138-3764-4966-b563-326438353032
DTSTAMP:20260422T001400Z
DESCRIPTION:1/1 Loko Fosfa Břeclav - Tělocvičná jednota Sokol Předklášteří 
 2:0 (13\,24)
DTSTART;TZID=Europe/Berlin:20220226T090000
DTEND;TZID=Europe/Berlin:20220226T110000
LOCATION:TJ Lokomotiva Břeclav\, Veslařská 2753 Břeclav
SUMMARY:JM-ZKY-VIIIC: Loko Fosfa Břeclav-Tělocvičná jednota Sokol Předklášt
 eří
END:VEVENT
BEGIN:VEVENT
UID:36323136-6436-4461-a235-366432303538
DTSTAMP:20260422T001400Z
DESCRIPTION:2/4 Loko Fosfa Břeclav - VS Drásov 0:2 (-13\,-21)
DTSTART;TZID=Europe/Berlin:20220226T103000
DTEND;TZID=Europe/Berlin:20220226T123000
LOCATION:TJ Lokomotiva Břeclav\, Veslařská 2753 Břeclav
SUMMARY:JM-ZKY-VIIIC: Loko Fosfa Břeclav-VS Drásov
END:VEVENT
BEGIN:VEVENT
UID:63643934-6134-4435-a430-633562613064
DTSTAMP:20260422T001400Z
DESCRIPTION:3/6 Orel Křenovice - Loko Fosfa Břeclav 1:2 (18\,-21\,-12)
DTSTART;TZID=Europe/Berlin:20220226T114500
DTEND;TZID=Europe/Berlin:20220226T134500
LOCATION:Sportovní hala Křenovice \, Bratří Mrázků 635 Křenovice
SUMMARY:JM-ZKY-VIIIC: Orel Křenovice-Loko Fosfa Břeclav
END:VEVENT
END:VCALENDAR
