BEGIN:VCALENDAR
VERSION:2.0
PRODID:-//SAVO Praha76837//NONSGML kigkonsult.se iCalcreator 2.41.80//
CALSCALE:GREGORIAN
UID:31303961-3230-4834-a237-316233616562
BEGIN:VEVENT
UID:36353833-3934-4661-b033-633664633132
DTSTAMP:20260425T132859Z
DESCRIPTION:2/2 SAVO - Španielka 1:3 (-16\,18\,-22\,-12)
DTSTART;TZID=Europe/Berlin:20211009T100000
DTEND;TZID=Europe/Berlin:20211009T120000
LOCATION:FZŠ Mezi Školami\, Mezi školami 2322 Praha - Stodůlky
SUMMARY:PP-JKY-1-C: SAVO-Španielka
END:VEVENT
BEGIN:VEVENT
UID:37323961-3664-4531-b038-363232653963
DTSTAMP:20260425T132859Z
DESCRIPTION:4/4 Orion B - SAVO 3:0 (22\,14\,21)
DTSTART;TZID=Europe/Berlin:20211009T120000
DTEND;TZID=Europe/Berlin:20211009T140000
LOCATION:FZŠ Mezi Školami\, Mezi školami 2322 Praha - Stodůlky
SUMMARY:PP-JKY-1-C: Orion B-SAVO
END:VEVENT
BEGIN:VEVENT
UID:37613337-3461-4064-b365-326136633331
DTSTAMP:20260425T132859Z
DESCRIPTION:3/3 SAVO - Meteor C 0:3 (-13\,-13\,-13)
DTSTART;TZID=Europe/Berlin:20211106T110000
DTEND;TZID=Europe/Berlin:20211106T130000
LOCATION:FZŠ Mezi Školami\, Mezi školami 2322 Praha - Stodůlky
SUMMARY:PP-JKY-2-C: SAVO-Meteor C
END:VEVENT
BEGIN:VEVENT
UID:63633965-3031-4236-a562-376563663134
DTSTAMP:20260425T132859Z
DESCRIPTION:1/1 Španielka - SAVO 3:0 (21\,23\,24)
DTSTART;TZID=Europe/Berlin:20211106T090000
DTEND;TZID=Europe/Berlin:20211106T110000
LOCATION:FZŠ Mezi Školami\, Mezi školami 2322 Praha - Stodůlky
SUMMARY:PP-JKY-2-C: Španielka-SAVO
END:VEVENT
BEGIN:VEVENT
UID:65323132-6135-4338-b765-353361663465
DTSTAMP:20260425T132859Z
DESCRIPTION:3/3 SAVO - Orion B 1:3 (15\,-19\,-19\,-24)
DTSTART;TZID=Europe/Berlin:20211127T110000
DTEND;TZID=Europe/Berlin:20211127T130000
LOCATION:Tělocvična ZŠ\, Španielova 1111 Praha - Řepy
SUMMARY:PP-JKY-3-C: SAVO-Orion B
END:VEVENT
BEGIN:VEVENT
UID:38623237-3536-4664-b764-376261616432
DTSTAMP:20260425T132859Z
DESCRIPTION:1/1 Španielka - SAVO 3:0 (26\,20\,14)
DTSTART;TZID=Europe/Berlin:20211127T090000
DTEND;TZID=Europe/Berlin:20211127T110000
LOCATION:Tělocvična ZŠ\, Španielova 1111 Praha - Řepy
SUMMARY:PP-JKY-3-C: Španielka-SAVO
END:VEVENT
BEGIN:VEVENT
UID:37666263-6661-4162-a333-303430663763
DTSTAMP:20260425T132859Z
DESCRIPTION:3/3 SAVO - Střešovice 0:3 (-15\,-11\,-22)
DTSTART;TZID=Europe/Berlin:20211218T110000
DTEND;TZID=Europe/Berlin:20211218T130000
LOCATION:FZŠ Mezi Školami\, Mezi školami 2322 Praha - Stodůlky
SUMMARY:PP-JKY-4-C: SAVO-Střešovice
END:VEVENT
BEGIN:VEVENT
UID:66653066-6664-4536-a237-613433626335
DTSTAMP:20260425T132859Z
DESCRIPTION:1/1 Orion B - SAVO 1:3 (19\,-23\,-20\,-22)
DTSTART;TZID=Europe/Berlin:20211218T090000
DTEND;TZID=Europe/Berlin:20211218T110000
LOCATION:FZŠ Mezi Školami\, Mezi školami 2322 Praha - Stodůlky
SUMMARY:PP-JKY-4-C: Orion B-SAVO
END:VEVENT
BEGIN:VEVENT
UID:36346165-6136-4761-a665-386235383432
DTSTAMP:20260425T132859Z
DESCRIPTION:1/1 SAVO - Orion B 1:3 (-13\,24\,-13\,-14)
DTSTART;TZID=Europe/Berlin:20220212T090000
DTEND;TZID=Europe/Berlin:20220212T110000
LOCATION:Tělocvična ZŠ Na Šutce\, Na Šutce 440 Praha - Troja
SUMMARY:PP-JKY-5-C: SAVO-Orion B
END:VEVENT
BEGIN:VEVENT
UID:37643630-6435-4639-a362-313838303232
DTSTAMP:20260425T132859Z
DESCRIPTION:2/2 Kometa B - SAVO 3:0 (14\,15\,13)
DTSTART;TZID=Europe/Berlin:20220212T100000
DTEND;TZID=Europe/Berlin:20220212T120000
LOCATION:Tělocvična ZŠ Na Šutce\, Na Šutce 440 Praha - Troja
SUMMARY:PP-JKY-5-C: Kometa B-SAVO
END:VEVENT
BEGIN:VEVENT
UID:31386435-6663-4262-a663-613939623564
DTSTAMP:20260425T132859Z
DESCRIPTION:3/3 SAVO - Španielka 0:3 (-22\,-16\,-17)
DTSTART;TZID=Europe/Berlin:20220402T110000
DTEND;TZID=Europe/Berlin:20220402T130000
LOCATION:ZŠ Dolní Břežany\, Na Vršku 290 Dolní Břežany
SUMMARY:PP-JKY-6-C: SAVO-Španielka
END:VEVENT
BEGIN:VEVENT
UID:34373738-6263-4436-b036-303562326633
DTSTAMP:20260425T132859Z
DESCRIPTION:1/1 Orion B - SAVO 3:0 (17\,15\,21)
DTSTART;TZID=Europe/Berlin:20220402T090000
DTEND;TZID=Europe/Berlin:20220402T110000
LOCATION:ZŠ Dolní Břežany\, Na Vršku 290 Dolní Břežany
SUMMARY:PP-JKY-6-C: Orion B-SAVO
END:VEVENT
END:VCALENDAR
