BEGIN:VCALENDAR
VERSION:2.0
PRODID:-//SK Slavia Praha76843//NONSGML kigkonsult.se iCalcreator 2.41.80//
CALSCALE:GREGORIAN
UID:31376630-3930-4235-b761-643061313765
BEGIN:VEVENT
UID:37303564-6631-4839-a666-666331636433
DTSTAMP:20260423T070850Z
DESCRIPTION:3/3 Slavia - Praha 0:2 (-10\,-12)
DTSTART;TZID=Europe/Berlin:20211009T110000
DTEND;TZID=Europe/Berlin:20211009T130000
LOCATION:ZŠ Žernosecká\, Žernosecká 1597 Praha - Kobylisy
SUMMARY:PP-JKY-1-A: Slavia-Praha
END:VEVENT
BEGIN:VEVENT
UID:62343162-3431-4639-b333-383033613933
DTSTAMP:20260423T070850Z
DESCRIPTION:1/1 Kometa B - Slavia 1:2 (16\,-22\,-11)
DTSTART;TZID=Europe/Berlin:20211009T090000
DTEND;TZID=Europe/Berlin:20211009T110000
LOCATION:ZŠ Žernosecká\, Žernosecká 1597 Praha - Kobylisy
SUMMARY:PP-JKY-1-A: Kometa B-Slavia
END:VEVENT
BEGIN:VEVENT
UID:63323634-6264-4235-b761-323066363637
DTSTAMP:20260423T070850Z
DESCRIPTION:5/5 HAMR - Slavia 2:0 (11\,11)
DTSTART;TZID=Europe/Berlin:20211009T130000
DTEND;TZID=Europe/Berlin:20211009T150000
LOCATION:ZŠ Žernosecká\, Žernosecká 1597 Praha - Kobylisy
SUMMARY:PP-JKY-1-A: HAMR-Slavia
END:VEVENT
BEGIN:VEVENT
UID:37393332-3638-4664-b865-633438323162
DTSTAMP:20260423T070850Z
DESCRIPTION:6/6 Slavia - HAMR 0:2 (-11\,-17)
DTSTART;TZID=Europe/Berlin:20211106T140000
DTEND;TZID=Europe/Berlin:20211106T160000
LOCATION:ZŠ Žernosecká\, Žernosecká 1597 Praha - Kobylisy
SUMMARY:PP-JKY-2-A: Slavia-HAMR
END:VEVENT
BEGIN:VEVENT
UID:37393135-6664-4131-a338-343463356161
DTSTAMP:20260423T070850Z
DESCRIPTION:2/2 Praha - Slavia 2:0 (13\,9)
DTSTART;TZID=Europe/Berlin:20211106T100000
DTEND;TZID=Europe/Berlin:20211106T120000
LOCATION:ZŠ Žernosecká\, Žernosecká 1597 Praha - Kobylisy
SUMMARY:PP-JKY-2-A: Praha-Slavia
END:VEVENT
BEGIN:VEVENT
UID:36636336-6337-4539-b037-656630356233
DTSTAMP:20260423T070850Z
DESCRIPTION:3/3 Mikulova B - Slavia 2:1 (17\,-22\,12)
DTSTART;TZID=Europe/Berlin:20211106T110000
DTEND;TZID=Europe/Berlin:20211106T130000
LOCATION:ZŠ Žernosecká\, Žernosecká 1597 Praha - Kobylisy
SUMMARY:PP-JKY-2-A: Mikulova B-Slavia
END:VEVENT
BEGIN:VEVENT
UID:33623933-3536-4164-b230-363130323964
DTSTAMP:20260423T070850Z
DESCRIPTION:1/1 Slavia - Meteor C 2:0 (22\,23)
DTSTART;TZID=Europe/Berlin:20211127T090000
DTEND;TZID=Europe/Berlin:20211127T110000
LOCATION:ZŠ Glowackého\, Glowackého 555 Praha - Troja
SUMMARY:PP-JKY-3-B: Slavia-Meteor C
END:VEVENT
BEGIN:VEVENT
UID:64626434-3764-4134-b337-396364303334
DTSTAMP:20260423T070850Z
DESCRIPTION:4/4 Slavia - Kometa B 2:0 (25\,25)
DTSTART;TZID=Europe/Berlin:20211127T120000
DTEND;TZID=Europe/Berlin:20211127T140000
LOCATION:ZŠ Glowackého\, Glowackého 555 Praha - Troja
SUMMARY:PP-JKY-3-B: Slavia-Kometa B
END:VEVENT
BEGIN:VEVENT
UID:37373239-3835-4166-a364-613730396462
DTSTAMP:20260423T070850Z
DESCRIPTION:6/6 Střešovice - Slavia 0:2 (-11\,-19)
DTSTART;TZID=Europe/Berlin:20211127T140000
DTEND;TZID=Europe/Berlin:20211127T160000
LOCATION:ZŠ Glowackého\, Glowackého 555 Praha - Troja
SUMMARY:PP-JKY-3-B: Střešovice-Slavia
END:VEVENT
BEGIN:VEVENT
UID:32396261-3634-4532-a262-316637333437
DTSTAMP:20260423T070850Z
DESCRIPTION:3/3 Slavia - Meteor B 0:2 (-22\,-18)
DTSTART;TZID=Europe/Berlin:20211218T110000
DTEND;TZID=Europe/Berlin:20211218T130000
LOCATION:FZŠ Mezi Školami\, Mezi školami 2322 Praha - Stodůlky
SUMMARY:PP-JKY-4-A: Slavia-Meteor B
END:VEVENT
BEGIN:VEVENT
UID:34333036-6131-4233-b166-356664303134
DTSTAMP:20260423T070850Z
DESCRIPTION:1/1 Praha - Slavia 2:0 (12\,14)
DTSTART;TZID=Europe/Berlin:20211218T090000
DTEND;TZID=Europe/Berlin:20211218T110000
LOCATION:FZŠ Mezi Školami\, Mezi školami 2322 Praha - Stodůlky
SUMMARY:PP-JKY-4-A: Praha-Slavia
END:VEVENT
BEGIN:VEVENT
UID:66623561-3137-4263-b761-343966303431
DTSTAMP:20260423T070850Z
DESCRIPTION:5/5 HAMR - Slavia 2:0 (13\,10)
DTSTART;TZID=Europe/Berlin:20211218T130000
DTEND;TZID=Europe/Berlin:20211218T150000
LOCATION:FZŠ Mezi Školami\, Mezi školami 2322 Praha - Stodůlky
SUMMARY:PP-JKY-4-A: HAMR-Slavia
END:VEVENT
BEGIN:VEVENT
UID:61363061-3532-4930-b130-306632303639
DTSTAMP:20260423T070850Z
DESCRIPTION:1/1 Slavia - Střešovice 0:2 (-27\,-20)
DTSTART;TZID=Europe/Berlin:20220212T090000
DTEND;TZID=Europe/Berlin:20220212T110000
LOCATION:Sportovní hala Slavia Praha\, Vladivostocká 1460 Praha - Vršovice
SUMMARY:PP-JKY-5-B: Slavia-Střešovice
END:VEVENT
BEGIN:VEVENT
UID:33346438-6666-4437-b331-353561623661
DTSTAMP:20260423T070850Z
DESCRIPTION:4/4 Slavia - Španielka 2:0 (18\,16)
DTSTART;TZID=Europe/Berlin:20220212T120000
DTEND;TZID=Europe/Berlin:20220212T140000
LOCATION:Sportovní hala Slavia Praha\, Vladivostocká 1460 Praha - Vršovice
SUMMARY:PP-JKY-5-B: Slavia-Španielka
END:VEVENT
BEGIN:VEVENT
UID:61616361-3130-4064-b363-346439323839
DTSTAMP:20260423T070850Z
DESCRIPTION:6/6 Meteor C - Slavia 0:2 (-23\,-18)
DTSTART;TZID=Europe/Berlin:20220212T140000
DTEND;TZID=Europe/Berlin:20220212T160000
LOCATION:Sportovní hala Slavia Praha\, Vladivostocká 1460 Praha - Vršovice
SUMMARY:PP-JKY-5-B: Meteor C-Slavia
END:VEVENT
BEGIN:VEVENT
UID:61363835-6434-4331-a663-383036363361
DTSTAMP:20260423T070850Z
DESCRIPTION:2/2 Slavia - Meteor C 1:2 (-21\,23\,-11)
DTSTART;TZID=Europe/Berlin:20220402T100000
DTEND;TZID=Europe/Berlin:20220402T120000
LOCATION:ZŠ Dolní Břežany\, Na Vršku 290 Dolní Břežany
SUMMARY:PP-JKY-6-B: Slavia-Meteor C
END:VEVENT
BEGIN:VEVENT
UID:32633730-3437-4939-a461-633931306465
DTSTAMP:20260423T070850Z
DESCRIPTION:5/5 Slavia - Kometa B 1:2 (23\,-20\,-9)
DTSTART;TZID=Europe/Berlin:20220402T130000
DTEND;TZID=Europe/Berlin:20220402T150000
LOCATION:ZŠ Dolní Břežany\, Na Vršku 290 Dolní Břežany
SUMMARY:PP-JKY-6-B: Slavia-Kometa B
END:VEVENT
BEGIN:VEVENT
UID:35633062-3061-4863-b662-383130366235
DTSTAMP:20260423T070850Z
DESCRIPTION:4/4 Mikulova B - Slavia 2:0 (14\,19)
DTSTART;TZID=Europe/Berlin:20220402T120000
DTEND;TZID=Europe/Berlin:20220402T140000
LOCATION:ZŠ Dolní Břežany\, Na Vršku 290 Dolní Břežany
SUMMARY:PP-JKY-6-B: Mikulova B-Slavia
END:VEVENT
END:VCALENDAR
