BEGIN:VCALENDAR
VERSION:2.0
PRODID:-//Studio Sport z.s.76890//NONSGML kigkonsult.se iCalcreator 2.41.80//
CALSCALE:GREGORIAN
UID:38623830-3362-4363-b133-346136363461
BEGIN:VEVENT
UID:33306530-3536-4261-b365-363361343961
DTSTAMP:20260422T053802Z
DESCRIPTION:1/3 Studio Sport - Mikulova C 2:1 (8\,-24\,12)
DTSTART;TZID=Europe/Berlin:20211003T090000
DTEND;TZID=Europe/Berlin:20211003T110000
LOCATION:Sportovní hala Slavia Praha\, Vladivostocká 1460 Praha - Vršovice
SUMMARY:PP-ZKY-1-D: Studio Sport-Mikulova C
END:VEVENT
BEGIN:VEVENT
UID:61633964-6363-4264-b064-643664313630
DTSTAMP:20260422T053802Z
DESCRIPTION:1/1 Slavia A - Studio Sport 2:1 (16\,-31\,11)
DTSTART;TZID=Europe/Berlin:20211003T090000
DTEND;TZID=Europe/Berlin:20211003T110000
LOCATION:Sportovní hala Slavia Praha\, Vladivostocká 1460 Praha - Vršovice
SUMMARY:PP-ZKY-1-D: Slavia A-Studio Sport
END:VEVENT
BEGIN:VEVENT
UID:65393238-3837-4965-b235-353538663236
DTSTAMP:20260422T053802Z
DESCRIPTION:1/5 Španielka - Studio Sport 1:2 (17\,-21\,-13)
DTSTART;TZID=Europe/Berlin:20211003T090000
DTEND;TZID=Europe/Berlin:20211003T110000
LOCATION:Sportovní hala Slavia Praha\, Vladivostocká 1460 Praha - Vršovice
SUMMARY:PP-ZKY-1-D: Španielka-Studio Sport
END:VEVENT
BEGIN:VEVENT
UID:62366139-3236-4137-b030-343166306662
DTSTAMP:20260422T053802Z
DESCRIPTION:2/2 Studio Sport - Španielka 0:2 (-15\,-9)
DTSTART;TZID=Europe/Berlin:20211114T100000
DTEND;TZID=Europe/Berlin:20211114T120000
LOCATION:Tělocvična ZŠ U Obory\, Vachkova 630 Praha - Uhříněves
SUMMARY:PP-ZKY-2-D: Studio Sport-Španielka
END:VEVENT
BEGIN:VEVENT
UID:31613631-3130-4438-a361-353566346564
DTSTAMP:20260422T053802Z
DESCRIPTION:5/5 Studio Sport - Lvi B 2:0 (11\,9)
DTSTART;TZID=Europe/Berlin:20211114T130000
DTEND;TZID=Europe/Berlin:20211114T150000
LOCATION:Tělocvična ZŠ U Obory\, Vachkova 630 Praha - Uhříněves
SUMMARY:PP-ZKY-2-D: Studio Sport-Lvi B
END:VEVENT
BEGIN:VEVENT
UID:63363733-3530-4036-a635-373833303332
DTSTAMP:20260422T053802Z
DESCRIPTION:4/4 H. Počernice A - Studio Sport 2:0 (7\,13)
DTSTART;TZID=Europe/Berlin:20211114T120000
DTEND;TZID=Europe/Berlin:20211114T140000
LOCATION:Tělocvična ZŠ U Obory\, Vachkova 630 Praha - Uhříněves
SUMMARY:PP-ZKY-2-D: H. Počernice A-Studio Sport
END:VEVENT
BEGIN:VEVENT
UID:37373331-6232-4139-a530-333635353330
DTSTAMP:20260422T053802Z
DESCRIPTION:6/6 Studio Sport - Slavia A 0:2 (-16\,-9)
DTSTART;TZID=Europe/Berlin:20211212T140000
DTEND;TZID=Europe/Berlin:20211212T160000
LOCATION:SKŠ ZŠ Mikulova Praha\, Mikulova 1594 Praha - Chodov
SUMMARY:PP-ZKY-3-D: Studio Sport-Slavia A
END:VEVENT
BEGIN:VEVENT
UID:64636666-3832-4363-b464-386562623937
DTSTAMP:20260422T053802Z
DESCRIPTION:2/2 Španielka - Studio Sport 2:0 (7\,8)
DTSTART;TZID=Europe/Berlin:20211212T100000
DTEND;TZID=Europe/Berlin:20211212T120000
LOCATION:SKŠ ZŠ Mikulova Praha\, Mikulova 1594 Praha - Chodov
SUMMARY:PP-ZKY-3-D: Španielka-Studio Sport
END:VEVENT
BEGIN:VEVENT
UID:36343861-3837-4465-b735-333032616636
DTSTAMP:20260422T053802Z
DESCRIPTION:3/3 Mikulova C - Studio Sport 1:2 (22\,-14\,-13)
DTSTART;TZID=Europe/Berlin:20211212T110000
DTEND;TZID=Europe/Berlin:20211212T130000
LOCATION:SKŠ ZŠ Mikulova Praha\, Mikulova 1594 Praha - Chodov
SUMMARY:PP-ZKY-3-D: Mikulova C-Studio Sport
END:VEVENT
BEGIN:VEVENT
UID:32653534-6535-4131-a635-353438353566
DTSTAMP:20260422T053802Z
DESCRIPTION:6/6 Studio Sport - Braník 0:2 (-19\,-8)
DTSTART;TZID=Europe/Berlin:20220109T140000
DTEND;TZID=Europe/Berlin:20220109T160000
LOCATION:Sportovní hala Slavia Praha\, Vladivostocká 1460 Praha - Vršovice
SUMMARY:PP-ZKY-4-D: Studio Sport-Braník
END:VEVENT
BEGIN:VEVENT
UID:31303261-3938-4263-b836-636633393938
DTSTAMP:20260422T053802Z
DESCRIPTION:2/2 Slavia A - Studio Sport 2:0 (6\,8)
DTSTART;TZID=Europe/Berlin:20220109T100000
DTEND;TZID=Europe/Berlin:20220109T120000
LOCATION:Sportovní hala Slavia Praha\, Vladivostocká 1460 Praha - Vršovice
SUMMARY:PP-ZKY-4-D: Slavia A-Studio Sport
END:VEVENT
BEGIN:VEVENT
UID:35353730-3665-4938-a561-626336643837
DTSTAMP:20260422T053802Z
DESCRIPTION:3/3 Orion B - Studio Sport 2:0 (17\,17)
DTSTART;TZID=Europe/Berlin:20220109T110000
DTEND;TZID=Europe/Berlin:20220109T130000
LOCATION:Sportovní hala Slavia Praha\, Vladivostocká 1460 Praha - Vršovice
SUMMARY:PP-ZKY-4-D: Orion B-Studio Sport
END:VEVENT
BEGIN:VEVENT
UID:64306666-3136-4561-a232-313138343938
DTSTAMP:20260422T053802Z
DESCRIPTION:1/1 Studio Sport - SAVO
DTSTART;TZID=Europe/Berlin:20220130T090000
DTEND;TZID=Europe/Berlin:20220130T110000
LOCATION:MZŠ Polesná 1690\, Praha 21\, Polesná 1690 Praha - Újezd nad Lesy
SUMMARY:PP-ZKY-5-E: Studio Sport-SAVO
END:VEVENT
BEGIN:VEVENT
UID:61613534-6539-4133-a238-326662353736
DTSTAMP:20260422T053802Z
DESCRIPTION:4/4 Studio Sport - Slavia B
DTSTART;TZID=Europe/Berlin:20220130T120000
DTEND;TZID=Europe/Berlin:20220130T140000
LOCATION:MZŠ Polesná 1690\, Praha 21\, Polesná 1690 Praha - Újezd nad Lesy
SUMMARY:PP-ZKY-5-E: Studio Sport-Slavia B
END:VEVENT
BEGIN:VEVENT
UID:38653663-3837-4530-a664-366538343761
DTSTAMP:20260422T053802Z
DESCRIPTION:6/6 JOKY - Studio Sport
DTSTART;TZID=Europe/Berlin:20220130T140000
DTEND;TZID=Europe/Berlin:20220130T160000
LOCATION:MZŠ Polesná 1690\, Praha 21\, Polesná 1690 Praha - Újezd nad Lesy
SUMMARY:PP-ZKY-5-E: JOKY-Studio Sport
END:VEVENT
BEGIN:VEVENT
UID:64353263-6135-4139-b661-313837646238
DTSTAMP:20260422T053802Z
DESCRIPTION:1/1 Studio Sport - SAVO 1:2 (-10\,18\,-6)
DTSTART;TZID=Europe/Berlin:20220227T090000
DTEND;TZID=Europe/Berlin:20220227T110000
LOCATION:MZŠ Polesná 1690\, Praha 21\, Polesná 1690 Praha - Újezd nad Lesy
SUMMARY:PP-ZKY-6-E: Studio Sport-SAVO
END:VEVENT
BEGIN:VEVENT
UID:31626165-6431-4239-a436-666231653736
DTSTAMP:20260422T053802Z
DESCRIPTION:4/4 Studio Sport - Slavia B 1:2 (-21\,20\,-12)
DTSTART;TZID=Europe/Berlin:20220227T120000
DTEND;TZID=Europe/Berlin:20220227T140000
LOCATION:MZŠ Polesná 1690\, Praha 21\, Polesná 1690 Praha - Újezd nad Lesy
SUMMARY:PP-ZKY-6-E: Studio Sport-Slavia B
END:VEVENT
BEGIN:VEVENT
UID:37373964-6438-4934-b363-376534343730
DTSTAMP:20260422T053802Z
DESCRIPTION:6/6 JOKY - Studio Sport 2:0 (15\,14)
DTSTART;TZID=Europe/Berlin:20220227T140000
DTEND;TZID=Europe/Berlin:20220227T160000
LOCATION:MZŠ Polesná 1690\, Praha 21\, Polesná 1690 Praha - Újezd nad Lesy
SUMMARY:PP-ZKY-6-E: JOKY-Studio Sport
END:VEVENT
BEGIN:VEVENT
UID:35303438-6661-4664-a564-653565663536
DTSTAMP:20260422T053802Z
DESCRIPTION:2/3 Studio Sport - Lvi B 1:2 (20\,-20\,-7)
DTSTART;TZID=Europe/Berlin:20220410T100000
DTEND;TZID=Europe/Berlin:20220410T120000
LOCATION:FZŠ Brdičkova\, Brdičkova 1878 Praha - Stodůlky
SUMMARY:PP-ZKY-7-F: Studio Sport-Lvi B
END:VEVENT
BEGIN:VEVENT
UID:62666634-6535-4938-b462-353136653666
DTSTAMP:20260422T053802Z
DESCRIPTION:3/5 Studio Sport - Kometa C 2:0 (19\,22)
DTSTART;TZID=Europe/Berlin:20220410T110000
DTEND;TZID=Europe/Berlin:20220410T130000
LOCATION:FZŠ Brdičkova\, Brdičkova 1878 Praha - Stodůlky
SUMMARY:PP-ZKY-7-F: Studio Sport-Kometa C
END:VEVENT
BEGIN:VEVENT
UID:32363832-3563-4263-a533-323764633439
DTSTAMP:20260422T053802Z
DESCRIPTION:4/8 Mikulova D - Studio Sport 1:2 (18\,-14\,-6)
DTSTART;TZID=Europe/Berlin:20220410T120000
DTEND;TZID=Europe/Berlin:20220410T140000
LOCATION:FZŠ Brdičkova\, Brdičkova 1878 Praha - Stodůlky
SUMMARY:PP-ZKY-7-F: Mikulova D-Studio Sport
END:VEVENT
BEGIN:VEVENT
UID:36356233-3732-4261-b039-656438313064
DTSTAMP:20260422T053802Z
DESCRIPTION:5/10 Mikulova E - Studio Sport 1:2 (-8\,22\,-6)
DTSTART;TZID=Europe/Berlin:20220410T130000
DTEND;TZID=Europe/Berlin:20220410T150000
LOCATION:FZŠ Brdičkova\, Brdičkova 1878 Praha - Stodůlky
SUMMARY:PP-ZKY-7-F: Mikulova E-Studio Sport
END:VEVENT
END:VCALENDAR
