BEGIN:VCALENDAR
VERSION:2.0
PRODID:-//TJ Orion Praha A76894//NONSGML kigkonsult.se iCalcreator 2.41.80//
CALSCALE:GREGORIAN
UID:61386663-3234-4833-a462-623838363565
BEGIN:VEVENT
UID:65313164-3333-4166-b364-626233366131
DTSTAMP:20260421T215113Z
DESCRIPTION:1/1 Orion A - Volejbal Ústí/L. 2:0 (16\,21)
DTSTART;TZID=Europe/Berlin:20210918T103000
DTEND;TZID=Europe/Berlin:20210918T123000
LOCATION:Dolní Břežany Na Vršku 290
SUMMARY:CP-ZKY-A: Orion A-Volejbal Ústí/L.
END:VEVENT
BEGIN:VEVENT
UID:64303137-3666-4665-b838-376430326337
DTSTAMP:20260421T215113Z
DESCRIPTION:2/4 Orion A - Benátky nad Jizerou 2:0 (19\,9)
DTSTART;TZID=Europe/Berlin:20210918T114000
DTEND;TZID=Europe/Berlin:20210918T134000
LOCATION:Dolní Břežany Na Vršku 290
SUMMARY:CP-ZKY-A: Orion A-Benátky nad Jizerou
END:VEVENT
BEGIN:VEVENT
UID:65636164-6333-4632-b931-303062663932
DTSTAMP:20260421T215113Z
DESCRIPTION:4/10 Orion A - Mikulova B 2:1 (-24\,17\,6)
DTSTART;TZID=Europe/Berlin:20210918T140000
DTEND;TZID=Europe/Berlin:20210918T160000
LOCATION:Dolní Břežany Na Vršku 290
SUMMARY:CP-ZKY-A: Orion A-Mikulova B
END:VEVENT
BEGIN:VEVENT
UID:61376363-3338-4533-a535-343066386232
DTSTAMP:20260421T215113Z
DESCRIPTION:5/13 Orion A - S V B C 2:0 (14\,17)
DTSTART;TZID=Europe/Berlin:20210918T151000
DTEND;TZID=Europe/Berlin:20210918T171000
LOCATION:Dolní Břežany Na Vršku 290
SUMMARY:CP-ZKY-A: Orion A-S V B C
END:VEVENT
BEGIN:VEVENT
UID:61316235-3833-4866-b435-613465306232
DTSTAMP:20260421T215113Z
DESCRIPTION:9/23 Orion A - Hlincovka 2:1 (17\,-21\,7)
DTSTART;TZID=Europe/Berlin:20210919T110000
DTEND;TZID=Europe/Berlin:20210919T130000
LOCATION:Dolní Břežany Na Vršku 290
SUMMARY:CP-ZKY-A: Orion A-Hlincovka
END:VEVENT
BEGIN:VEVENT
UID:38386430-3563-4463-a265-356339613163
DTSTAMP:20260421T215113Z
DESCRIPTION:10/26 Orion A - BVC Chodov 2:0 (20\,19)
DTSTART;TZID=Europe/Berlin:20210919T120000
DTEND;TZID=Europe/Berlin:20210919T140000
LOCATION:Dolní Břežany Na Vršku 290
SUMMARY:CP-ZKY-A: Orion A-BVC Chodov
END:VEVENT
BEGIN:VEVENT
UID:39333537-3262-4566-a162-666235353437
DTSTAMP:20260421T215113Z
DESCRIPTION:8/20 Český Krumlov - Orion A 0:2 (-20\,-25)
DTSTART;TZID=Europe/Berlin:20210919T100000
DTEND;TZID=Europe/Berlin:20210919T120000
LOCATION:ZŠ Za Nádražím Český Krumlov\, Za Nádražím 222 Český Krumlov - Nád
 ražní Předměstí
SUMMARY:CP-ZKY-A: Český Krumlov-Orion A
END:VEVENT
BEGIN:VEVENT
UID:32383261-6231-4361-b936-363233383233
DTSTAMP:20260421T215113Z
DESCRIPTION:1/1 Orion A - Olymp 2:0 (21\,19)
DTSTART;TZID=Europe/Berlin:20211003T090000
DTEND;TZID=Europe/Berlin:20211003T110000
LOCATION:SKŠ ZŠ Mikulova Praha\, Mikulova 1594 Praha - Chodov
SUMMARY:PP-ZKY-1-A: Orion A-Olymp
END:VEVENT
BEGIN:VEVENT
UID:66383866-6533-4162-b162-353336383830
DTSTAMP:20260421T215113Z
DESCRIPTION:1/4 Orion A - Meteor 2:1 (20\,-25\,12)
DTSTART;TZID=Europe/Berlin:20211003T090000
DTEND;TZID=Europe/Berlin:20211003T110000
LOCATION:SKŠ ZŠ Mikulova Praha\, Mikulova 1594 Praha - Chodov
SUMMARY:PP-ZKY-1-A: Orion A-Meteor
END:VEVENT
BEGIN:VEVENT
UID:31643566-6134-4139-a634-306664646238
DTSTAMP:20260421T215113Z
DESCRIPTION:1/6 Mikulova - Orion A 2:1 (-17\,22\,12)
DTSTART;TZID=Europe/Berlin:20211003T090000
DTEND;TZID=Europe/Berlin:20211003T110000
LOCATION:SKŠ ZŠ Mikulova Praha\, Mikulova 1594 Praha - Chodov
SUMMARY:PP-ZKY-1-A: Mikulova-Orion A
END:VEVENT
BEGIN:VEVENT
UID:66636362-3039-4038-b766-303638613761
DTSTAMP:20260421T215113Z
DESCRIPTION:2/2 Orion A - Meteor 0:2 (-23\,-11)
DTSTART;TZID=Europe/Berlin:20211114T100000
DTEND;TZID=Europe/Berlin:20211114T120000
LOCATION:ZŠ Dolní Břežany\, Na Vršku 290 Dolní Břežany
SUMMARY:PP-ZKY-2-A: Orion A-Meteor
END:VEVENT
BEGIN:VEVENT
UID:39653739-3166-4565-b836-383331663961
DTSTAMP:20260421T215113Z
DESCRIPTION:5/5 Orion A - Kometa 2:1 (29\,-14\,6)
DTSTART;TZID=Europe/Berlin:20211114T130000
DTEND;TZID=Europe/Berlin:20211114T150000
LOCATION:ZŠ Dolní Břežany\, Na Vršku 290 Dolní Břežany
SUMMARY:PP-ZKY-2-A: Orion A-Kometa
END:VEVENT
BEGIN:VEVENT
UID:34316338-3062-4665-a166-323266646438
DTSTAMP:20260421T215113Z
DESCRIPTION:4/4 Mikulova - Orion A 2:0 (18\,20)
DTSTART;TZID=Europe/Berlin:20211114T120000
DTEND;TZID=Europe/Berlin:20211114T140000
LOCATION:ZŠ Dolní Břežany\, Na Vršku 290 Dolní Břežany
SUMMARY:PP-ZKY-2-A: Mikulova-Orion A
END:VEVENT
BEGIN:VEVENT
UID:64306236-3165-4665-a564-393062656239
DTSTAMP:20260421T215113Z
DESCRIPTION:1/1 Orion A - Mikulova B 2:0 (19\,11)
DTSTART;TZID=Europe/Berlin:20211212T090000
DTEND;TZID=Europe/Berlin:20211212T110000
LOCATION:ZŠ Dolní Břežany\, Na Vršku 290 Dolní Břežany
SUMMARY:PP-ZKY-3-B: Orion A-Mikulova B
END:VEVENT
BEGIN:VEVENT
UID:31363938-3835-4138-a564-316139353433
DTSTAMP:20260421T215113Z
DESCRIPTION:4/4 Orion A - Olymp 0:2 (-17\,-16)
DTSTART;TZID=Europe/Berlin:20211212T120000
DTEND;TZID=Europe/Berlin:20211212T140000
LOCATION:ZŠ Dolní Břežany\, Na Vršku 290 Dolní Břežany
SUMMARY:PP-ZKY-3-B: Orion A-Olymp
END:VEVENT
BEGIN:VEVENT
UID:35613733-3330-4336-a636-313433363036
DTSTAMP:20260421T215113Z
DESCRIPTION:6/6 Dansport - Orion A 1:2 (-15\,23\,-12)
DTSTART;TZID=Europe/Berlin:20211212T140000
DTEND;TZID=Europe/Berlin:20211212T160000
LOCATION:ZŠ Dolní Břežany\, Na Vršku 290 Dolní Břežany
SUMMARY:PP-ZKY-3-B: Dansport-Orion A
END:VEVENT
BEGIN:VEVENT
UID:61663433-6132-4730-b738-613766643062
DTSTAMP:20260421T215113Z
DESCRIPTION:6/6 Orion A - Meteor 0:2 (-23\,-24)
DTSTART;TZID=Europe/Berlin:20220109T140000
DTEND;TZID=Europe/Berlin:20220109T160000
LOCATION:ZŠ Žernosecká\, Žernosecká 1597 Praha - Kobylisy
SUMMARY:PP-ZKY-4-B: Orion A-Meteor
END:VEVENT
BEGIN:VEVENT
UID:64653765-3538-4565-b930-383861636463
DTSTAMP:20260421T215113Z
DESCRIPTION:2/2 Dansport - Orion A 1:2 (-16\,19\,-16)
DTSTART;TZID=Europe/Berlin:20220109T100000
DTEND;TZID=Europe/Berlin:20220109T120000
LOCATION:ZŠ Žernosecká\, Žernosecká 1597 Praha - Kobylisy
SUMMARY:PP-ZKY-4-B: Dansport-Orion A
END:VEVENT
BEGIN:VEVENT
UID:36373866-3163-4165-b435-356162303061
DTSTAMP:20260421T215113Z
DESCRIPTION:3/3 H. Počernice A - Orion A 0:2 (-14\,-22)
DTSTART;TZID=Europe/Berlin:20220109T110000
DTEND;TZID=Europe/Berlin:20220109T130000
LOCATION:ZŠ Žernosecká\, Žernosecká 1597 Praha - Kobylisy
SUMMARY:PP-ZKY-4-B: H. Počernice A-Orion A
END:VEVENT
BEGIN:VEVENT
UID:64666637-6538-4630-a461-373031366564
DTSTAMP:20260421T215113Z
DESCRIPTION:2/2 Orion A - Dansport
DTSTART;TZID=Europe/Berlin:20220130T100000
DTEND;TZID=Europe/Berlin:20220130T120000
LOCATION:ZŠ Dolní Břežany\, Na Vršku 290 Dolní Břežany
SUMMARY:PP-ZKY-5-B: Orion A-Dansport
END:VEVENT
BEGIN:VEVENT
UID:34373038-3735-4333-b030-373162613965
DTSTAMP:20260421T215113Z
DESCRIPTION:5/5 Orion A - Mikulova B
DTSTART;TZID=Europe/Berlin:20220130T130000
DTEND;TZID=Europe/Berlin:20220130T150000
LOCATION:ZŠ Dolní Břežany\, Na Vršku 290 Dolní Břežany
SUMMARY:PP-ZKY-5-B: Orion A-Mikulova B
END:VEVENT
BEGIN:VEVENT
UID:64306663-3733-4962-b665-313936383030
DTSTAMP:20260421T215113Z
DESCRIPTION:4/4 Kometa B - Orion A
DTSTART;TZID=Europe/Berlin:20220130T120000
DTEND;TZID=Europe/Berlin:20220130T140000
LOCATION:ZŠ Dolní Břežany\, Na Vršku 290 Dolní Břežany
SUMMARY:PP-ZKY-5-B: Kometa B-Orion A
END:VEVENT
BEGIN:VEVENT
UID:66316630-6164-4163-a334-616332346164
DTSTAMP:20260421T215113Z
DESCRIPTION:2/2 Orion A - Dansport 2:0 (23\,19)
DTSTART;TZID=Europe/Berlin:20220227T100000
DTEND;TZID=Europe/Berlin:20220227T120000
LOCATION:ZŠ Dolní Břežany\, Na Vršku 290 Dolní Břežany
SUMMARY:PP-ZKY-6-B: Orion A-Dansport
END:VEVENT
BEGIN:VEVENT
UID:61663838-3338-4932-b432-646236346162
DTSTAMP:20260421T215113Z
DESCRIPTION:5/5 Orion A - Mikulova B 2:0 (7\,17)
DTSTART;TZID=Europe/Berlin:20220227T130000
DTEND;TZID=Europe/Berlin:20220227T150000
LOCATION:ZŠ Dolní Břežany\, Na Vršku 290 Dolní Břežany
SUMMARY:PP-ZKY-6-B: Orion A-Mikulova B
END:VEVENT
BEGIN:VEVENT
UID:66313532-3532-4338-b635-373961653763
DTSTAMP:20260421T215113Z
DESCRIPTION:4/4 Kometa B - Orion A 0:2 (-11\,-15)
DTSTART;TZID=Europe/Berlin:20220227T120000
DTEND;TZID=Europe/Berlin:20220227T140000
LOCATION:ZŠ Dolní Břežany\, Na Vršku 290 Dolní Břežany
SUMMARY:PP-ZKY-6-B: Kometa B-Orion A
END:VEVENT
BEGIN:VEVENT
UID:39643361-3430-4435-b239-303337343961
DTSTAMP:20260421T215113Z
DESCRIPTION:3/3 Orion A - Kometa 2:1 (-18\,22\,7)
DTSTART;TZID=Europe/Berlin:20220410T110000
DTEND;TZID=Europe/Berlin:20220410T130000
LOCATION:Tělocvična ZŠ Na Šutce\, Na Šutce 440 Praha - Troja
SUMMARY:PP-ZKY-7-A: Orion A-Kometa
END:VEVENT
BEGIN:VEVENT
UID:33653161-3435-4239-b462-383533363534
DTSTAMP:20260421T215113Z
DESCRIPTION:1/1 Mikulova - Orion A 0:2 (-22\,-21)
DTSTART;TZID=Europe/Berlin:20220410T090000
DTEND;TZID=Europe/Berlin:20220410T110000
LOCATION:Tělocvična ZŠ Na Šutce\, Na Šutce 440 Praha - Troja
SUMMARY:PP-ZKY-7-A: Mikulova-Orion A
END:VEVENT
BEGIN:VEVENT
UID:63393464-3862-4530-b134-663235313530
DTSTAMP:20260421T215113Z
DESCRIPTION:5/5 Olymp - Orion A 1:2 (-16\,22\,-11)
DTSTART;TZID=Europe/Berlin:20220410T130000
DTEND;TZID=Europe/Berlin:20220410T150000
LOCATION:Tělocvična ZŠ Na Šutce\, Na Šutce 440 Praha - Troja
SUMMARY:PP-ZKY-7-A: Olymp-Orion A
END:VEVENT
BEGIN:VEVENT
UID:30343263-3665-4262-a432-663566653130
DTSTAMP:20260421T215113Z
DESCRIPTION:1/1 Orion A - Mělník 2:1 (-16\,15\,14)\nZŠ Žernosecká
DTSTART;TZID=Europe/Berlin:20211016T083000
DTEND;TZID=Europe/Berlin:20211016T103000
LOCATION:Dolní Břežany Na Vršku 290
SUMMARY:CP-ZKY-Z1A: Orion A-Mělník
END:VEVENT
BEGIN:VEVENT
UID:31633962-3234-4237-a432-303231363566
DTSTAMP:20260421T215113Z
DESCRIPTION:3/3 Orion A - Meteor 0:2 (-17\,-21)\nZŠ Žernosecká
DTSTART;TZID=Europe/Berlin:20211016T094000
DTEND;TZID=Europe/Berlin:20211016T114000
LOCATION:Dolní Břežany Na Vršku 290
SUMMARY:CP-ZKY-Z1A: Orion A-Meteor
END:VEVENT
BEGIN:VEVENT
UID:33613566-3832-4763-b034-623738643861
DTSTAMP:20260421T215113Z
DESCRIPTION:7/7 Orion A - Tábor 1:2 (-18\,19\,-4)\nZŠ Žernosecká
DTSTART;TZID=Europe/Berlin:20211016T120000
DTEND;TZID=Europe/Berlin:20211016T140000
LOCATION:Dolní Břežany Na Vršku 290
SUMMARY:CP-ZKY-Z1A: Orion A-Tábor
END:VEVENT
BEGIN:VEVENT
UID:66313163-3765-4333-a633-316363363131
DTSTAMP:20260421T215113Z
DESCRIPTION:14/14 Orion A - Hlincovka 2:1 (11\,-17\,10)\nGymnázium J.Kepler
 a
DTSTART;TZID=Europe/Berlin:20211016T160000
DTEND;TZID=Europe/Berlin:20211016T180000
LOCATION:Dolní Břežany Na Vršku 290
SUMMARY:CP-ZKY-Z1A: Orion A-Hlincovka
END:VEVENT
BEGIN:VEVENT
UID:31306136-6331-4065-a135-616162363361
DTSTAMP:20260421T215113Z
DESCRIPTION:17/18 Orion A - Dansport 2:0 (19\,18)\nhala TJ JM Chodov
DTSTART;TZID=Europe/Berlin:20211017T083000
DTEND;TZID=Europe/Berlin:20211017T103000
LOCATION:Dolní Břežany Na Vršku 290
SUMMARY:CP-ZKY-Z1A: Orion A-Dansport
END:VEVENT
BEGIN:VEVENT
UID:36656132-3362-4439-b238-666435326338
DTSTAMP:20260421T215113Z
DESCRIPTION:19/25 Orion A - Kralupy 0:2 (-23\,-18)\nhala TJ JM Chodov
DTSTART;TZID=Europe/Berlin:20211017T110000
DTEND;TZID=Europe/Berlin:20211017T130000
LOCATION:Dolní Břežany Na Vršku 290
SUMMARY:CP-ZKY-Z1A: Orion A-Kralupy
END:VEVENT
BEGIN:VEVENT
UID:64623337-3834-4764-b965-343364633839
DTSTAMP:20260421T215113Z
DESCRIPTION:20/27 Orion A - Mikulova 2:1 (-21\,20\,11)\nhala TJ JM Chodov
DTSTART;TZID=Europe/Berlin:20211017T121500
DTEND;TZID=Europe/Berlin:20211017T141500
LOCATION:Dolní Břežany Na Vršku 290
SUMMARY:CP-ZKY-Z1A: Orion A-Mikulova
END:VEVENT
BEGIN:VEVENT
UID:37393237-3865-4033-a237-636433313430
DTSTAMP:20260421T215113Z
DESCRIPTION:2/3 Orion A - Karlovy Vary 0:2 (-17\,-23)\nISŠTE
DTSTART;TZID=Europe/Berlin:20211120T100000
DTEND;TZID=Europe/Berlin:20211120T120000
LOCATION:Dolní Břežany Na Vršku 290
SUMMARY:CP-ZKY-Z2A: Orion A-Karlovy Vary
END:VEVENT
BEGIN:VEVENT
UID:62656563-6434-4663-b939-313338313634
DTSTAMP:20260421T215113Z
DESCRIPTION:4/6 Orion A - Mělník 2:1 (-21\,19\,9)\nJiskra
DTSTART;TZID=Europe/Berlin:20211120T120000
DTEND;TZID=Europe/Berlin:20211120T140000
LOCATION:Dolní Břežany Na Vršku 290
SUMMARY:CP-ZKY-Z2A: Orion A-Mělník
END:VEVENT
BEGIN:VEVENT
UID:64653735-6363-4662-b261-336362303139
DTSTAMP:20260421T215113Z
DESCRIPTION:5/8 Orion A - Sokolov 2:0 (16\,19)\nJiskra
DTSTART;TZID=Europe/Berlin:20211120T130000
DTEND;TZID=Europe/Berlin:20211120T150000
LOCATION:Dolní Břežany Na Vršku 290
SUMMARY:CP-ZKY-Z2A: Orion A-Sokolov
END:VEVENT
BEGIN:VEVENT
UID:36383536-3035-4333-b134-666431616661
DTSTAMP:20260421T215113Z
DESCRIPTION:7/13 Hlincovka - Orion A 2:0 (23\,18)\nISŠTE
DTSTART;TZID=Europe/Berlin:20211120T150000
DTEND;TZID=Europe/Berlin:20211120T170000
LOCATION:Sportovní hala Rudolfov\, Adamovská 511 Rudolfov
SUMMARY:CP-ZKY-Z2A: Hlincovka-Orion A
END:VEVENT
BEGIN:VEVENT
UID:30373062-3462-4234-b464-616231666234
DTSTAMP:20260421T215113Z
DESCRIPTION:10/16 Kralupy - Orion A 2:1 (-21\,15\,9)\nISŠTE
DTSTART;TZID=Europe/Berlin:20211121T090000
DTEND;TZID=Europe/Berlin:20211121T110000
LOCATION:TJ KRALUPY\, z.s.\, Gen. Klapálka 1029 Kralupy nad Vltavou
SUMMARY:CP-ZKY-Z2A: Kralupy-Orion A
END:VEVENT
BEGIN:VEVENT
UID:64306239-3835-4261-a335-383466353930
DTSTAMP:20260421T215113Z
DESCRIPTION:14/20 Mikulova - Orion A 2:0 (6\,22)\nISŠTE
DTSTART;TZID=Europe/Berlin:20211121T110000
DTEND;TZID=Europe/Berlin:20211121T130000
LOCATION:ZŠ Mikulova Mikulova 1594
SUMMARY:CP-ZKY-Z2A: Mikulova-Orion A
END:VEVENT
BEGIN:VEVENT
UID:61643465-6338-4538-a462-666334313833
DTSTAMP:20260421T215113Z
DESCRIPTION:16/25 Tábor - Orion A X:2
DTSTART;TZID=Europe/Berlin:20211121T120000
DTEND;TZID=Europe/Berlin:20211121T140000
LOCATION:Tělocvična ZŠ Husova\, Husova 1570 Tábor
SUMMARY:CP-ZKY-Z2A: Tábor-Orion A
END:VEVENT
BEGIN:VEVENT
UID:32396164-3332-4263-a233-326630653964
DTSTAMP:20260421T215113Z
DESCRIPTION:6/12 Orion A - Hradec Králové 1:2 (22\,-21\,-13)
DTSTART;TZID=Europe/Berlin:20220219T140000
DTEND;TZID=Europe/Berlin:20220219T160000
LOCATION:Dolní Břežany Na Vršku 290
SUMMARY:CP-ZKY-F1B: Orion A-Hradec Králové
END:VEVENT
BEGIN:VEVENT
UID:30323833-3261-4330-b638-303031616337
DTSTAMP:20260421T215113Z
DESCRIPTION:8/15 Orion A - Opava 2:1 (19\,-21\,7)
DTSTART;TZID=Europe/Berlin:20220219T160000
DTEND;TZID=Europe/Berlin:20220219T180000
LOCATION:Dolní Břežany Na Vršku 290
SUMMARY:CP-ZKY-F1B: Orion A-Opava
END:VEVENT
BEGIN:VEVENT
UID:61366331-3037-4330-b537-353532333036
DTSTAMP:20260421T215113Z
DESCRIPTION:11/21 Orion A - Karlovy Vary 0:2 (-21\,-15)
DTSTART;TZID=Europe/Berlin:20220220T100000
DTEND;TZID=Europe/Berlin:20220220T120000
LOCATION:Dolní Břežany Na Vršku 290
SUMMARY:CP-ZKY-F1B: Orion A-Karlovy Vary
END:VEVENT
BEGIN:VEVENT
UID:35333532-3537-4838-b532-633335616661
DTSTAMP:20260421T215113Z
DESCRIPTION:13/25 Orion A - Tábor 2:0 (15\,15)
DTSTART;TZID=Europe/Berlin:20220220T120000
DTEND;TZID=Europe/Berlin:20220220T140000
LOCATION:Dolní Břežany Na Vršku 290
SUMMARY:CP-ZKY-F1B: Orion A-Tábor
END:VEVENT
BEGIN:VEVENT
UID:39326561-3838-4631-b265-363635633837
DTSTAMP:20260421T215113Z
DESCRIPTION:2/4 Sokolov - Orion A 0:2 (-23\,-20)
DTSTART;TZID=Europe/Berlin:20220219T100000
DTEND;TZID=Europe/Berlin:20220219T120000
LOCATION:Jiskra\, Maxima Gorkého 280 Sokolov
SUMMARY:CP-ZKY-F1B: Sokolov-Orion A
END:VEVENT
BEGIN:VEVENT
UID:35343463-3430-4133-b365-303339613436
DTSTAMP:20260421T215113Z
DESCRIPTION:4/7 Zlín - Orion A 2:1 (-18\,19\,13)
DTSTART;TZID=Europe/Berlin:20220219T120000
DTEND;TZID=Europe/Berlin:20220219T140000
LOCATION:ZŠ Okružní Zlín\, Okružní 4685 Zlín
SUMMARY:CP-ZKY-F1B: Zlín-Orion A
END:VEVENT
BEGIN:VEVENT
UID:36643438-3331-4633-a164-663833363734
DTSTAMP:20260421T215113Z
DESCRIPTION:10/19 TJ Sokol F. - Místek - Orion A 1:2 (20\,-9\,-8)
DTSTART;TZID=Europe/Berlin:20220220T090000
DTEND;TZID=Europe/Berlin:20220220T110000
LOCATION:ZŠ Jiřího z Poděbrad Frýdek-Místek\, Jiřího z Poděbrad 3109 Frýdek
 -Místek - Frýdek
SUMMARY:CP-ZKY-F1B: TJ Sokol F. - Místek-Orion A
END:VEVENT
BEGIN:VEVENT
UID:65616537-6664-4936-a535-333834393832
DTSTAMP:20260421T215113Z
DESCRIPTION:5/10 Orion A - Sokolov 0:2 (-15\,-23)
DTSTART;TZID=Europe/Berlin:20220319T140000
DTEND;TZID=Europe/Berlin:20220319T160000
LOCATION:Dolní Břežany Na Vršku 290
SUMMARY:CP-ZKY-F2B: Orion A-Sokolov
END:VEVENT
BEGIN:VEVENT
UID:65636337-3864-4639-a463-386265333336
DTSTAMP:20260421T215113Z
DESCRIPTION:8/16 Orion A - Jirkov 1:2 (-23\,24\,-11)
DTSTART;TZID=Europe/Berlin:20220319T174500
DTEND;TZID=Europe/Berlin:20220319T194500
LOCATION:Dolní Břežany Na Vršku 290
SUMMARY:CP-ZKY-F2B: Orion A-Jirkov
END:VEVENT
BEGIN:VEVENT
UID:62353832-3431-4362-a563-333234663432
DTSTAMP:20260421T215113Z
DESCRIPTION:10/19 Orion A - Mělník 0:2 (-14\,-18)
DTSTART;TZID=Europe/Berlin:20220320T101500
DTEND;TZID=Europe/Berlin:20220320T121500
LOCATION:Dolní Břežany Na Vršku 290
SUMMARY:CP-ZKY-F2B: Orion A-Mělník
END:VEVENT
BEGIN:VEVENT
UID:38653737-6337-4764-a662-363066663365
DTSTAMP:20260421T215113Z
DESCRIPTION:1/2 Dansport - Orion A 0:2 (-17\,-20)
DTSTART;TZID=Europe/Berlin:20220319T090000
DTEND;TZID=Europe/Berlin:20220319T110000
LOCATION:Sportovní hala Gymnázia Jana Keplera Parléřova 118\, Praha - Hradč
 any
SUMMARY:CP-ZKY-F2B: Dansport-Orion A
END:VEVENT
BEGIN:VEVENT
UID:30363032-3838-4565-a562-613232323233
DTSTAMP:20260421T215113Z
DESCRIPTION:3/6 Zlín - Orion A 1:2 (-23\,24\,-11)
DTSTART;TZID=Europe/Berlin:20220319T113000
DTEND;TZID=Europe/Berlin:20220319T133000
LOCATION:ZŠ Okružní Zlín\, Okružní 4685 Zlín
SUMMARY:CP-ZKY-F2B: Zlín-Orion A
END:VEVENT
BEGIN:VEVENT
UID:64313664-3866-4664-a135-366238393264
DTSTAMP:20260421T215113Z
DESCRIPTION:12/24 Karlovy Vary - Orion A 2:0 (18\,20)
DTSTART;TZID=Europe/Berlin:20220320T124500
DTEND;TZID=Europe/Berlin:20220320T144500
LOCATION:Mattoni Arena Hala míčových sportů\, Západní 1812 Karlovy Vary
SUMMARY:CP-ZKY-F2B: Karlovy Vary-Orion A
END:VEVENT
BEGIN:VEVENT
UID:34303362-3037-4331-b736-346435396239
DTSTAMP:20260421T215113Z
DESCRIPTION:13/26 Havlíčkův Brod - Orion A 2:1 (20\,-21\,9)
DTSTART;TZID=Europe/Berlin:20220320T140000
DTEND;TZID=Europe/Berlin:20220320T160000
LOCATION:ZŠ Nuselská H. Brod\, Nuselská 3240 Havlíčkův Brod
SUMMARY:CP-ZKY-F2B: Havlíčkův Brod-Orion A
END:VEVENT
END:VCALENDAR
