BEGIN:VCALENDAR
VERSION:2.0
PRODID:-//Sportovní Klub školy ZŠ Mikulova Praha E76899//NONSGML kigkonsult.se iCalcreator 2.41.80//
CALSCALE:GREGORIAN
UID:36653632-3135-4230-a563-363732313663
BEGIN:VEVENT
UID:34626466-3662-4634-b437-383261626233
DTSTAMP:20260422T085135Z
DESCRIPTION:1/1 Mikulova E - Orion B 0:2 (-8\,-15)
DTSTART;TZID=Europe/Berlin:20211003T090000
DTEND;TZID=Europe/Berlin:20211003T110000
LOCATION:SKŠ ZŠ Mikulova Praha\, Mikulova 1594 Praha - Chodov
SUMMARY:PP-ZKY-1-F: Mikulova E-Orion B
END:VEVENT
BEGIN:VEVENT
UID:36613665-6463-4133-b033-303664623732
DTSTAMP:20260422T085135Z
DESCRIPTION:1/6 Mikulova E - Mikulova D 0:2 (-21\,-16)
DTSTART;TZID=Europe/Berlin:20211003T090000
DTEND;TZID=Europe/Berlin:20211003T110000
LOCATION:SKŠ ZŠ Mikulova Praha\, Mikulova 1594 Praha - Chodov
SUMMARY:PP-ZKY-1-F: Mikulova E-Mikulova D
END:VEVENT
BEGIN:VEVENT
UID:39613530-6530-4863-b434-333030623939
DTSTAMP:20260422T085135Z
DESCRIPTION:1/3 JOKY - Mikulova E 2:1 (22\,-20\,9)
DTSTART;TZID=Europe/Berlin:20211003T090000
DTEND;TZID=Europe/Berlin:20211003T110000
LOCATION:SKŠ ZŠ Mikulova Praha\, Mikulova 1594 Praha - Chodov
SUMMARY:PP-ZKY-1-F: JOKY-Mikulova E
END:VEVENT
BEGIN:VEVENT
UID:32336131-3934-4231-b138-643465643630
DTSTAMP:20260422T085135Z
DESCRIPTION:1/9 Kometa C - Mikulova E 2:0 (14\,24)
DTSTART;TZID=Europe/Berlin:20211003T090000
DTEND;TZID=Europe/Berlin:20211003T110000
LOCATION:SKŠ ZŠ Mikulova Praha\, Mikulova 1594 Praha - Chodov
SUMMARY:PP-ZKY-1-F: Kometa C-Mikulova E
END:VEVENT
BEGIN:VEVENT
UID:63383533-6366-4466-a530-633139613463
DTSTAMP:20260422T085135Z
DESCRIPTION:2/4 Mikulova E - Kometa C 0:2 (-23\,-20)
DTSTART;TZID=Europe/Berlin:20211114T100000
DTEND;TZID=Europe/Berlin:20211114T120000
LOCATION:SKŠ ZŠ Mikulova Praha\, Mikulova 1594 Praha - Chodov
SUMMARY:PP-ZKY-2-F: Mikulova E-Kometa C
END:VEVENT
BEGIN:VEVENT
UID:36323161-3164-4263-a162-623463303939
DTSTAMP:20260422T085135Z
DESCRIPTION:8/10 Mikulova E - Slavia B 2:0 (20\,23)
DTSTART;TZID=Europe/Berlin:20211114T160000
DTEND;TZID=Europe/Berlin:20211114T180000
LOCATION:SKŠ ZŠ Mikulova Praha\, Mikulova 1594 Praha - Chodov
SUMMARY:PP-ZKY-2-F: Mikulova E-Slavia B
END:VEVENT
BEGIN:VEVENT
UID:66666636-3136-4762-a262-393361333462
DTSTAMP:20260422T085135Z
DESCRIPTION:1/1 JOKY - Mikulova E 2:0 (11\,21)
DTSTART;TZID=Europe/Berlin:20211114T090000
DTEND;TZID=Europe/Berlin:20211114T110000
LOCATION:SKŠ ZŠ Mikulova Praha\, Mikulova 1594 Praha - Chodov
SUMMARY:PP-ZKY-2-F: JOKY-Mikulova E
END:VEVENT
BEGIN:VEVENT
UID:38346238-3861-4935-b863-303836616265
DTSTAMP:20260422T085135Z
DESCRIPTION:5/7 Mikulova D - Mikulova E 1:2 (17\,-23\,-14)
DTSTART;TZID=Europe/Berlin:20211114T130000
DTEND;TZID=Europe/Berlin:20211114T150000
LOCATION:SKŠ ZŠ Mikulova Praha\, Mikulova 1594 Praha - Chodov
SUMMARY:PP-ZKY-2-F: Mikulova D-Mikulova E
END:VEVENT
BEGIN:VEVENT
UID:36613134-3061-4861-b439-353265383337
DTSTAMP:20260422T085135Z
DESCRIPTION:2/2 Mikulova E - Kometa C 1:2 (16\,-9\,-4)
DTSTART;TZID=Europe/Berlin:20211212T100000
DTEND;TZID=Europe/Berlin:20211212T120000
LOCATION:SKŠ ZŠ Mikulova Praha\, Mikulova 1594 Praha - Chodov
SUMMARY:PP-ZKY-3-F: Mikulova E-Kometa C
END:VEVENT
BEGIN:VEVENT
UID:65343233-3365-4166-a639-643766353461
DTSTAMP:20260422T085135Z
DESCRIPTION:8/8 Mikulova E - SAVO 0:2 (-9\,-10)
DTSTART;TZID=Europe/Berlin:20211212T160000
DTEND;TZID=Europe/Berlin:20211212T180000
LOCATION:SKŠ ZŠ Mikulova Praha\, Mikulova 1594 Praha - Chodov
SUMMARY:PP-ZKY-3-F: Mikulova E-SAVO
END:VEVENT
BEGIN:VEVENT
UID:34646161-3366-4131-b537-333939383962
DTSTAMP:20260422T085135Z
DESCRIPTION:4/4 Mikulova D - Mikulova E 1:2 (20\,-14\,-13)
DTSTART;TZID=Europe/Berlin:20211212T120000
DTEND;TZID=Europe/Berlin:20211212T140000
LOCATION:SKŠ ZŠ Mikulova Praha\, Mikulova 1594 Praha - Chodov
SUMMARY:PP-ZKY-3-F: Mikulova D-Mikulova E
END:VEVENT
BEGIN:VEVENT
UID:38333031-3334-4663-a363-393165373136
DTSTAMP:20260422T085135Z
DESCRIPTION:6/6 Slavia B - Mikulova E 2:0 (16\,17)
DTSTART;TZID=Europe/Berlin:20211212T140000
DTEND;TZID=Europe/Berlin:20211212T160000
LOCATION:SKŠ ZŠ Mikulova Praha\, Mikulova 1594 Praha - Chodov
SUMMARY:PP-ZKY-3-F: Slavia B-Mikulova E
END:VEVENT
BEGIN:VEVENT
UID:65346437-3765-4430-b330-306564643235
DTSTAMP:20260422T085135Z
DESCRIPTION:2/4 Mikulova E - Kometa C 1:2 (-18\,18\,-5)
DTSTART;TZID=Europe/Berlin:20220109T120000
DTEND;TZID=Europe/Berlin:20220109T140000
LOCATION:tělocvičny ZŠ Mikulova\, Mikulova 1594 Praha - Chodov
SUMMARY:PP-ZKY-4-F: Mikulova E-Kometa C
END:VEVENT
BEGIN:VEVENT
UID:62373831-3333-4239-a332-393530383932
DTSTAMP:20260422T085135Z
DESCRIPTION:5/10 Mikulova E - Meteor B 0:2 (-22\,-25)
DTSTART;TZID=Europe/Berlin:20220109T160000
DTEND;TZID=Europe/Berlin:20220109T180000
LOCATION:tělocvičny ZŠ Mikulova\, Mikulova 1594 Praha - Chodov
SUMMARY:PP-ZKY-4-F: Mikulova E-Meteor B
END:VEVENT
BEGIN:VEVENT
UID:35626233-3039-4137-b034-326536333630
DTSTAMP:20260422T085135Z
DESCRIPTION:1/1 SAVO - Mikulova E 2:0 (16\,23)
DTSTART;TZID=Europe/Berlin:20220109T090000
DTEND;TZID=Europe/Berlin:20220109T110000
LOCATION:tělocvičny ZŠ Mikulova\, Mikulova 1594 Praha - Chodov
SUMMARY:PP-ZKY-4-F: SAVO-Mikulova E
END:VEVENT
BEGIN:VEVENT
UID:65393464-3032-4262-b630-633435396461
DTSTAMP:20260422T085135Z
DESCRIPTION:4/7 Mikulova D - Mikulova E 2:0 (22\,15)
DTSTART;TZID=Europe/Berlin:20220109T150000
DTEND;TZID=Europe/Berlin:20220109T170000
LOCATION:tělocvičny ZŠ Mikulova\, Mikulova 1594 Praha - Chodov
SUMMARY:PP-ZKY-4-F: Mikulova D-Mikulova E
END:VEVENT
BEGIN:VEVENT
UID:32666436-3033-4366-a232-373632346538
DTSTAMP:20260422T085135Z
DESCRIPTION:4/4 Mikulova E - Kometa C
DTSTART;TZID=Europe/Berlin:20220130T110000
DTEND;TZID=Europe/Berlin:20220130T130000
LOCATION:SKŠ ZŠ Mikulova Praha\, Mikulova 1594 Praha - Chodov
SUMMARY:PP-ZKY-5-F: Mikulova E-Kometa C
END:VEVENT
BEGIN:VEVENT
UID:35636133-3538-4764-b033-393365643965
DTSTAMP:20260422T085135Z
DESCRIPTION:10/10 Mikulova E - Lvi B
DTSTART;TZID=Europe/Berlin:20220130T140000
DTEND;TZID=Europe/Berlin:20220130T160000
LOCATION:SKŠ ZŠ Mikulova Praha\, Mikulova 1594 Praha - Chodov
SUMMARY:PP-ZKY-5-F: Mikulova E-Lvi B
END:VEVENT
BEGIN:VEVENT
UID:32336365-6639-4631-b862-643465353964
DTSTAMP:20260422T085135Z
DESCRIPTION:1/1 Meteor B - Mikulova E
DTSTART;TZID=Europe/Berlin:20220130T100000
DTEND;TZID=Europe/Berlin:20220130T120000
LOCATION:SKŠ ZŠ Mikulova Praha\, Mikulova 1594 Praha - Chodov
SUMMARY:PP-ZKY-5-F: Meteor B-Mikulova E
END:VEVENT
BEGIN:VEVENT
UID:61326165-3066-4164-b533-656535616137
DTSTAMP:20260422T085135Z
DESCRIPTION:7/7 Mikulova D - Mikulova E
DTSTART;TZID=Europe/Berlin:20220130T130000
DTEND;TZID=Europe/Berlin:20220130T150000
LOCATION:SKŠ ZŠ Mikulova Praha\, Mikulova 1594 Praha - Chodov
SUMMARY:PP-ZKY-5-F: Mikulova D-Mikulova E
END:VEVENT
BEGIN:VEVENT
UID:37613535-3131-4737-b337-303930366332
DTSTAMP:20260422T085135Z
DESCRIPTION:2/4 Mikulova E - Kometa C 0:2 (-17\,-22)
DTSTART;TZID=Europe/Berlin:20220227T130000
DTEND;TZID=Europe/Berlin:20220227T150000
LOCATION:SKŠ ZŠ Mikulova Praha\, Mikulova 1594 Praha - Chodov
SUMMARY:PP-ZKY-6-F: Mikulova E-Kometa C
END:VEVENT
BEGIN:VEVENT
UID:34646131-6438-4565-b763-656630653236
DTSTAMP:20260422T085135Z
DESCRIPTION:5/10 Mikulova E - Lvi B 1:2 (13\,-22\,-10)
DTSTART;TZID=Europe/Berlin:20220227T160000
DTEND;TZID=Europe/Berlin:20220227T180000
LOCATION:SKŠ ZŠ Mikulova Praha\, Mikulova 1594 Praha - Chodov
SUMMARY:PP-ZKY-6-F: Mikulova E-Lvi B
END:VEVENT
BEGIN:VEVENT
UID:63653636-3630-4661-b864-356432653464
DTSTAMP:20260422T085135Z
DESCRIPTION:1/1 Meteor B - Mikulova E 2:0 (19\,15)
DTSTART;TZID=Europe/Berlin:20220227T120000
DTEND;TZID=Europe/Berlin:20220227T140000
LOCATION:SKŠ ZŠ Mikulova Praha\, Mikulova 1594 Praha - Chodov
SUMMARY:PP-ZKY-6-F: Meteor B-Mikulova E
END:VEVENT
BEGIN:VEVENT
UID:61633236-3537-4061-b639-303730386130
DTSTAMP:20260422T085135Z
DESCRIPTION:4/7 Mikulova D - Mikulova E 2:1 (15\,-15\,10)
DTSTART;TZID=Europe/Berlin:20220227T150000
DTEND;TZID=Europe/Berlin:20220227T170000
LOCATION:SKŠ ZŠ Mikulova Praha\, Mikulova 1594 Praha - Chodov
SUMMARY:PP-ZKY-6-F: Mikulova D-Mikulova E
END:VEVENT
BEGIN:VEVENT
UID:66333234-3538-4039-b862-656538653837
DTSTAMP:20260422T085135Z
DESCRIPTION:2/4 Mikulova E - Mikulova D 2:1 (-23\,17\,13)
DTSTART;TZID=Europe/Berlin:20220410T100000
DTEND;TZID=Europe/Berlin:20220410T120000
LOCATION:FZŠ Brdičkova\, Brdičkova 1878 Praha - Stodůlky
SUMMARY:PP-ZKY-7-F: Mikulova E-Mikulova D
END:VEVENT
BEGIN:VEVENT
UID:32303637-6364-4665-a438-346461613463
DTSTAMP:20260422T085135Z
DESCRIPTION:5/10 Mikulova E - Studio Sport 1:2 (-8\,22\,-6)
DTSTART;TZID=Europe/Berlin:20220410T130000
DTEND;TZID=Europe/Berlin:20220410T150000
LOCATION:FZŠ Brdičkova\, Brdičkova 1878 Praha - Stodůlky
SUMMARY:PP-ZKY-7-F: Mikulova E-Studio Sport
END:VEVENT
BEGIN:VEVENT
UID:38613830-3238-4533-b135-383333383736
DTSTAMP:20260422T085135Z
DESCRIPTION:1/1 Lvi B - Mikulova E 2:1 (-18\,19\,10)
DTSTART;TZID=Europe/Berlin:20220410T090000
DTEND;TZID=Europe/Berlin:20220410T110000
LOCATION:FZŠ Brdičkova\, Brdičkova 1878 Praha - Stodůlky
SUMMARY:PP-ZKY-7-F: Lvi B-Mikulova E
END:VEVENT
BEGIN:VEVENT
UID:66333331-6266-4236-b638-653162633462
DTSTAMP:20260422T085135Z
DESCRIPTION:4/7 Kometa C - Mikulova E 2:0 (21\,23)
DTSTART;TZID=Europe/Berlin:20220410T120000
DTEND;TZID=Europe/Berlin:20220410T140000
LOCATION:FZŠ Brdičkova\, Brdičkova 1878 Praha - Stodůlky
SUMMARY:PP-ZKY-7-F: Kometa C-Mikulova E
END:VEVENT
END:VCALENDAR
