BEGIN:VCALENDAR
VERSION:2.0
PRODID:-//Sportovní Klub školy ZŠ Mikulova Praha D76900//NONSGML kigkonsult.se iCalcreator 2.41.80//
CALSCALE:GREGORIAN
UID:38623431-3230-4130-b032-363764653937
BEGIN:VEVENT
UID:35616434-3561-4438-b965-613832636639
DTSTAMP:20260422T154731Z
DESCRIPTION:1/2 Mikulova D - Kometa C 0:2 (-12\,-21)
DTSTART;TZID=Europe/Berlin:20211003T090000
DTEND;TZID=Europe/Berlin:20211003T110000
LOCATION:SKŠ ZŠ Mikulova Praha\, Mikulova 1594 Praha - Chodov
SUMMARY:PP-ZKY-1-F: Mikulova D-Kometa C
END:VEVENT
BEGIN:VEVENT
UID:66653236-6164-4561-b034-306361663961
DTSTAMP:20260422T154731Z
DESCRIPTION:1/8 Mikulova D - JOKY 0:2 (-13\,-10)
DTSTART;TZID=Europe/Berlin:20211003T090000
DTEND;TZID=Europe/Berlin:20211003T110000
LOCATION:SKŠ ZŠ Mikulova Praha\, Mikulova 1594 Praha - Chodov
SUMMARY:PP-ZKY-1-F: Mikulova D-JOKY
END:VEVENT
BEGIN:VEVENT
UID:33353862-6430-4436-b431-353766633366
DTSTAMP:20260422T154731Z
DESCRIPTION:1/4 Orion B - Mikulova D 2:0 (13\,17)
DTSTART;TZID=Europe/Berlin:20211003T090000
DTEND;TZID=Europe/Berlin:20211003T110000
LOCATION:SKŠ ZŠ Mikulova Praha\, Mikulova 1594 Praha - Chodov
SUMMARY:PP-ZKY-1-F: Orion B-Mikulova D
END:VEVENT
BEGIN:VEVENT
UID:36623537-3130-4339-b565-323865303637
DTSTAMP:20260422T154731Z
DESCRIPTION:1/6 Mikulova E - Mikulova D 0:2 (-21\,-16)
DTSTART;TZID=Europe/Berlin:20211003T090000
DTEND;TZID=Europe/Berlin:20211003T110000
LOCATION:SKŠ ZŠ Mikulova Praha\, Mikulova 1594 Praha - Chodov
SUMMARY:PP-ZKY-1-F: Mikulova E-Mikulova D
END:VEVENT
BEGIN:VEVENT
UID:38396636-3835-4239-a335-323331313538
DTSTAMP:20260422T154731Z
DESCRIPTION:5/7 Mikulova D - Mikulova E 1:2 (17\,-23\,-14)
DTSTART;TZID=Europe/Berlin:20211114T130000
DTEND;TZID=Europe/Berlin:20211114T150000
LOCATION:SKŠ ZŠ Mikulova Praha\, Mikulova 1594 Praha - Chodov
SUMMARY:PP-ZKY-2-F: Mikulova D-Mikulova E
END:VEVENT
BEGIN:VEVENT
UID:32643765-6532-4162-a535-633732663833
DTSTAMP:20260422T154731Z
DESCRIPTION:7/9 Mikulova D - JOKY 1:2 (19\,-21\,-10)
DTSTART;TZID=Europe/Berlin:20211114T150000
DTEND;TZID=Europe/Berlin:20211114T170000
LOCATION:SKŠ ZŠ Mikulova Praha\, Mikulova 1594 Praha - Chodov
SUMMARY:PP-ZKY-2-F: Mikulova D-JOKY
END:VEVENT
BEGIN:VEVENT
UID:63366233-3765-4039-a330-363664623763
DTSTAMP:20260422T154731Z
DESCRIPTION:1/2 Kometa C - Mikulova D 2:1 (-8\,15\,10)
DTSTART;TZID=Europe/Berlin:20211114T090000
DTEND;TZID=Europe/Berlin:20211114T110000
LOCATION:SKŠ ZŠ Mikulova Praha\, Mikulova 1594 Praha - Chodov
SUMMARY:PP-ZKY-2-F: Kometa C-Mikulova D
END:VEVENT
BEGIN:VEVENT
UID:66313637-6532-4138-b530-666533343631
DTSTAMP:20260422T154731Z
DESCRIPTION:3/5 Slavia B - Mikulova D 2:0 (20\,26)
DTSTART;TZID=Europe/Berlin:20211114T110000
DTEND;TZID=Europe/Berlin:20211114T130000
LOCATION:SKŠ ZŠ Mikulova Praha\, Mikulova 1594 Praha - Chodov
SUMMARY:PP-ZKY-2-F: Slavia B-Mikulova D
END:VEVENT
BEGIN:VEVENT
UID:64653539-3761-4865-a231-316433326331
DTSTAMP:20260422T154731Z
DESCRIPTION:4/4 Mikulova D - Mikulova E 1:2 (20\,-14\,-13)
DTSTART;TZID=Europe/Berlin:20211212T120000
DTEND;TZID=Europe/Berlin:20211212T140000
LOCATION:SKŠ ZŠ Mikulova Praha\, Mikulova 1594 Praha - Chodov
SUMMARY:PP-ZKY-3-F: Mikulova D-Mikulova E
END:VEVENT
BEGIN:VEVENT
UID:37346139-3535-4231-a232-623830303739
DTSTAMP:20260422T154731Z
DESCRIPTION:10/10 Mikulova D - SAVO 2:0 (18\,20)
DTSTART;TZID=Europe/Berlin:20211212T180000
DTEND;TZID=Europe/Berlin:20211212T200000
LOCATION:SKŠ ZŠ Mikulova Praha\, Mikulova 1594 Praha - Chodov
SUMMARY:PP-ZKY-3-F: Mikulova D-SAVO
END:VEVENT
BEGIN:VEVENT
UID:63306539-3862-4137-a133-323061626335
DTSTAMP:20260422T154731Z
DESCRIPTION:1/1 Slavia B - Mikulova D 2:0 (14\,19)
DTSTART;TZID=Europe/Berlin:20211212T090000
DTEND;TZID=Europe/Berlin:20211212T110000
LOCATION:SKŠ ZŠ Mikulova Praha\, Mikulova 1594 Praha - Chodov
SUMMARY:PP-ZKY-3-F: Slavia B-Mikulova D
END:VEVENT
BEGIN:VEVENT
UID:34333462-3935-4062-b036-306334333636
DTSTAMP:20260422T154731Z
DESCRIPTION:7/7 Kometa C - Mikulova D 1:2 (-25\,20\,-1)
DTSTART;TZID=Europe/Berlin:20211212T150000
DTEND;TZID=Europe/Berlin:20211212T170000
LOCATION:SKŠ ZŠ Mikulova Praha\, Mikulova 1594 Praha - Chodov
SUMMARY:PP-ZKY-3-F: Kometa C-Mikulova D
END:VEVENT
BEGIN:VEVENT
UID:34323630-3062-4535-b336-636431313438
DTSTAMP:20260422T154731Z
DESCRIPTION:4/7 Mikulova D - Mikulova E 2:0 (22\,15)
DTSTART;TZID=Europe/Berlin:20220109T150000
DTEND;TZID=Europe/Berlin:20220109T170000
LOCATION:tělocvičny ZŠ Mikulova\, Mikulova 1594 Praha - Chodov
SUMMARY:PP-ZKY-4-F: Mikulova D-Mikulova E
END:VEVENT
BEGIN:VEVENT
UID:65376536-3534-4330-b630-633433333832
DTSTAMP:20260422T154731Z
DESCRIPTION:5/9 Mikulova D - SAVO 1:2 (16\,-12\,-11)
DTSTART;TZID=Europe/Berlin:20220109T160000
DTEND;TZID=Europe/Berlin:20220109T180000
LOCATION:tělocvičny ZŠ Mikulova\, Mikulova 1594 Praha - Chodov
SUMMARY:PP-ZKY-4-F: Mikulova D-SAVO
END:VEVENT
BEGIN:VEVENT
UID:38323765-6339-4738-b036-393236323938
DTSTAMP:20260422T154731Z
DESCRIPTION:1/2 Kometa C - Mikulova D 2:0 (8\,13)
DTSTART;TZID=Europe/Berlin:20220109T100000
DTEND;TZID=Europe/Berlin:20220109T120000
LOCATION:tělocvičny ZŠ Mikulova\, Mikulova 1594 Praha - Chodov
SUMMARY:PP-ZKY-4-F: Kometa C-Mikulova D
END:VEVENT
BEGIN:VEVENT
UID:34653766-6661-4332-b866-653664366133
DTSTAMP:20260422T154731Z
DESCRIPTION:3/5 Meteor B - Mikulova D 2:0 (18\,17)
DTSTART;TZID=Europe/Berlin:20220109T130000
DTEND;TZID=Europe/Berlin:20220109T150000
LOCATION:tělocvičny ZŠ Mikulova\, Mikulova 1594 Praha - Chodov
SUMMARY:PP-ZKY-4-F: Meteor B-Mikulova D
END:VEVENT
BEGIN:VEVENT
UID:39316330-6465-4866-b964-356436613564
DTSTAMP:20260422T154731Z
DESCRIPTION:7/7 Mikulova D - Mikulova E
DTSTART;TZID=Europe/Berlin:20220130T130000
DTEND;TZID=Europe/Berlin:20220130T150000
LOCATION:SKŠ ZŠ Mikulova Praha\, Mikulova 1594 Praha - Chodov
SUMMARY:PP-ZKY-5-F: Mikulova D-Mikulova E
END:VEVENT
BEGIN:VEVENT
UID:66343362-3734-4330-b234-613565666331
DTSTAMP:20260422T154731Z
DESCRIPTION:9/9 Mikulova D - Meteor B
DTSTART;TZID=Europe/Berlin:20220130T140000
DTEND;TZID=Europe/Berlin:20220130T160000
LOCATION:SKŠ ZŠ Mikulova Praha\, Mikulova 1594 Praha - Chodov
SUMMARY:PP-ZKY-5-F: Mikulova D-Meteor B
END:VEVENT
BEGIN:VEVENT
UID:65306563-6638-4364-a137-336437376462
DTSTAMP:20260422T154731Z
DESCRIPTION:2/2 Kometa C - Mikulova D
DTSTART;TZID=Europe/Berlin:20220130T100000
DTEND;TZID=Europe/Berlin:20220130T120000
LOCATION:SKŠ ZŠ Mikulova Praha\, Mikulova 1594 Praha - Chodov
SUMMARY:PP-ZKY-5-F: Kometa C-Mikulova D
END:VEVENT
BEGIN:VEVENT
UID:65373462-6465-4130-b337-326533623539
DTSTAMP:20260422T154731Z
DESCRIPTION:5/5 Lvi B - Mikulova D
DTSTART;TZID=Europe/Berlin:20220130T120000
DTEND;TZID=Europe/Berlin:20220130T140000
LOCATION:SKŠ ZŠ Mikulova Praha\, Mikulova 1594 Praha - Chodov
SUMMARY:PP-ZKY-5-F: Lvi B-Mikulova D
END:VEVENT
BEGIN:VEVENT
UID:66366665-6561-4564-b233-396464656232
DTSTAMP:20260422T154731Z
DESCRIPTION:4/7 Mikulova D - Mikulova E 2:1 (15\,-15\,10)
DTSTART;TZID=Europe/Berlin:20220227T150000
DTEND;TZID=Europe/Berlin:20220227T170000
LOCATION:SKŠ ZŠ Mikulova Praha\, Mikulova 1594 Praha - Chodov
SUMMARY:PP-ZKY-6-F: Mikulova D-Mikulova E
END:VEVENT
BEGIN:VEVENT
UID:34383462-6665-4131-a638-313931616137
DTSTAMP:20260422T154731Z
DESCRIPTION:5/9 Mikulova D - Meteor B 0:2 (-16\,-22)
DTSTART;TZID=Europe/Berlin:20220227T160000
DTEND;TZID=Europe/Berlin:20220227T180000
LOCATION:SKŠ ZŠ Mikulova Praha\, Mikulova 1594 Praha - Chodov
SUMMARY:PP-ZKY-6-F: Mikulova D-Meteor B
END:VEVENT
BEGIN:VEVENT
UID:63353137-6332-4931-b532-653638326462
DTSTAMP:20260422T154731Z
DESCRIPTION:1/2 Kometa C - Mikulova D 1:2 (15\,-23\,-11)
DTSTART;TZID=Europe/Berlin:20220227T120000
DTEND;TZID=Europe/Berlin:20220227T140000
LOCATION:SKŠ ZŠ Mikulova Praha\, Mikulova 1594 Praha - Chodov
SUMMARY:PP-ZKY-6-F: Kometa C-Mikulova D
END:VEVENT
BEGIN:VEVENT
UID:39323732-3737-4063-b265-313434303133
DTSTAMP:20260422T154731Z
DESCRIPTION:3/5 Lvi B - Mikulova D 1:2 (15\,-24\,-11)
DTSTART;TZID=Europe/Berlin:20220227T140000
DTEND;TZID=Europe/Berlin:20220227T160000
LOCATION:SKŠ ZŠ Mikulova Praha\, Mikulova 1594 Praha - Chodov
SUMMARY:PP-ZKY-6-F: Lvi B-Mikulova D
END:VEVENT
BEGIN:VEVENT
UID:64376636-6639-4232-a562-643963396236
DTSTAMP:20260422T154731Z
DESCRIPTION:1/2 Mikulova D - Kometa C 0:2 (-12\,-27)
DTSTART;TZID=Europe/Berlin:20220410T090000
DTEND;TZID=Europe/Berlin:20220410T110000
LOCATION:FZŠ Brdičkova\, Brdičkova 1878 Praha - Stodůlky
SUMMARY:PP-ZKY-7-F: Mikulova D-Kometa C
END:VEVENT
BEGIN:VEVENT
UID:35613565-3938-4235-a466-353365303432
DTSTAMP:20260422T154731Z
DESCRIPTION:4/8 Mikulova D - Studio Sport 1:2 (18\,-14\,-6)
DTSTART;TZID=Europe/Berlin:20220410T120000
DTEND;TZID=Europe/Berlin:20220410T140000
LOCATION:FZŠ Brdičkova\, Brdičkova 1878 Praha - Stodůlky
SUMMARY:PP-ZKY-7-F: Mikulova D-Studio Sport
END:VEVENT
BEGIN:VEVENT
UID:38623033-6330-4761-b730-303838313961
DTSTAMP:20260422T154731Z
DESCRIPTION:2/4 Mikulova E - Mikulova D 2:1 (-23\,17\,13)
DTSTART;TZID=Europe/Berlin:20220410T100000
DTEND;TZID=Europe/Berlin:20220410T120000
LOCATION:FZŠ Brdičkova\, Brdičkova 1878 Praha - Stodůlky
SUMMARY:PP-ZKY-7-F: Mikulova E-Mikulova D
END:VEVENT
BEGIN:VEVENT
UID:63656538-3832-4332-b438-383631636133
DTSTAMP:20260422T154731Z
DESCRIPTION:3/6 Lvi B - Mikulova D 2:0 (21\,14)
DTSTART;TZID=Europe/Berlin:20220410T110000
DTEND;TZID=Europe/Berlin:20220410T130000
LOCATION:FZŠ Brdičkova\, Brdičkova 1878 Praha - Stodůlky
SUMMARY:PP-ZKY-7-F: Lvi B-Mikulova D
END:VEVENT
END:VCALENDAR
