BEGIN:VCALENDAR
VERSION:2.0
PRODID:-//SK Kometa Praha D76910//NONSGML kigkonsult.se iCalcreator 2.41.80//
CALSCALE:GREGORIAN
UID:30373365-3936-4862-b333-316434376461
BEGIN:VEVENT
UID:30616530-3738-4639-b536-623231303635
DTSTAMP:20260422T235817Z
DESCRIPTION:1/1 Kometa D - Mikulova E 2:1 (22\,-9\,7)
DTSTART;TZID=Europe/Berlin:20211010T090000
DTEND;TZID=Europe/Berlin:20211010T110000
LOCATION:tělocvičny ZŠ Mikulova\, Mikulova 1594 Praha - Chodov
SUMMARY:PP-KKY-1-D: Kometa D-Mikulova E
END:VEVENT
BEGIN:VEVENT
UID:30383831-3831-4039-b066-303336613731
DTSTAMP:20260422T235817Z
DESCRIPTION:4/4 Kometa D - H. Počernice 2:0 (15\,17)
DTSTART;TZID=Europe/Berlin:20211010T120000
DTEND;TZID=Europe/Berlin:20211010T140000
LOCATION:tělocvičny ZŠ Mikulova\, Mikulova 1594 Praha - Chodov
SUMMARY:PP-KKY-1-D: Kometa D-H. Počernice
END:VEVENT
BEGIN:VEVENT
UID:30346664-3338-4637-b431-383431626161
DTSTAMP:20260422T235817Z
DESCRIPTION:6/6 Kometa B - Kometa D 0:2 (-24\,-16)
DTSTART;TZID=Europe/Berlin:20211010T140000
DTEND;TZID=Europe/Berlin:20211010T160000
LOCATION:tělocvičny ZŠ Mikulova\, Mikulova 1594 Praha - Chodov
SUMMARY:PP-KKY-1-D: Kometa B-Kometa D
END:VEVENT
BEGIN:VEVENT
UID:30396561-3330-4231-a662-353761356364
DTSTAMP:20260422T235817Z
DESCRIPTION:3/3 Kometa D - Braník C 1:2 (-19\,19\,-10)
DTSTART;TZID=Europe/Berlin:20211107T110000
DTEND;TZID=Europe/Berlin:20211107T130000
LOCATION:ZŠ Glowackého\, Glowackého 555 Praha - Troja
SUMMARY:PP-KKY-2-C: Kometa D-Braník C
END:VEVENT
BEGIN:VEVENT
UID:64346235-3261-4261-a434-386662393565
DTSTAMP:20260422T235817Z
DESCRIPTION:1/1 Meteor - Kometa D 1:2 (-21\,17\,-13)
DTSTART;TZID=Europe/Berlin:20211107T090000
DTEND;TZID=Europe/Berlin:20211107T110000
LOCATION:ZŠ Glowackého\, Glowackého 555 Praha - Troja
SUMMARY:PP-KKY-2-C: Meteor-Kometa D
END:VEVENT
BEGIN:VEVENT
UID:31393330-6538-4237-b064-653865323965
DTSTAMP:20260422T235817Z
DESCRIPTION:5/5 Orion B - Kometa D 0:2 (-17\,-23)
DTSTART;TZID=Europe/Berlin:20211107T130000
DTEND;TZID=Europe/Berlin:20211107T150000
LOCATION:ZŠ Glowackého\, Glowackého 555 Praha - Troja
SUMMARY:PP-KKY-2-C: Orion B-Kometa D
END:VEVENT
BEGIN:VEVENT
UID:33373531-6138-4635-a131-373738343135
DTSTAMP:20260422T235817Z
DESCRIPTION:2/2 Kometa D - Meteor 2:1 (-23\,22\,12)
DTSTART;TZID=Europe/Berlin:20211128T100000
DTEND;TZID=Europe/Berlin:20211128T120000
LOCATION:ZŠ Žernosecká\, Žernosecká 1597 Praha - Kobylisy
SUMMARY:PP-KKY-3-C: Kometa D-Meteor
END:VEVENT
BEGIN:VEVENT
UID:39303331-6533-4538-a637-656464353462
DTSTAMP:20260422T235817Z
DESCRIPTION:5/5 Kometa D - SAVO 1:2 (-5\,17\,-13)
DTSTART;TZID=Europe/Berlin:20211128T130000
DTEND;TZID=Europe/Berlin:20211128T150000
LOCATION:ZŠ Žernosecká\, Žernosecká 1597 Praha - Kobylisy
SUMMARY:PP-KKY-3-C: Kometa D-SAVO
END:VEVENT
BEGIN:VEVENT
UID:65303862-3436-4234-b061-336135623035
DTSTAMP:20260422T235817Z
DESCRIPTION:4/4 Mikulova D - Kometa D 1:2 (20\,-20\,-8)
DTSTART;TZID=Europe/Berlin:20211128T120000
DTEND;TZID=Europe/Berlin:20211128T140000
LOCATION:ZŠ Žernosecká\, Žernosecká 1597 Praha - Kobylisy
SUMMARY:PP-KKY-3-C: Mikulova D-Kometa D
END:VEVENT
BEGIN:VEVENT
UID:62353835-3465-4366-a563-333965653430
DTSTAMP:20260422T235817Z
DESCRIPTION:2/2 Kometa D - Mikulova D 2:1 (-12\,14\,10)
DTSTART;TZID=Europe/Berlin:20211219T100000
DTEND;TZID=Europe/Berlin:20211219T120000
LOCATION:Tělocvična ZŠ Na Šutce\, Na Šutce 440 Praha - Troja
SUMMARY:PP-KKY-4-C: Kometa D-Mikulova D
END:VEVENT
BEGIN:VEVENT
UID:65333561-3263-4662-b463-376536643864
DTSTAMP:20260422T235817Z
DESCRIPTION:5/5 Kometa D - Braník C 2:0 (21\,12)
DTSTART;TZID=Europe/Berlin:20211219T130000
DTEND;TZID=Europe/Berlin:20211219T150000
LOCATION:Tělocvična ZŠ Na Šutce\, Na Šutce 440 Praha - Troja
SUMMARY:PP-KKY-4-C: Kometa D-Braník C
END:VEVENT
BEGIN:VEVENT
UID:65643564-6431-4539-b437-666661336363
DTSTAMP:20260422T235817Z
DESCRIPTION:4/4 Orion B - Kometa D 0:2 (-24\,-21)
DTSTART;TZID=Europe/Berlin:20211219T120000
DTEND;TZID=Europe/Berlin:20211219T140000
LOCATION:Tělocvična ZŠ Na Šutce\, Na Šutce 440 Praha - Troja
SUMMARY:PP-KKY-4-C: Orion B-Kometa D
END:VEVENT
BEGIN:VEVENT
UID:63323636-3539-4330-b630-346661363238
DTSTAMP:20260422T235817Z
DESCRIPTION:3/3 Kometa D - Kometa C 1:2 (-15\,21\,-7)
DTSTART;TZID=Europe/Berlin:20220213T110000
DTEND;TZID=Europe/Berlin:20220213T130000
LOCATION:tělocvičny ZŠ Mikulova\, Mikulova 1594 Praha - Chodov
SUMMARY:PP-KKY-5-B: Kometa D-Kometa C
END:VEVENT
BEGIN:VEVENT
UID:39646537-3730-4863-a234-333433636334
DTSTAMP:20260422T235817Z
DESCRIPTION:1/1 Mikulova C - Kometa D 2:0 (23\,15)
DTSTART;TZID=Europe/Berlin:20220213T090000
DTEND;TZID=Europe/Berlin:20220213T110000
LOCATION:tělocvičny ZŠ Mikulova\, Mikulova 1594 Praha - Chodov
SUMMARY:PP-KKY-5-B: Mikulova C-Kometa D
END:VEVENT
BEGIN:VEVENT
UID:34663362-6236-4135-a361-376663383666
DTSTAMP:20260422T235817Z
DESCRIPTION:5/5 Mikulova B - Kometa D 2:0 (21\,19)
DTSTART;TZID=Europe/Berlin:20220213T130000
DTEND;TZID=Europe/Berlin:20220213T150000
LOCATION:tělocvičny ZŠ Mikulova\, Mikulova 1594 Praha - Chodov
SUMMARY:PP-KKY-5-B: Mikulova B-Kometa D
END:VEVENT
BEGIN:VEVENT
UID:37363766-3739-4430-a466-393334383435
DTSTAMP:20260422T235817Z
DESCRIPTION:1/1 Kometa D - Kometa B 1:2 (15\,-17\,-12)
DTSTART;TZID=Europe/Berlin:20220403T090000
DTEND;TZID=Europe/Berlin:20220403T110000
LOCATION:Tělocvična ZŠ Na Šutce\, Na Šutce 440 Praha - Troja
SUMMARY:PP-KKY-6-C: Kometa D-Kometa B
END:VEVENT
BEGIN:VEVENT
UID:65613361-6235-4139-b366-656335623430
DTSTAMP:20260422T235817Z
DESCRIPTION:4/4 Kometa D - Meteor 1:2 (-22\,22\,-11)
DTSTART;TZID=Europe/Berlin:20220403T120000
DTEND;TZID=Europe/Berlin:20220403T140000
LOCATION:Tělocvična ZŠ Na Šutce\, Na Šutce 440 Praha - Troja
SUMMARY:PP-KKY-6-C: Kometa D-Meteor
END:VEVENT
BEGIN:VEVENT
UID:31613961-3966-4162-b762-306438323138
DTSTAMP:20260422T235817Z
DESCRIPTION:6/6 Orion B - Kometa D 0:2 (-13\,-20)
DTSTART;TZID=Europe/Berlin:20220403T140000
DTEND;TZID=Europe/Berlin:20220403T160000
LOCATION:Tělocvična ZŠ Na Šutce\, Na Šutce 440 Praha - Troja
SUMMARY:PP-KKY-6-C: Orion B-Kometa D
END:VEVENT
END:VCALENDAR
