BEGIN:VCALENDAR
VERSION:2.0
PRODID:-//SK Kometa Praha B76912//NONSGML kigkonsult.se iCalcreator 2.41.80//
CALSCALE:GREGORIAN
UID:38303733-6132-4838-b232-383537363833
BEGIN:VEVENT
UID:31643964-3638-4563-b031-316462306531
DTSTAMP:20260423T000344Z
DESCRIPTION:6/6 Kometa B - Kometa D 0:2 (-24\,-16)
DTSTART;TZID=Europe/Berlin:20211010T140000
DTEND;TZID=Europe/Berlin:20211010T160000
LOCATION:tělocvičny ZŠ Mikulova\, Mikulova 1594 Praha - Chodov
SUMMARY:PP-KKY-1-D: Kometa B-Kometa D
END:VEVENT
BEGIN:VEVENT
UID:65626630-6534-4633-a234-653038353132
DTSTAMP:20260423T000344Z
DESCRIPTION:2/2 H. Počernice - Kometa B 2:1 (11\,-22\,10)
DTSTART;TZID=Europe/Berlin:20211010T100000
DTEND;TZID=Europe/Berlin:20211010T120000
LOCATION:tělocvičny ZŠ Mikulova\, Mikulova 1594 Praha - Chodov
SUMMARY:PP-KKY-1-D: H. Počernice-Kometa B
END:VEVENT
BEGIN:VEVENT
UID:31343338-3666-4964-b935-363738613466
DTSTAMP:20260423T000344Z
DESCRIPTION:3/3 Mikulova E - Kometa B 2:1 (13\,-20\,11)
DTSTART;TZID=Europe/Berlin:20211010T110000
DTEND;TZID=Europe/Berlin:20211010T130000
LOCATION:tělocvičny ZŠ Mikulova\, Mikulova 1594 Praha - Chodov
SUMMARY:PP-KKY-1-D: Mikulova E-Kometa B
END:VEVENT
BEGIN:VEVENT
UID:30343238-6334-4465-b162-373031323763
DTSTAMP:20260423T000344Z
DESCRIPTION:1/1 Kometa B - JOKY 2:0 (20\,14)
DTSTART;TZID=Europe/Berlin:20211107T090000
DTEND;TZID=Europe/Berlin:20211107T110000
LOCATION:MZŠ Polesná 1690\, Praha 21\, Polesná 1690 Praha - Újezd nad Lesy
SUMMARY:PP-KKY-2-E: Kometa B-JOKY
END:VEVENT
BEGIN:VEVENT
UID:38656666-3438-4430-b863-626138643561
DTSTAMP:20260423T000344Z
DESCRIPTION:4/4 Kometa B - Španielka B 1:2 (-13\,15\,-11)
DTSTART;TZID=Europe/Berlin:20211107T120000
DTEND;TZID=Europe/Berlin:20211107T140000
LOCATION:MZŠ Polesná 1690\, Praha 21\, Polesná 1690 Praha - Újezd nad Lesy
SUMMARY:PP-KKY-2-E: Kometa B-Španielka B
END:VEVENT
BEGIN:VEVENT
UID:62383235-3836-4661-b561-663665326332
DTSTAMP:20260423T000344Z
DESCRIPTION:6/6 Radotín - Kometa B 0:2 (-12\,-16)
DTSTART;TZID=Europe/Berlin:20211107T140000
DTEND;TZID=Europe/Berlin:20211107T160000
LOCATION:MZŠ Polesná 1690\, Praha 21\, Polesná 1690 Praha - Újezd nad Lesy
SUMMARY:PP-KKY-2-E: Radotín-Kometa B
END:VEVENT
BEGIN:VEVENT
UID:33623365-3636-4164-b138-333664373461
DTSTAMP:20260423T000344Z
DESCRIPTION:2/2 Kometa B - JOKY 2:0 (15\,20)
DTSTART;TZID=Europe/Berlin:20211128T100000
DTEND;TZID=Europe/Berlin:20211128T120000
LOCATION:ZŠ Glowackého\, Glowackého 555 Praha - Troja
SUMMARY:PP-KKY-3-E: Kometa B-JOKY
END:VEVENT
BEGIN:VEVENT
UID:36383833-3132-4837-a638-393437333933
DTSTAMP:20260423T000344Z
DESCRIPTION:5/5 Kometa B - Radotín 2:0 (11\,20)
DTSTART;TZID=Europe/Berlin:20211128T130000
DTEND;TZID=Europe/Berlin:20211128T150000
LOCATION:ZŠ Glowackého\, Glowackého 555 Praha - Troja
SUMMARY:PP-KKY-3-E: Kometa B-Radotín
END:VEVENT
BEGIN:VEVENT
UID:39633061-3165-4233-a236-663563333732
DTSTAMP:20260423T000344Z
DESCRIPTION:4/4 Vršovice - Kometa B 0:2 (-12\,-20)
DTSTART;TZID=Europe/Berlin:20211128T120000
DTEND;TZID=Europe/Berlin:20211128T140000
LOCATION:ZŠ Glowackého\, Glowackého 555 Praha - Troja
SUMMARY:PP-KKY-3-E: Vršovice-Kometa B
END:VEVENT
BEGIN:VEVENT
UID:35356131-3234-4432-b662-303933326661
DTSTAMP:20260423T000344Z
DESCRIPTION:3/3 Kometa B - Španielka B 0:2 (-22\,-19)
DTSTART;TZID=Europe/Berlin:20211219T110000
DTEND;TZID=Europe/Berlin:20211219T130000
LOCATION:tělocvičny ZŠ Mikulova\, Mikulova 1594 Praha - Chodov
SUMMARY:PP-KKY-4-D: Kometa B-Španielka B
END:VEVENT
BEGIN:VEVENT
UID:30663035-6237-4864-b566-343166653236
DTSTAMP:20260423T000344Z
DESCRIPTION:1/1 Meteor - Kometa B 2:1 (24\,-24\,11)
DTSTART;TZID=Europe/Berlin:20211219T090000
DTEND;TZID=Europe/Berlin:20211219T110000
LOCATION:tělocvičny ZŠ Mikulova\, Mikulova 1594 Praha - Chodov
SUMMARY:PP-KKY-4-D: Meteor-Kometa B
END:VEVENT
BEGIN:VEVENT
UID:65643861-6638-4234-a264-633866313533
DTSTAMP:20260423T000344Z
DESCRIPTION:5/5 Mikulova E - Kometa B 0:2 (-13\,-18)
DTSTART;TZID=Europe/Berlin:20211219T130000
DTEND;TZID=Europe/Berlin:20211219T150000
LOCATION:tělocvičny ZŠ Mikulova\, Mikulova 1594 Praha - Chodov
SUMMARY:PP-KKY-4-D: Mikulova E-Kometa B
END:VEVENT
BEGIN:VEVENT
UID:62656333-3561-4664-b135-633663333066
DTSTAMP:20260423T000344Z
DESCRIPTION:2/2 Kometa B - Mikulova E 2:1 (16\,-22\,8)
DTSTART;TZID=Europe/Berlin:20220213T100000
DTEND;TZID=Europe/Berlin:20220213T120000
LOCATION:TJ Sokol Horní Počernice\, Chvalkovická 2031 Praha - Horní Počerni
 ce
SUMMARY:PP-KKY-5-D: Kometa B-Mikulova E
END:VEVENT
BEGIN:VEVENT
UID:31643865-3464-4264-a262-393734373530
DTSTAMP:20260423T000344Z
DESCRIPTION:5/5 Kometa B - H. Počernice 2:0 (20\,15)
DTSTART;TZID=Europe/Berlin:20220213T130000
DTEND;TZID=Europe/Berlin:20220213T150000
LOCATION:TJ Sokol Horní Počernice\, Chvalkovická 2031 Praha - Horní Počerni
 ce
SUMMARY:PP-KKY-5-D: Kometa B-H. Počernice
END:VEVENT
BEGIN:VEVENT
UID:62356636-3464-4165-a634-376534326239
DTSTAMP:20260423T000344Z
DESCRIPTION:4/4 Braník C - Kometa B 1:2 (-21\,19\,-10)
DTSTART;TZID=Europe/Berlin:20220213T120000
DTEND;TZID=Europe/Berlin:20220213T140000
LOCATION:TJ Sokol Horní Počernice\, Chvalkovická 2031 Praha - Horní Počerni
 ce
SUMMARY:PP-KKY-5-D: Braník C-Kometa B
END:VEVENT
BEGIN:VEVENT
UID:32633638-3438-4865-a536-356438373437
DTSTAMP:20260423T000344Z
DESCRIPTION:3/3 Kometa B - Orion B 2:0 (24\,14)
DTSTART;TZID=Europe/Berlin:20220403T110000
DTEND;TZID=Europe/Berlin:20220403T130000
LOCATION:Tělocvična ZŠ Na Šutce\, Na Šutce 440 Praha - Troja
SUMMARY:PP-KKY-6-C: Kometa B-Orion B
END:VEVENT
BEGIN:VEVENT
UID:32393263-6163-4135-a138-303630343661
DTSTAMP:20260423T000344Z
DESCRIPTION:1/1 Kometa D - Kometa B 1:2 (15\,-17\,-12)
DTSTART;TZID=Europe/Berlin:20220403T090000
DTEND;TZID=Europe/Berlin:20220403T110000
LOCATION:Tělocvična ZŠ Na Šutce\, Na Šutce 440 Praha - Troja
SUMMARY:PP-KKY-6-C: Kometa D-Kometa B
END:VEVENT
BEGIN:VEVENT
UID:35326661-6132-4462-b233-623636353837
DTSTAMP:20260423T000344Z
DESCRIPTION:5/5 Meteor - Kometa B 2:0 (23\,19)
DTSTART;TZID=Europe/Berlin:20220403T130000
DTEND;TZID=Europe/Berlin:20220403T150000
LOCATION:Tělocvična ZŠ Na Šutce\, Na Šutce 440 Praha - Troja
SUMMARY:PP-KKY-6-C: Meteor-Kometa B
END:VEVENT
END:VCALENDAR
