BEGIN:VCALENDAR
VERSION:2.0
PRODID:-//SK Španielka Řepy A76914//NONSGML kigkonsult.se iCalcreator 2.41.80//
CALSCALE:GREGORIAN
UID:34316466-3934-4566-a163-663333383463
BEGIN:VEVENT
UID:33386663-6365-4938-a133-666333653061
DTSTAMP:20260422T230038Z
DESCRIPTION:6/6 Španielka A - Meteor 2:0 (18\,14)
DTSTART;TZID=Europe/Berlin:20211010T140000
DTEND;TZID=Europe/Berlin:20211010T160000
LOCATION:tělocvičny ZŠ Mikulova\, Mikulova 1594 Praha - Chodov
SUMMARY:PP-KKY-1-B: Španielka A-Meteor
END:VEVENT
BEGIN:VEVENT
UID:37666335-6333-4863-b839-323534663430
DTSTAMP:20260422T230038Z
DESCRIPTION:2/2 Mikulova B - Španielka A 2:0 (20\,22)
DTSTART;TZID=Europe/Berlin:20211010T100000
DTEND;TZID=Europe/Berlin:20211010T120000
LOCATION:tělocvičny ZŠ Mikulova\, Mikulova 1594 Praha - Chodov
SUMMARY:PP-KKY-1-B: Mikulova B-Španielka A
END:VEVENT
BEGIN:VEVENT
UID:39343364-3238-4632-a336-393065323333
DTSTAMP:20260422T230038Z
DESCRIPTION:3/3 Kometa C - Španielka A 1:2 (22\,-20\,-10)
DTSTART;TZID=Europe/Berlin:20211010T110000
DTEND;TZID=Europe/Berlin:20211010T130000
LOCATION:tělocvičny ZŠ Mikulova\, Mikulova 1594 Praha - Chodov
SUMMARY:PP-KKY-1-B: Kometa C-Španielka A
END:VEVENT
BEGIN:VEVENT
UID:63343663-3933-4633-b261-326364613765
DTSTAMP:20260422T230038Z
DESCRIPTION:2/2 Španielka A - Kometa C 2:1 (12\,-22\,8)
DTSTART;TZID=Europe/Berlin:20211107T100000
DTEND;TZID=Europe/Berlin:20211107T120000
LOCATION:Sportovní hala Gymnázia Jana Keplera\, Parléřova 118 Praha - Hradč
 any
SUMMARY:PP-KKY-2-B: Španielka A-Kometa C
END:VEVENT
BEGIN:VEVENT
UID:33626362-3337-4466-a565-333937376461
DTSTAMP:20260422T230038Z
DESCRIPTION:5/5 Španielka A - Mikulova D 2:0 (21\,18)
DTSTART;TZID=Europe/Berlin:20211107T130000
DTEND;TZID=Europe/Berlin:20211107T150000
LOCATION:Sportovní hala Gymnázia Jana Keplera\, Parléřova 118 Praha - Hradč
 any
SUMMARY:PP-KKY-2-B: Španielka A-Mikulova D
END:VEVENT
BEGIN:VEVENT
UID:61663536-3035-4338-b339-343164323564
DTSTAMP:20260422T230038Z
DESCRIPTION:4/4 Dansport - Španielka A 2:0 (22\,24)
DTSTART;TZID=Europe/Berlin:20211107T120000
DTEND;TZID=Europe/Berlin:20211107T140000
LOCATION:Sportovní hala Gymnázia Jana Keplera\, Parléřova 118 Praha - Hradč
 any
SUMMARY:PP-KKY-2-B: Dansport-Španielka A
END:VEVENT
BEGIN:VEVENT
UID:34336632-3335-4765-a136-323839343663
DTSTAMP:20260422T230038Z
DESCRIPTION:6/6 Španielka A - Mikulova C 1:2 (21\,-16\,-12)
DTSTART;TZID=Europe/Berlin:20211128T140000
DTEND;TZID=Europe/Berlin:20211128T160000
LOCATION:SKŠ ZŠ Mikulova Praha\, Mikulova 1594 Praha - Chodov
SUMMARY:PP-KKY-3-B: Španielka A-Mikulova C
END:VEVENT
BEGIN:VEVENT
UID:39646135-6530-4433-b932-316363646133
DTSTAMP:20260422T230038Z
DESCRIPTION:2/2 Kometa C - Španielka A 2:0 (23\,18)
DTSTART;TZID=Europe/Berlin:20211128T100000
DTEND;TZID=Europe/Berlin:20211128T120000
LOCATION:SKŠ ZŠ Mikulova Praha\, Mikulova 1594 Praha - Chodov
SUMMARY:PP-KKY-3-B: Kometa C-Španielka A
END:VEVENT
BEGIN:VEVENT
UID:62393531-6438-4563-b265-323336373063
DTSTAMP:20260422T230038Z
DESCRIPTION:3/3 Orion B - Španielka A 0:2 (-15\,-15)
DTSTART;TZID=Europe/Berlin:20211128T110000
DTEND;TZID=Europe/Berlin:20211128T130000
LOCATION:SKŠ ZŠ Mikulova Praha\, Mikulova 1594 Praha - Chodov
SUMMARY:PP-KKY-3-B: Orion B-Španielka A
END:VEVENT
BEGIN:VEVENT
UID:65363063-3565-4433-b232-623566613330
DTSTAMP:20260422T230038Z
DESCRIPTION:6/6 Španielka A - Mikulova B 2:0 (22\,20)
DTSTART;TZID=Europe/Berlin:20211219T140000
DTEND;TZID=Europe/Berlin:20211219T160000
LOCATION:Tělocvična ZŠ\, Španielova 1111 Praha - Řepy
SUMMARY:PP-KKY-4-B: Španielka A-Mikulova B
END:VEVENT
BEGIN:VEVENT
UID:66633863-3832-4561-b835-303338666332
DTSTAMP:20260422T230038Z
DESCRIPTION:2/2 Kometa C - Španielka A 0:2 (-24\,-16)
DTSTART;TZID=Europe/Berlin:20211219T100000
DTEND;TZID=Europe/Berlin:20211219T120000
LOCATION:Tělocvična ZŠ\, Španielova 1111 Praha - Řepy
SUMMARY:PP-KKY-4-B: Kometa C-Španielka A
END:VEVENT
BEGIN:VEVENT
UID:38623137-3065-4261-b939-366166373332
DTSTAMP:20260422T230038Z
DESCRIPTION:3/3 SAVO - Španielka A 0:2 (-22\,-17)
DTSTART;TZID=Europe/Berlin:20211219T110000
DTEND;TZID=Europe/Berlin:20211219T130000
LOCATION:Tělocvična ZŠ\, Španielova 1111 Praha - Řepy
SUMMARY:PP-KKY-4-B: SAVO-Španielka A
END:VEVENT
BEGIN:VEVENT
UID:32326139-6465-4931-b130-393263326537
DTSTAMP:20260422T230038Z
DESCRIPTION:3/3 Španielka A - Slavia Praha 0:2 (-21\,-18)
DTSTART;TZID=Europe/Berlin:20220213T110000
DTEND;TZID=Europe/Berlin:20220213T130000
LOCATION:Sportovní hala Gymnázia Jana Keplera\, Parléřova 118 Praha - Hradč
 any
SUMMARY:PP-KKY-5-A: Španielka A-Slavia Praha
END:VEVENT
BEGIN:VEVENT
UID:38353633-3661-4635-b337-393735313730
DTSTAMP:20260422T230038Z
DESCRIPTION:1/1 Dansport - Španielka A 2:1 (-16\,8\,12)
DTSTART;TZID=Europe/Berlin:20220213T090000
DTEND;TZID=Europe/Berlin:20220213T110000
LOCATION:Sportovní hala Gymnázia Jana Keplera\, Parléřova 118 Praha - Hradč
 any
SUMMARY:PP-KKY-5-A: Dansport-Španielka A
END:VEVENT
BEGIN:VEVENT
UID:62396665-3235-4939-a335-363062323464
DTSTAMP:20260422T230038Z
DESCRIPTION:5/5 Braník - Španielka A 2:1 (-23\,14\,12)
DTSTART;TZID=Europe/Berlin:20220213T130000
DTEND;TZID=Europe/Berlin:20220213T150000
LOCATION:Sportovní hala Gymnázia Jana Keplera\, Parléřova 118 Praha - Hradč
 any
SUMMARY:PP-KKY-5-A: Braník-Španielka A
END:VEVENT
BEGIN:VEVENT
UID:64333638-3830-4838-b363-396239643439
DTSTAMP:20260422T230038Z
DESCRIPTION:1/1 Španielka A - Mikulova D 2:0 (14\,21)
DTSTART;TZID=Europe/Berlin:20220403T100000
DTEND;TZID=Europe/Berlin:20220403T120000
LOCATION:SKŠ ZŠ Mikulova Praha\, Mikulova 1594 Praha - Chodov
SUMMARY:PP-KKY-6-B: Španielka A-Mikulova D
END:VEVENT
BEGIN:VEVENT
UID:64383130-3264-4964-a565-323330333836
DTSTAMP:20260422T230038Z
DESCRIPTION:4/4 Španielka A - Mikulova C 2:1 (-18\,18\,14)
DTSTART;TZID=Europe/Berlin:20220403T110000
DTEND;TZID=Europe/Berlin:20220403T130000
LOCATION:SKŠ ZŠ Mikulova Praha\, Mikulova 1594 Praha - Chodov
SUMMARY:PP-KKY-6-B: Španielka A-Mikulova C
END:VEVENT
BEGIN:VEVENT
UID:61623635-3431-4062-b731-623134366436
DTSTAMP:20260422T230038Z
DESCRIPTION:6/6 Kometa C - Španielka A 0:2 (-20\,-20)
DTSTART;TZID=Europe/Berlin:20220403T120000
DTEND;TZID=Europe/Berlin:20220403T140000
LOCATION:SKŠ ZŠ Mikulova Praha\, Mikulova 1594 Praha - Chodov
SUMMARY:PP-KKY-6-B: Kometa C-Španielka A
END:VEVENT
END:VCALENDAR
