BEGIN:VCALENDAR
VERSION:2.0
PRODID:-//Volejbal Červený Kostelec76970//NONSGML kigkonsult.se iCalcreator 2.41.80//
CALSCALE:GREGORIAN
UID:38323065-3539-4363-a665-346532323933
BEGIN:VEVENT
UID:62306533-3466-4430-a335-383466333933
DTSTAMP:20260422T070113Z
DESCRIPTION:3/9 Č.Kostelec - Náchod B 3:X
DTSTART;TZID=Europe/Berlin:20211009T100000
DTEND;TZID=Europe/Berlin:20211009T120000
LOCATION:Sportovní hala\, Palackého 1234 Červený Kostelec
SUMMARY:HK-KKY: Č.Kostelec-Náchod B
END:VEVENT
BEGIN:VEVENT
UID:36386130-6434-4332-a634-383964623166
DTSTAMP:20260422T070113Z
DESCRIPTION:4/12 Č.Kostelec - Náchod B 3:X
DTSTART;TZID=Europe/Berlin:20211009T130000
DTEND;TZID=Europe/Berlin:20211009T150000
LOCATION:Sportovní hala\, Palackého 1234 Červený Kostelec
SUMMARY:HK-KKY: Č.Kostelec-Náchod B
END:VEVENT
BEGIN:VEVENT
UID:39663064-3564-4431-b230-363937343163
DTSTAMP:20260422T070113Z
DESCRIPTION:7/20 Č.Kostelec - Jičín 0:3 (-14\,-18\,-21)
DTSTART;TZID=Europe/Berlin:20211030T100000
DTEND;TZID=Europe/Berlin:20211030T120000
LOCATION:Sportovní hala\, Palackého 1234 Červený Kostelec
SUMMARY:HK-KKY: Č.Kostelec-Jičín
END:VEVENT
BEGIN:VEVENT
UID:39373861-3065-4765-a664-666436653738
DTSTAMP:20260422T070113Z
DESCRIPTION:8/23 Č.Kostelec - Jičín 1:3 (20\,-15\,-19\,-16)
DTSTART;TZID=Europe/Berlin:20211030T130000
DTEND;TZID=Europe/Berlin:20211030T150000
LOCATION:Sportovní hala\, Palackého 1234 Červený Kostelec
SUMMARY:HK-KKY: Č.Kostelec-Jičín
END:VEVENT
BEGIN:VEVENT
UID:31386666-3032-4431-a337-336265306635
DTSTAMP:20260422T070113Z
DESCRIPTION:11/31 Č.Kostelec - Pouchov 3:2 (11\,-20\,-13\,16\,2)
DTSTART;TZID=Europe/Berlin:20211113T100000
DTEND;TZID=Europe/Berlin:20211113T120000
LOCATION:Sokolovna\, Chrby 675 Červený Kostelec
SUMMARY:HK-KKY: Č.Kostelec-Pouchov
END:VEVENT
BEGIN:VEVENT
UID:34646561-3039-4165-b062-353861613334
DTSTAMP:20260422T070113Z
DESCRIPTION:12/34 Č.Kostelec - Pouchov 3:1 (-22\,20\,13\,13)
DTSTART;TZID=Europe/Berlin:20211113T130000
DTEND;TZID=Europe/Berlin:20211113T150000
LOCATION:Sokolovna\, Chrby 675 Červený Kostelec
SUMMARY:HK-KKY: Č.Kostelec-Pouchov
END:VEVENT
BEGIN:VEVENT
UID:33633537-6166-4361-b863-383032393632
DTSTAMP:20260422T070113Z
DESCRIPTION:19/55 Č.Kostelec - RÉMA Rychnov 3:2 (-17\,22\,18\,-9\,19)
DTSTART;TZID=Europe/Berlin:20220115T100000
DTEND;TZID=Europe/Berlin:20220115T120000
LOCATION:Sokolovna\, Chrby 675 Červený Kostelec
SUMMARY:HK-KKY: Č.Kostelec-RÉMA Rychnov
END:VEVENT
BEGIN:VEVENT
UID:37316364-6564-4264-a338-653466313431
DTSTAMP:20260422T070113Z
DESCRIPTION:20/58 Č.Kostelec - RÉMA Rychnov 2:3 (-12\,-20\,20\,22\,-5)
DTSTART;TZID=Europe/Berlin:20220115T130000
DTEND;TZID=Europe/Berlin:20220115T150000
LOCATION:Sokolovna\, Chrby 675 Červený Kostelec
SUMMARY:HK-KKY: Č.Kostelec-RÉMA Rychnov
END:VEVENT
BEGIN:VEVENT
UID:31613539-3766-4365-a338-646338626364
DTSTAMP:20260422T070113Z
DESCRIPTION:23/68 Č.Kostelec - Chlumec 0:3 (-19\,-17\,-19)
DTSTART;TZID=Europe/Berlin:20220205T090000
DTEND;TZID=Europe/Berlin:20220205T110000
LOCATION:Sportovní hala\, Palackého 1234 Červený Kostelec
SUMMARY:HK-KKY: Č.Kostelec-Chlumec
END:VEVENT
BEGIN:VEVENT
UID:64303966-3836-4263-b135-396439326532
DTSTAMP:20260422T070113Z
DESCRIPTION:24/71 Č.Kostelec - Chlumec 0:3 (-14\,-21\,-11)
DTSTART;TZID=Europe/Berlin:20220205T130000
DTEND;TZID=Europe/Berlin:20220205T150000
LOCATION:Sportovní hala\, Palackého 1234 Červený Kostelec
SUMMARY:HK-KKY: Č.Kostelec-Chlumec
END:VEVENT
BEGIN:VEVENT
UID:30356364-3130-4466-a339-373263323634
DTSTAMP:20260422T070113Z
DESCRIPTION:5/13 RÉMA Rychnov - Č.Kostelec 2:3 (25\,15\,-25\,-15\,-10)
DTSTART;TZID=Europe/Berlin:20211023T090000
DTEND;TZID=Europe/Berlin:20211023T110000
LOCATION:Hala VOŠ a SPŠS\, U Stadionu 1166 Rychnov nad Kněžnou
SUMMARY:HK-KKY: RÉMA Rychnov-Č.Kostelec
END:VEVENT
BEGIN:VEVENT
UID:62633062-3761-4131-b962-363865663032
DTSTAMP:20260422T070113Z
DESCRIPTION:6/16 RÉMA Rychnov - Č.Kostelec 3:0 (19\,14\,19)
DTSTART;TZID=Europe/Berlin:20211023T130000
DTEND;TZID=Europe/Berlin:20211023T150000
LOCATION:Hala VOŠ a SPŠS\, U Stadionu 1166 Rychnov nad Kněžnou
SUMMARY:HK-KKY: RÉMA Rychnov-Č.Kostelec
END:VEVENT
BEGIN:VEVENT
UID:64613435-6662-4135-b036-363836663833
DTSTAMP:20260422T070113Z
DESCRIPTION:9/26 Chlumec - Č.Kostelec 3:0 (12\,23\,15)
DTSTART;TZID=Europe/Berlin:20211106T100000
DTEND;TZID=Europe/Berlin:20211106T120000
LOCATION:školní tělocvična\, Kozelkova 123 Chlumec nad Cidlinou - Chlumec n
 ad Cidlinou IV
SUMMARY:HK-KKY: Chlumec-Č.Kostelec
END:VEVENT
BEGIN:VEVENT
UID:34376239-6262-4263-a166-373337623430
DTSTAMP:20260422T070113Z
DESCRIPTION:10/29 Chlumec - Č.Kostelec 3:0 (19\,22\,18)
DTSTART;TZID=Europe/Berlin:20211106T130000
DTEND;TZID=Europe/Berlin:20211106T150000
LOCATION:školní tělocvična\, Kozelkova 123 Chlumec nad Cidlinou - Chlumec n
 ad Cidlinou IV
SUMMARY:HK-KKY: Chlumec-Č.Kostelec
END:VEVENT
BEGIN:VEVENT
UID:61616630-3531-4033-b938-326635316634
DTSTAMP:20260422T070113Z
DESCRIPTION:17/51 Náchod B - Č.Kostelec X:3
DTSTART;TZID=Europe/Berlin:20220227T100000
DTEND;TZID=Europe/Berlin:20220227T120000
LOCATION:SPORT KLUB Náchod\, Pražská 696 Náchod
SUMMARY:HK-KKY: Náchod B-Č.Kostelec
END:VEVENT
BEGIN:VEVENT
UID:35343333-3162-4434-b736-356431323434
DTSTAMP:20260422T070113Z
DESCRIPTION:18/54 Náchod B - Č.Kostelec X:3
DTSTART;TZID=Europe/Berlin:20220227T130000
DTEND;TZID=Europe/Berlin:20220227T150000
LOCATION:SPORT KLUB Náchod\, Pražská 696 Náchod
SUMMARY:HK-KKY: Náchod B-Č.Kostelec
END:VEVENT
BEGIN:VEVENT
UID:36383365-6537-4337-a664-373432666435
DTSTAMP:20260422T070113Z
DESCRIPTION:21/62 Jičín - Č.Kostelec 3:0 (12\,17\,24)
DTSTART;TZID=Europe/Berlin:20220129T100000
DTEND;TZID=Europe/Berlin:20220129T120000
LOCATION:Hala 3. základní školy Jičín\, Poděbradova 18 Jičín - Nové Město
SUMMARY:HK-KKY: Jičín-Č.Kostelec
END:VEVENT
BEGIN:VEVENT
UID:35303439-3632-4232-b936-306262646436
DTSTAMP:20260422T070113Z
DESCRIPTION:22/65 Jičín - Č.Kostelec 3:0 (14\,17\,16)
DTSTART;TZID=Europe/Berlin:20220129T130000
DTEND;TZID=Europe/Berlin:20220129T150000
LOCATION:Hala 3. základní školy Jičín\, Poděbradova 18 Jičín - Nové Město
SUMMARY:HK-KKY: Jičín-Č.Kostelec
END:VEVENT
BEGIN:VEVENT
UID:35333932-3530-4838-a532-646231323161
DTSTAMP:20260422T070113Z
DESCRIPTION:25/73 Pouchov - Č.Kostelec 1:3 (-8\,24\,-18\,-20)
DTSTART;TZID=Europe/Berlin:20220212T100000
DTEND;TZID=Europe/Berlin:20220212T120000
LOCATION:TJ Slavia Hradec Králové\, Víta Nejedlého 1216 Hradec Králové
SUMMARY:HK-KKY: Pouchov-Č.Kostelec
END:VEVENT
BEGIN:VEVENT
UID:36326633-6133-4366-b334-613762336630
DTSTAMP:20260422T070113Z
DESCRIPTION:26/76 Pouchov - Č.Kostelec 0:3 (-12\,-15\,-16)
DTSTART;TZID=Europe/Berlin:20220212T130000
DTEND;TZID=Europe/Berlin:20220212T150000
LOCATION:TJ Slavia Hradec Králové\, Víta Nejedlého 1216 Hradec Králové
SUMMARY:HK-KKY: Pouchov-Č.Kostelec
END:VEVENT
BEGIN:VEVENT
UID:31653537-6266-4434-b537-613335323339
DTSTAMP:20260422T070113Z
DESCRIPTION:6/12 Č.Kostelec - Třebín 2:1 (15\,-17\,5)
DTSTART;TZID=Europe/Berlin:20211016T150000
DTEND;TZID=Europe/Berlin:20211016T170000
LOCATION:Sportovní hala\, Palackého 1234 Červený Kostelec
SUMMARY:CP-KKY-E: Č.Kostelec-Třebín
END:VEVENT
BEGIN:VEVENT
UID:66386135-3562-4232-b266-636130343963
DTSTAMP:20260422T070113Z
DESCRIPTION:8/16 Č.Kostelec - Jičín 0:2 (-21\,-25)
DTSTART;TZID=Europe/Berlin:20211017T090000
DTEND;TZID=Europe/Berlin:20211017T110000
LOCATION:Sportovní hala\, Palackého 1234 Červený Kostelec
SUMMARY:CP-KKY-E: Č.Kostelec-Jičín
END:VEVENT
BEGIN:VEVENT
UID:34373839-3431-4563-a265-343263336365
DTSTAMP:20260422T070113Z
DESCRIPTION:10/20 Č.Kostelec - Č. Třebová 'A' 1:2 (14\,-21\,-10)
DTSTART;TZID=Europe/Berlin:20211017T110000
DTEND;TZID=Europe/Berlin:20211017T130000
LOCATION:Sportovní hala\, Palackého 1234 Červený Kostelec
SUMMARY:CP-KKY-E: Č.Kostelec-Č. Třebová 'A'
END:VEVENT
BEGIN:VEVENT
UID:36396535-3039-4634-a234-313861626631
DTSTAMP:20260422T070113Z
DESCRIPTION:1/2 Rtyně - Č.Kostelec 2:0 (17\,16)
DTSTART;TZID=Europe/Berlin:20211016T100000
DTEND;TZID=Europe/Berlin:20211016T120000
LOCATION:Tělocvična ZŠ Zbečník\,  Hronov - Zbečník210
SUMMARY:CP-KKY-E: Rtyně-Č.Kostelec
END:VEVENT
BEGIN:VEVENT
UID:39633532-6464-4666-a331-396330353661
DTSTAMP:20260422T070113Z
DESCRIPTION:3/6 Braník - Č.Kostelec 2:1 (-22\,16\,7)
DTSTART;TZID=Europe/Berlin:20211016T120000
DTEND;TZID=Europe/Berlin:20211016T140000
LOCATION:TJ ABC Braník Branická 275/93\, 147 00 Praha 4
SUMMARY:CP-KKY-E: Braník-Č.Kostelec
END:VEVENT
BEGIN:VEVENT
UID:33326264-3165-4136-b539-663039646135
DTSTAMP:20260422T070113Z
DESCRIPTION:5/9 Olymp - Č.Kostelec 2:0 (7\,17)
DTSTART;TZID=Europe/Berlin:20211016T140000
DTEND;TZID=Europe/Berlin:20211016T160000
LOCATION:PVK Olymp Praha\, Přípotoční 300 Praha - Vršovice
SUMMARY:CP-KKY-E: Olymp-Č.Kostelec
END:VEVENT
BEGIN:VEVENT
UID:63616262-3835-4034-b036-393032343431
DTSTAMP:20260422T070113Z
DESCRIPTION:2/3 Č.Kostelec - Mělník X:2
DTSTART;TZID=Europe/Berlin:20211120T100000
DTEND;TZID=Europe/Berlin:20211120T120000
LOCATION:Sportovní hala\, Palackého 1234 Červený Kostelec
SUMMARY:CP-KKY-1D: Č.Kostelec-Mělník
END:VEVENT
BEGIN:VEVENT
UID:61616331-6364-4633-b661-343539306566
DTSTAMP:20260422T070113Z
DESCRIPTION:5/9 Č.Kostelec - VSK Spartak Děčín X:X
DTSTART;TZID=Europe/Berlin:20211120T130000
DTEND;TZID=Europe/Berlin:20211120T150000
LOCATION:Sportovní hala\, Palackého 1234 Červený Kostelec
SUMMARY:CP-KKY-1D: Č.Kostelec-VSK Spartak Děčín
END:VEVENT
BEGIN:VEVENT
UID:35333065-3631-4034-a131-663737343038
DTSTAMP:20260422T070113Z
DESCRIPTION:8/16 Č.Kostelec - SKTO Duchcov X:2
DTSTART;TZID=Europe/Berlin:20211120T170000
DTEND;TZID=Europe/Berlin:20211120T190000
LOCATION:Sportovní hala\, Palackého 1234 Červený Kostelec
SUMMARY:CP-KKY-1D: Č.Kostelec-SKTO Duchcov
END:VEVENT
BEGIN:VEVENT
UID:34663763-3766-4733-a639-313431376238
DTSTAMP:20260422T070113Z
DESCRIPTION:12/23 Č.Kostelec - Č. Třebová 'A' X:2
DTSTART;TZID=Europe/Berlin:20211121T100000
DTEND;TZID=Europe/Berlin:20211121T120000
LOCATION:Sportovní hala\, Palackého 1234 Červený Kostelec
SUMMARY:CP-KKY-1D: Č.Kostelec-Č. Třebová 'A'
END:VEVENT
BEGIN:VEVENT
UID:35643465-3032-4164-b162-653238366266
DTSTAMP:20260422T070113Z
DESCRIPTION:4/8 TJ Baník Most - Č.Kostelec 2:X
DTSTART;TZID=Europe/Berlin:20211120T120000
DTEND;TZID=Europe/Berlin:20211120T140000
LOCATION:Sportovní Hala Most Třída Budovatelů 112/7
SUMMARY:CP-KKY-1D: TJ Baník Most-Č.Kostelec
END:VEVENT
BEGIN:VEVENT
UID:62626565-6539-4033-b862-303532346165
DTSTAMP:20260422T070113Z
DESCRIPTION:9/18 Meteor - Č.Kostelec 2:X
DTSTART;TZID=Europe/Berlin:20211120T180000
DTEND;TZID=Europe/Berlin:20211120T200000
LOCATION:ZŠ Žernosecká Žernosecká 3/1597\, Praha 8
SUMMARY:CP-KKY-1D: Meteor-Č.Kostelec
END:VEVENT
BEGIN:VEVENT
UID:65666537-6638-4436-b132-626135363431
DTSTAMP:20260422T070113Z
DESCRIPTION:14/27 U. Hradiště - Č.Kostelec 2:X
DTSTART;TZID=Europe/Berlin:20211121T120000
DTEND;TZID=Europe/Berlin:20211121T140000
LOCATION:Městská sportovní hala\, Stonky 860 Uherské Hradiště
SUMMARY:CP-KKY-1D: U. Hradiště-Č.Kostelec
END:VEVENT
BEGIN:VEVENT
UID:66353962-3730-4037-b731-666131386232
DTSTAMP:20260422T070113Z
DESCRIPTION:2/2 Č.Kostelec - Jičín 0:3 (-13\,-18\,-9)
DTSTART;TZID=Europe/Berlin:20220305T100000
DTEND;TZID=Europe/Berlin:20220305T120000
LOCATION:Sportovní hala\, Palackého 1234 Červený Kostelec
SUMMARY:HK-KKY-P: Č.Kostelec-Jičín
END:VEVENT
BEGIN:VEVENT
UID:33306662-3831-4131-b939-613566343731
DTSTAMP:20260422T070113Z
DESCRIPTION:3/3 RÉMA Rychnov - Č.Kostelec 3:2 (22\,-21\,19\,-24\,11)\no 3.m
 ísto
DTSTART;TZID=Europe/Berlin:20220305T123000
DTEND;TZID=Europe/Berlin:20220305T143000
LOCATION:Hala VOŠ a SPŠS\, U Stadionu 1166 Rychnov nad Kněžnou
SUMMARY:HK-KKY-P: RÉMA Rychnov-Č.Kostelec
END:VEVENT
BEGIN:VEVENT
UID:61383962-3566-4162-a232-636135396463
DTSTAMP:20260422T070113Z
DESCRIPTION:7/14 Č.Kostelec - Mikulova B 2:0 (20\,15)
DTSTART;TZID=Europe/Berlin:20220219T160000
DTEND;TZID=Europe/Berlin:20220219T180000
LOCATION:Sportovní hala\, Palackého 1234 Červený Kostelec
SUMMARY:CP-KKY-3D: Č.Kostelec-Mikulova B
END:VEVENT
BEGIN:VEVENT
UID:30306536-6338-4964-b136-396236393838
DTSTAMP:20260422T070113Z
DESCRIPTION:10/19 Č.Kostelec - Rokycany 0:2 (-19\,-12)
DTSTART;TZID=Europe/Berlin:20220220T090000
DTEND;TZID=Europe/Berlin:20220220T110000
LOCATION:Sportovní hala\, Palackého 1234 Červený Kostelec
SUMMARY:CP-KKY-3D: Č.Kostelec-Rokycany
END:VEVENT
BEGIN:VEVENT
UID:61643164-3838-4664-b932-626634396336
DTSTAMP:20260422T070113Z
DESCRIPTION:12/24 Č.Kostelec - Meteor 0:2 (-22\,-16)
DTSTART;TZID=Europe/Berlin:20220220T110000
DTEND;TZID=Europe/Berlin:20220220T130000
LOCATION:Sportovní hala\, Palackého 1234 Červený Kostelec
SUMMARY:CP-KKY-3D: Č.Kostelec-Meteor
END:VEVENT
BEGIN:VEVENT
UID:30386666-3337-4430-b537-306333336461
DTSTAMP:20260422T070113Z
DESCRIPTION:2/3 Mělník - Č.Kostelec 0:2 (-11\,-7)
DTSTART;TZID=Europe/Berlin:20220219T100000
DTEND;TZID=Europe/Berlin:20220219T120000
LOCATION:Tělocvična ZŠ J. Matiegky\, Pražská 2817 Mělník
SUMMARY:CP-KKY-3D: Mělník-Č.Kostelec
END:VEVENT
BEGIN:VEVENT
UID:37396661-3063-4933-b837-363763353539
DTSTAMP:20260422T070113Z
DESCRIPTION:3/6 TJ Baník Most - Č.Kostelec 0:2 (-20\,-17)
DTSTART;TZID=Europe/Berlin:20220219T110000
DTEND;TZID=Europe/Berlin:20220219T130000
LOCATION:Sportovní Hala Most Třída Budovatelů 112/7
SUMMARY:CP-KKY-3D: TJ Baník Most-Č.Kostelec
END:VEVENT
BEGIN:VEVENT
UID:62366332-6563-4463-a534-383534393764
DTSTAMP:20260422T070113Z
DESCRIPTION:5/9 VSK Spartak Děčín - Č.Kostelec 0:2 (-9\,-22)
DTSTART;TZID=Europe/Berlin:20220219T130000
DTEND;TZID=Europe/Berlin:20220219T150000
LOCATION:ZŠ Dr .Míroslava Tyrše Vokolkova ul. Děčín 2
SUMMARY:CP-KKY-3D: VSK Spartak Děčín-Č.Kostelec
END:VEVENT
BEGIN:VEVENT
UID:66653961-6164-4630-a364-323033323139
DTSTAMP:20260422T070113Z
DESCRIPTION:14/28 Č.Třebová B - Č.Kostelec 1:2 (-21\,18\,-10)
DTSTART;TZID=Europe/Berlin:20220220T130000
DTEND;TZID=Europe/Berlin:20220220T150000
SUMMARY:CP-KKY-3D: Č.Třebová B-Č.Kostelec
END:VEVENT
BEGIN:VEVENT
UID:64306436-3934-4331-b432-633131643665
DTSTAMP:20260422T070113Z
DESCRIPTION:1/1 Č.Kostelec - Mikulova B 2:0 (23\,8)
DTSTART;TZID=Europe/Berlin:20220319T090000
DTEND;TZID=Europe/Berlin:20220319T110000
LOCATION:Sportovní hala\, Palackého 1234 Červený Kostelec
SUMMARY:CP-KKY-4D: Č.Kostelec-Mikulova B
END:VEVENT
BEGIN:VEVENT
UID:36393435-6634-4731-b330-633539643535
DTSTAMP:20260422T070113Z
DESCRIPTION:3/6 Č.Kostelec - SKTO Duchcov 2:0 (23\,17)
DTSTART;TZID=Europe/Berlin:20220319T113000
DTEND;TZID=Europe/Berlin:20220319T133000
LOCATION:Sportovní hala\, Palackého 1234 Červený Kostelec
SUMMARY:CP-KKY-4D: Č.Kostelec-SKTO Duchcov
END:VEVENT
BEGIN:VEVENT
UID:38313838-6433-4437-a139-633438336364
DTSTAMP:20260422T070113Z
DESCRIPTION:2/4 Chlumec - Č.Kostelec 1:2 (-20\,15\,-11)
DTSTART;TZID=Europe/Berlin:20220319T101500
DTEND;TZID=Europe/Berlin:20220319T121500
LOCATION:Slavíčkova hala\, Sokolská 795 Chlumec nad Cidlinou - Chlumec nad 
 Cidlinou IV
SUMMARY:CP-KKY-4D: Chlumec-Č.Kostelec
END:VEVENT
BEGIN:VEVENT
UID:63313064-3535-4561-b963-643433613661
DTSTAMP:20260422T070113Z
DESCRIPTION:4/7 TJ Baník Most - Č.Kostelec 0:2 (-13\,-18)
DTSTART;TZID=Europe/Berlin:20220319T124500
DTEND;TZID=Europe/Berlin:20220319T144500
LOCATION:Sportovní Hala Most Třída Budovatelů 112/7
SUMMARY:CP-KKY-4D: TJ Baník Most-Č.Kostelec
END:VEVENT
BEGIN:VEVENT
UID:35636161-3936-4237-a665-383234343763
DTSTAMP:20260422T070113Z
DESCRIPTION:6/13 Meteor - Č.Kostelec X:2
DTSTART;TZID=Europe/Berlin:20220319T153000
DTEND;TZID=Europe/Berlin:20220319T173000
LOCATION:ZŠ Žernosecká Žernosecká 3/1597\, Praha 8
SUMMARY:CP-KKY-4D: Meteor-Č.Kostelec
END:VEVENT
BEGIN:VEVENT
UID:64316663-6334-4338-a366-313062663265
DTSTAMP:20260422T070113Z
DESCRIPTION:6/20 VSK Spartak Děčín - Č.Kostelec X:2
DTSTART;TZID=Europe/Berlin:20220319T153000
DTEND;TZID=Europe/Berlin:20220319T173000
LOCATION:ZŠ Dr .Míroslava Tyrše Vokolkova ul. Děčín 2
SUMMARY:CP-KKY-4D: VSK Spartak Děčín-Č.Kostelec
END:VEVENT
BEGIN:VEVENT
UID:65336430-3332-4539-b236-383632656239
DTSTAMP:20260422T070113Z
DESCRIPTION:6/26 Mělník - Č.Kostelec X:2
DTSTART;TZID=Europe/Berlin:20220319T153000
DTEND;TZID=Europe/Berlin:20220319T173000
LOCATION:Tělocvična ZŠ J. Matiegky\, Pražská 2817 Mělník
SUMMARY:CP-KKY-4D: Mělník-Č.Kostelec
END:VEVENT
END:VCALENDAR
