BEGIN:VCALENDAR
VERSION:2.0
PRODID:-//Tělocvičná jednota Sokol Pouchov76975//NONSGML kigkonsult.se iCalcreator 2.41.80//
CALSCALE:GREGORIAN
UID:38633833-6338-4732-a465-623465653139
BEGIN:VEVENT
UID:62376439-6134-4339-a665-363934363566
DTSTAMP:20260422T154747Z
DESCRIPTION:3/7 Pouchov - Jičín 0:3 (-9\,-6\,-10)
DTSTART;TZID=Europe/Berlin:20211127T093000
DTEND;TZID=Europe/Berlin:20211127T113000
LOCATION:TJ Slavia Hradec Králové\, Víta Nejedlého 1216 Hradec Králové
SUMMARY:HK-KKY: Pouchov-Jičín
END:VEVENT
BEGIN:VEVENT
UID:61653231-3136-4063-b730-623335336465
DTSTAMP:20260422T154747Z
DESCRIPTION:4/10 Pouchov - Jičín 0:3 (-7\,-12\,-10)
DTSTART;TZID=Europe/Berlin:20211127T130000
DTEND;TZID=Europe/Berlin:20211127T150000
LOCATION:TJ Slavia Hradec Králové\, Víta Nejedlého 1216 Hradec Králové
SUMMARY:HK-KKY: Pouchov-Jičín
END:VEVENT
BEGIN:VEVENT
UID:34613337-3464-4838-a535-316465313437
DTSTAMP:20260422T154747Z
DESCRIPTION:13/38 Pouchov - Náchod B 3:X
DTSTART;TZID=Europe/Berlin:20211127T100000
DTEND;TZID=Europe/Berlin:20211127T120000
LOCATION:TJ Slavia Hradec Králové\, Víta Nejedlého 1216 Hradec Králové
SUMMARY:HK-KKY: Pouchov-Náchod B
END:VEVENT
BEGIN:VEVENT
UID:33343134-6136-4137-b139-616131316138
DTSTAMP:20260422T154747Z
DESCRIPTION:14/41 Pouchov - Náchod B 3:X
DTSTART;TZID=Europe/Berlin:20211127T130000
DTEND;TZID=Europe/Berlin:20211127T150000
LOCATION:TJ Slavia Hradec Králové\, Víta Nejedlého 1216 Hradec Králové
SUMMARY:HK-KKY: Pouchov-Náchod B
END:VEVENT
BEGIN:VEVENT
UID:62336337-3362-4530-b037-336131653433
DTSTAMP:20260422T154747Z
DESCRIPTION:15/44 Pouchov - RÉMA Rychnov 0:3 (-16\,-15\,-11)
DTSTART;TZID=Europe/Berlin:20211204T100000
DTEND;TZID=Europe/Berlin:20211204T120000
LOCATION:TJ Slavia Hradec Králové\, Víta Nejedlého 1216 Hradec Králové
SUMMARY:HK-KKY: Pouchov-RÉMA Rychnov
END:VEVENT
BEGIN:VEVENT
UID:63353835-3036-4530-b632-613865376537
DTSTAMP:20260422T154747Z
DESCRIPTION:16/47 Pouchov - RÉMA Rychnov 0:3 (-8\,-6\,-0)
DTSTART;TZID=Europe/Berlin:20211204T130000
DTEND;TZID=Europe/Berlin:20211204T150000
LOCATION:TJ Slavia Hradec Králové\, Víta Nejedlého 1216 Hradec Králové
SUMMARY:HK-KKY: Pouchov-RÉMA Rychnov
END:VEVENT
BEGIN:VEVENT
UID:32363264-3132-4566-b963-393030303535
DTSTAMP:20260422T154747Z
DESCRIPTION:19/57 Pouchov - Chlumec 0:3 (-7\,-6\,-13)
DTSTART;TZID=Europe/Berlin:20220115T100000
DTEND;TZID=Europe/Berlin:20220115T120000
LOCATION:TJ Slavia Hradec Králové\, Víta Nejedlého 1216 Hradec Králové
SUMMARY:HK-KKY: Pouchov-Chlumec
END:VEVENT
BEGIN:VEVENT
UID:38613734-6464-4364-a430-376235663835
DTSTAMP:20260422T154747Z
DESCRIPTION:20/60 Pouchov - Chlumec 0:3 (-15\,-6\,-13)
DTSTART;TZID=Europe/Berlin:20220115T130000
DTEND;TZID=Europe/Berlin:20220115T150000
LOCATION:TJ Slavia Hradec Králové\, Víta Nejedlého 1216 Hradec Králové
SUMMARY:HK-KKY: Pouchov-Chlumec
END:VEVENT
BEGIN:VEVENT
UID:66323530-6631-4865-b230-656563363565
DTSTAMP:20260422T154747Z
DESCRIPTION:25/73 Pouchov - Č.Kostelec 1:3 (-8\,24\,-18\,-20)
DTSTART;TZID=Europe/Berlin:20220212T100000
DTEND;TZID=Europe/Berlin:20220212T120000
LOCATION:TJ Slavia Hradec Králové\, Víta Nejedlého 1216 Hradec Králové
SUMMARY:HK-KKY: Pouchov-Č.Kostelec
END:VEVENT
BEGIN:VEVENT
UID:32376662-6362-4863-a434-383638313530
DTSTAMP:20260422T154747Z
DESCRIPTION:26/76 Pouchov - Č.Kostelec 0:3 (-12\,-15\,-16)
DTSTART;TZID=Europe/Berlin:20220212T130000
DTEND;TZID=Europe/Berlin:20220212T150000
LOCATION:TJ Slavia Hradec Králové\, Víta Nejedlého 1216 Hradec Králové
SUMMARY:HK-KKY: Pouchov-Č.Kostelec
END:VEVENT
BEGIN:VEVENT
UID:64323762-6336-4533-a663-363162653039
DTSTAMP:20260422T154747Z
DESCRIPTION:1/2 RÉMA Rychnov - Pouchov 3:1 (7\,-10\,15\,9)
DTSTART;TZID=Europe/Berlin:20211002T090000
DTEND;TZID=Europe/Berlin:20211002T110000
LOCATION:Hala VOŠ a SPŠS\, U Stadionu 1166 Rychnov nad Kněžnou
SUMMARY:HK-KKY: RÉMA Rychnov-Pouchov
END:VEVENT
BEGIN:VEVENT
UID:33356530-6562-4030-b062-663064353739
DTSTAMP:20260422T154747Z
DESCRIPTION:2/5 RÉMA Rychnov - Pouchov 3:0 (13\,13\,17)
DTSTART;TZID=Europe/Berlin:20211002T130000
DTEND;TZID=Europe/Berlin:20211002T150000
LOCATION:Hala VOŠ a SPŠS\, U Stadionu 1166 Rychnov nad Kněžnou
SUMMARY:HK-KKY: RÉMA Rychnov-Pouchov
END:VEVENT
BEGIN:VEVENT
UID:64636636-6337-4332-b266-663864323639
DTSTAMP:20260422T154747Z
DESCRIPTION:5/15 Chlumec - Pouchov 3:0 (13\,5\,10)
DTSTART;TZID=Europe/Berlin:20211023T100000
DTEND;TZID=Europe/Berlin:20211023T120000
LOCATION:školní tělocvična\, Kozelkova 123 Chlumec nad Cidlinou - Chlumec n
 ad Cidlinou IV
SUMMARY:HK-KKY: Chlumec-Pouchov
END:VEVENT
BEGIN:VEVENT
UID:64343230-6632-4436-b837-376430323237
DTSTAMP:20260422T154747Z
DESCRIPTION:6/18 Chlumec - Pouchov 3:0 (9\,7\,5)
DTSTART;TZID=Europe/Berlin:20211023T130000
DTEND;TZID=Europe/Berlin:20211023T150000
LOCATION:školní tělocvična\, Kozelkova 123 Chlumec nad Cidlinou - Chlumec n
 ad Cidlinou IV
SUMMARY:HK-KKY: Chlumec-Pouchov
END:VEVENT
BEGIN:VEVENT
UID:65306635-3735-4332-a162-393561353865
DTSTAMP:20260422T154747Z
DESCRIPTION:11/31 Č.Kostelec - Pouchov 3:2 (11\,-20\,-13\,16\,2)
DTSTART;TZID=Europe/Berlin:20211113T100000
DTEND;TZID=Europe/Berlin:20211113T120000
LOCATION:Sokolovna\, Chrby 675 Červený Kostelec
SUMMARY:HK-KKY: Č.Kostelec-Pouchov
END:VEVENT
BEGIN:VEVENT
UID:30356466-3337-4765-b962-363063646332
DTSTAMP:20260422T154747Z
DESCRIPTION:12/34 Č.Kostelec - Pouchov 3:1 (-22\,20\,13\,13)
DTSTART;TZID=Europe/Berlin:20211113T130000
DTEND;TZID=Europe/Berlin:20211113T150000
LOCATION:Sokolovna\, Chrby 675 Červený Kostelec
SUMMARY:HK-KKY: Č.Kostelec-Pouchov
END:VEVENT
BEGIN:VEVENT
UID:36383032-3934-4231-a135-616539396331
DTSTAMP:20260422T154747Z
DESCRIPTION:17/49 Jičín - Pouchov 3:0 (0\,0\,0)
DTSTART;TZID=Europe/Berlin:20211211T100000
DTEND;TZID=Europe/Berlin:20211211T120000
LOCATION:Hala 3. základní školy Jičín\, Poděbradova 18 Jičín - Nové Město
SUMMARY:HK-KKY: Jičín-Pouchov
END:VEVENT
BEGIN:VEVENT
UID:34656130-3833-4030-b663-313564376534
DTSTAMP:20260422T154747Z
DESCRIPTION:18/52 Jičín - Pouchov 3:0 (0\,0\,0)
DTSTART;TZID=Europe/Berlin:20211211T130000
DTEND;TZID=Europe/Berlin:20211211T150000
LOCATION:Hala 3. základní školy Jičín\, Poděbradova 18 Jičín - Nové Město
SUMMARY:HK-KKY: Jičín-Pouchov
END:VEVENT
BEGIN:VEVENT
UID:33303230-3732-4136-b336-623864373938
DTSTAMP:20260422T154747Z
DESCRIPTION:27/80 Náchod B - Pouchov X:3
DTSTART;TZID=Europe/Berlin:20220226T100000
DTEND;TZID=Europe/Berlin:20220226T120000
LOCATION:SPORT KLUB Náchod\, Pražská 696 Náchod
SUMMARY:HK-KKY: Náchod B-Pouchov
END:VEVENT
BEGIN:VEVENT
UID:62353965-6161-4766-a639-323464616632
DTSTAMP:20260422T154747Z
DESCRIPTION:28/83 Náchod B - Pouchov X:3
DTSTART;TZID=Europe/Berlin:20220226T130000
DTEND;TZID=Europe/Berlin:20220226T150000
LOCATION:SPORT KLUB Náchod\, Pražská 696 Náchod
SUMMARY:HK-KKY: Náchod B-Pouchov
END:VEVENT
END:VCALENDAR
