BEGIN:VCALENDAR
VERSION:2.0
PRODID:-//TJ Sokol Újezd u Brna77010//NONSGML kigkonsult.se iCalcreator 2.41.80//
CALSCALE:GREGORIAN
UID:61326636-6633-4031-b937-663662356564
BEGIN:VEVENT
UID:63303031-3935-4232-a362-663336663538
DTSTAMP:20260423T094127Z
DESCRIPTION:3/14 Újezd u Brna - TJ Minerva Boskovice 3:2 (-16\,8\,19\,-25\,
 11)
DTSTART;TZID=Europe/Berlin:20211009T090000
DTEND;TZID=Europe/Berlin:20211009T110000
LOCATION:Hala ZŠ Újezd u Brna\, Školní 284 Újezd u Brna
SUMMARY:JM-Z-1: Újezd u Brna-TJ Minerva Boskovice
END:VEVENT
BEGIN:VEVENT
UID:64336365-3530-4031-b839-666538306164
DTSTAMP:20260423T094127Z
DESCRIPTION:4/19 Újezd u Brna - TJ Minerva Boskovice 3:0 (21\,17\,17)
DTSTART;TZID=Europe/Berlin:20211009T120000
DTEND;TZID=Europe/Berlin:20211009T140000
LOCATION:Hala ZŠ Újezd u Brna\, Školní 284 Újezd u Brna
SUMMARY:JM-Z-1: Újezd u Brna-TJ Minerva Boskovice
END:VEVENT
BEGIN:VEVENT
UID:37376535-3764-4931-b738-323461313365
DTSTAMP:20260423T094127Z
DESCRIPTION:7/33 Újezd u Brna - Jehnice 3:2 (-15\,9\,17\,-7\,4)
DTSTART;TZID=Europe/Berlin:20211023T090000
DTEND;TZID=Europe/Berlin:20211023T110000
LOCATION:Hala ZŠ Újezd u Brna\, Školní 284 Újezd u Brna
SUMMARY:JM-Z-1: Újezd u Brna-Jehnice
END:VEVENT
BEGIN:VEVENT
UID:36333630-3832-4537-b166-326536613837
DTSTAMP:20260423T094127Z
DESCRIPTION:8/38 Újezd u Brna - Jehnice 3:0 (13\,14\,14)
DTSTART;TZID=Europe/Berlin:20211023T120000
DTEND;TZID=Europe/Berlin:20211023T140000
LOCATION:Hala ZŠ Újezd u Brna\, Školní 284 Újezd u Brna
SUMMARY:JM-Z-1: Újezd u Brna-Jehnice
END:VEVENT
BEGIN:VEVENT
UID:61393262-3736-4465-b231-386238653133
DTSTAMP:20260423T094127Z
DESCRIPTION:11/52 Újezd u Brna - ŠSK při Gymnáziu Šlapanice 3:0 (19\,16\,17
 )
DTSTART;TZID=Europe/Berlin:20211113T090000
DTEND;TZID=Europe/Berlin:20211113T110000
LOCATION:Hala ZŠ Újezd u Brna\, Školní 284 Újezd u Brna
SUMMARY:JM-Z-1: Újezd u Brna-ŠSK při Gymnáziu Šlapanice
END:VEVENT
BEGIN:VEVENT
UID:32336339-6564-4664-b562-646663376335
DTSTAMP:20260423T094127Z
DESCRIPTION:12/57 Újezd u Brna - ŠSK při Gymnáziu Šlapanice 3:0 (12\,12\,20
 )
DTSTART;TZID=Europe/Berlin:20211113T120000
DTEND;TZID=Europe/Berlin:20211113T140000
LOCATION:Hala ZŠ Újezd u Brna\, Školní 284 Újezd u Brna
SUMMARY:JM-Z-1: Újezd u Brna-ŠSK při Gymnáziu Šlapanice
END:VEVENT
BEGIN:VEVENT
UID:33346663-3238-4335-b731-666334343331
DTSTAMP:20260423T094127Z
DESCRIPTION:17/85 Újezd u Brna - Vyškov 3:0 (0\,0\,0)
DTSTART;TZID=Europe/Berlin:20211204T090000
DTEND;TZID=Europe/Berlin:20211204T110000
LOCATION:Hala ZŠ Újezd u Brna\, Školní 284 Újezd u Brna
SUMMARY:JM-Z-1: Újezd u Brna-Vyškov
END:VEVENT
BEGIN:VEVENT
UID:61623830-6136-4564-b338-346132336165
DTSTAMP:20260423T094127Z
DESCRIPTION:18/90 Újezd u Brna - Vyškov 3:0 (17\,18\,17)
DTSTART;TZID=Europe/Berlin:20211204T120000
DTEND;TZID=Europe/Berlin:20211204T140000
LOCATION:Hala ZŠ Újezd u Brna\, Školní 284 Újezd u Brna
SUMMARY:JM-Z-1: Újezd u Brna-Vyškov
END:VEVENT
BEGIN:VEVENT
UID:37663634-6130-4231-a139-323438353762
DTSTAMP:20260423T094127Z
DESCRIPTION:19/92 Újezd u Brna - TJ Sokol Šlapanice u Brna B 1:3 (-11\,-19\
 ,19\,-9)
DTSTART;TZID=Europe/Berlin:20220108T090000
DTEND;TZID=Europe/Berlin:20220108T110000
LOCATION:Hala ZŠ Újezd u Brna\, Školní 284 Újezd u Brna
SUMMARY:JM-Z-1: Újezd u Brna-TJ Sokol Šlapanice u Brna B
END:VEVENT
BEGIN:VEVENT
UID:36363261-3536-4934-b666-313362616362
DTSTAMP:20260423T094127Z
DESCRIPTION:20/97 Újezd u Brna - TJ Sokol Šlapanice u Brna B 0:3 (-16\,-19\
 ,-16)
DTSTART;TZID=Europe/Berlin:20220108T120000
DTEND;TZID=Europe/Berlin:20220108T140000
LOCATION:Hala ZŠ Újezd u Brna\, Školní 284 Újezd u Brna
SUMMARY:JM-Z-1: Újezd u Brna-TJ Sokol Šlapanice u Brna B
END:VEVENT
BEGIN:VEVENT
UID:31356432-6264-4436-b336-323730353533
DTSTAMP:20260423T094127Z
DESCRIPTION:23/113 Újezd u Brna - VK Moravská Slávia Brno\, z.s. 3:0 (13\,1
 6\,18)
DTSTART;TZID=Europe/Berlin:20220122T090000
DTEND;TZID=Europe/Berlin:20220122T110000
LOCATION:Hala ZŠ Újezd u Brna\, Školní 284 Újezd u Brna
SUMMARY:JM-Z-1: Újezd u Brna-VK Moravská Slávia Brno\, z.s.
END:VEVENT
BEGIN:VEVENT
UID:31346339-3465-4263-a464-303537633934
DTSTAMP:20260423T094127Z
DESCRIPTION:24/118 Újezd u Brna - VK Moravská Slávia Brno\, z.s. 1:3 (23\,-
 25\,-12\,-19)
DTSTART;TZID=Europe/Berlin:20220122T120000
DTEND;TZID=Europe/Berlin:20220122T140000
LOCATION:Hala ZŠ Újezd u Brna\, Školní 284 Újezd u Brna
SUMMARY:JM-Z-1: Újezd u Brna-VK Moravská Slávia Brno\, z.s.
END:VEVENT
BEGIN:VEVENT
UID:63373738-6637-4764-b334-613135363464
DTSTAMP:20260423T094127Z
DESCRIPTION:27/134 Újezd u Brna - VK Křenovice\, z.s. 3:0 (16\,13\,18)
DTSTART;TZID=Europe/Berlin:20220212T090000
DTEND;TZID=Europe/Berlin:20220212T110000
LOCATION:Hala ZŠ Újezd u Brna\, Školní 284 Újezd u Brna
SUMMARY:JM-Z-1: Újezd u Brna-VK Křenovice\, z.s.
END:VEVENT
BEGIN:VEVENT
UID:32356639-6531-4135-b738-633534363061
DTSTAMP:20260423T094127Z
DESCRIPTION:28/139 Újezd u Brna - VK Křenovice\, z.s. 3:0 (22\,22\,22)
DTSTART;TZID=Europe/Berlin:20220212T120000
DTEND;TZID=Europe/Berlin:20220212T140000
LOCATION:Hala ZŠ Újezd u Brna\, Školní 284 Újezd u Brna
SUMMARY:JM-Z-1: Újezd u Brna-VK Křenovice\, z.s.
END:VEVENT
BEGIN:VEVENT
UID:65383831-3364-4532-a531-636161663535
DTSTAMP:20260423T094127Z
DESCRIPTION:31/155 Újezd u Brna - TJ JUNIOR Brno 3:0 (15\,20\,19)
DTSTART;TZID=Europe/Berlin:20220226T090000
DTEND;TZID=Europe/Berlin:20220226T110000
LOCATION:Hala ZŠ Újezd u Brna\, Školní 284 Újezd u Brna
SUMMARY:JM-Z-1: Újezd u Brna-TJ JUNIOR Brno
END:VEVENT
BEGIN:VEVENT
UID:63333233-3333-4564-b032-633831343639
DTSTAMP:20260423T094127Z
DESCRIPTION:32/160 Újezd u Brna - TJ JUNIOR Brno 3:0 (17\,21\,14)
DTSTART;TZID=Europe/Berlin:20220226T120000
DTEND;TZID=Europe/Berlin:20220226T140000
LOCATION:Hala ZŠ Újezd u Brna\, Školní 284 Újezd u Brna
SUMMARY:JM-Z-1: Újezd u Brna-TJ JUNIOR Brno
END:VEVENT
BEGIN:VEVENT
UID:37383634-3136-4930-b734-356665343132
DTSTAMP:20260423T094127Z
DESCRIPTION:33/161 Újezd u Brna - Tělocvičná jednota Sokol Bučovice 3:0 (10
 \,14\,18)
DTSTART;TZID=Europe/Berlin:20220319T090000
DTEND;TZID=Europe/Berlin:20220319T110000
LOCATION:Hala ZŠ Újezd u Brna\, Školní 284 Újezd u Brna
SUMMARY:JM-Z-1: Újezd u Brna-Tělocvičná jednota Sokol Bučovice
END:VEVENT
BEGIN:VEVENT
UID:62386466-3233-4664-b034-346465303766
DTSTAMP:20260423T094127Z
DESCRIPTION:34/166 Újezd u Brna - Tělocvičná jednota Sokol Bučovice 3:2 (13
 \,-21\,14\,-18\,10)
DTSTART;TZID=Europe/Berlin:20220319T120000
DTEND;TZID=Europe/Berlin:20220319T140000
LOCATION:Hala ZŠ Újezd u Brna\, Školní 284 Újezd u Brna
SUMMARY:JM-Z-1: Újezd u Brna-Tělocvičná jednota Sokol Bučovice
END:VEVENT
BEGIN:VEVENT
UID:35363864-6438-4665-b865-316532343331
DTSTAMP:20260423T094127Z
DESCRIPTION:1/2 TJ Sokol Šlapanice u Brna B - Újezd u Brna 1:3 (-21\,-15\,1
 3\,-24)
DTSTART;TZID=Europe/Berlin:20211002T110000
DTEND;TZID=Europe/Berlin:20211002T130000
LOCATION:Tělocvična ZŠ Šlapanice\, Masarykovo náměstí 1594 Šlapanice
SUMMARY:JM-Z-1: TJ Sokol Šlapanice u Brna B-Újezd u Brna
END:VEVENT
BEGIN:VEVENT
UID:39396237-3364-4235-b734-613939656534
DTSTAMP:20260423T094127Z
DESCRIPTION:2/7 TJ Sokol Šlapanice u Brna B - Újezd u Brna 1:3 (17\,-23\,-2
 1\,-17)
DTSTART;TZID=Europe/Berlin:20211002T150000
DTEND;TZID=Europe/Berlin:20211002T170000
LOCATION:Tělocvična ZŠ Šlapanice\, Masarykovo náměstí 1594 Šlapanice
SUMMARY:JM-Z-1: TJ Sokol Šlapanice u Brna B-Újezd u Brna
END:VEVENT
BEGIN:VEVENT
UID:39383039-6366-4633-a231-333762636134
DTSTAMP:20260423T094127Z
DESCRIPTION:5/23 VK Moravská Slávia Brno\, z.s. - Újezd u Brna 3:0 (24\,22\
 ,19)
DTSTART;TZID=Europe/Berlin:20211016T100000
DTEND;TZID=Europe/Berlin:20211016T120000
LOCATION:Střelice u Brna\, ZŠ Komenského\, Komenského 585 Střelice
SUMMARY:JM-Z-1: VK Moravská Slávia Brno\, z.s.-Újezd u Brna
END:VEVENT
BEGIN:VEVENT
UID:66646536-6639-4636-b930-383134393835
DTSTAMP:20260423T094127Z
DESCRIPTION:6/28 VK Moravská Slávia Brno\, z.s. - Újezd u Brna 1:3 (-22\,14
 \,-23\,-23)
DTSTART;TZID=Europe/Berlin:20211016T130000
DTEND;TZID=Europe/Berlin:20211016T150000
LOCATION:Střelice u Brna\, ZŠ Komenského\, Komenského 585 Střelice
SUMMARY:JM-Z-1: VK Moravská Slávia Brno\, z.s.-Újezd u Brna
END:VEVENT
BEGIN:VEVENT
UID:35313065-6538-4363-a166-643636313034
DTSTAMP:20260423T094127Z
DESCRIPTION:9/44 VK Křenovice\, z.s. - Újezd u Brna 1:3 (-22\,22\,-18\,-18)
DTSTART;TZID=Europe/Berlin:20211106T100000
DTEND;TZID=Europe/Berlin:20211106T120000
LOCATION:Sportovní hala Křenovice \, Bratří Mrázků 635 Křenovice
SUMMARY:JM-Z-1: VK Křenovice\, z.s.-Újezd u Brna
END:VEVENT
BEGIN:VEVENT
UID:61336139-3333-4331-a630-393137623737
DTSTAMP:20260423T094127Z
DESCRIPTION:10/49 VK Křenovice\, z.s. - Újezd u Brna 3:1 (14\,10\,-21\,22)
DTSTART;TZID=Europe/Berlin:20211106T130000
DTEND;TZID=Europe/Berlin:20211106T150000
LOCATION:Sportovní hala Křenovice \, Bratří Mrázků 635 Křenovice
SUMMARY:JM-Z-1: VK Křenovice\, z.s.-Újezd u Brna
END:VEVENT
BEGIN:VEVENT
UID:30313236-3663-4639-a164-643738616566
DTSTAMP:20260423T094127Z
DESCRIPTION:13/65 TJ JUNIOR Brno - Újezd u Brna 2:3 (20\,-6\,17\,-28\,-11)
DTSTART;TZID=Europe/Berlin:20211120T100000
DTEND;TZID=Europe/Berlin:20211120T120000
LOCATION:ZŠ Holzova 1\, Holzova 1461 Brno - Líšeň
SUMMARY:JM-Z-1: TJ JUNIOR Brno-Újezd u Brna
END:VEVENT
BEGIN:VEVENT
UID:64366537-6434-4339-a339-363662353739
DTSTAMP:20260423T094127Z
DESCRIPTION:14/70 TJ JUNIOR Brno - Újezd u Brna 2:3 (-22\,31\,17\,-18\,-10)
DTSTART;TZID=Europe/Berlin:20211120T130000
DTEND;TZID=Europe/Berlin:20211120T150000
LOCATION:ZŠ Holzova 1\, Holzova 1461 Brno - Líšeň
SUMMARY:JM-Z-1: TJ JUNIOR Brno-Újezd u Brna
END:VEVENT
BEGIN:VEVENT
UID:62326361-3338-4034-a639-656262333536
DTSTAMP:20260423T094127Z
DESCRIPTION:15/71 Tělocvičná jednota Sokol Bučovice - Újezd u Brna 3:0 (11\
 ,23\,11)
DTSTART;TZID=Europe/Berlin:20211208T180000
DTEND;TZID=Europe/Berlin:20211208T200000
LOCATION:ZŠ Bučovice 710\, Školní 710 Bučovice
SUMMARY:JM-Z-1: Tělocvičná jednota Sokol Bučovice-Újezd u Brna
END:VEVENT
BEGIN:VEVENT
UID:31633539-3736-4761-a634-373033323432
DTSTAMP:20260423T094127Z
DESCRIPTION:16/76 Tělocvičná jednota Sokol Bučovice - Újezd u Brna 3:0 (23\
 ,16\,22)
DTSTART;TZID=Europe/Berlin:20211208T200000
DTEND;TZID=Europe/Berlin:20211208T220000
LOCATION:ZŠ Bučovice 710\, Školní 710 Bučovice
SUMMARY:JM-Z-1: Tělocvičná jednota Sokol Bučovice-Újezd u Brna
END:VEVENT
BEGIN:VEVENT
UID:34323233-3762-4166-b332-646135383332
DTSTAMP:20260423T094127Z
DESCRIPTION:21/104 TJ Minerva Boskovice - Újezd u Brna X:3
DTSTART;TZID=Europe/Berlin:20220115T100000
DTEND;TZID=Europe/Berlin:20220115T120000
LOCATION:Tělocvična ZŠ\, Slovákova 2006 Boskovice
SUMMARY:JM-Z-1: TJ Minerva Boskovice-Újezd u Brna
END:VEVENT
BEGIN:VEVENT
UID:37353166-3531-4233-b765-663162383561
DTSTAMP:20260423T094127Z
DESCRIPTION:22/109 TJ Minerva Boskovice - Újezd u Brna X:3
DTSTART;TZID=Europe/Berlin:20220115T130000
DTEND;TZID=Europe/Berlin:20220115T150000
LOCATION:Tělocvična ZŠ\, Slovákova 2006 Boskovice
SUMMARY:JM-Z-1: TJ Minerva Boskovice-Újezd u Brna
END:VEVENT
BEGIN:VEVENT
UID:61646535-3666-4536-b631-386466626138
DTSTAMP:20260423T094127Z
DESCRIPTION:25/123 Jehnice - Újezd u Brna 0:3 (-7\,-16\,-15)
DTSTART;TZID=Europe/Berlin:20220205T100000
DTEND;TZID=Europe/Berlin:20220205T120000
LOCATION:TJ Sokol Jehnice\, Blanenská 1 Brno - Jehnice
SUMMARY:JM-Z-1: Jehnice-Újezd u Brna
END:VEVENT
BEGIN:VEVENT
UID:66396461-3130-4265-a262-396136353135
DTSTAMP:20260423T094127Z
DESCRIPTION:26/128 Jehnice - Újezd u Brna 0:3 (-11\,-13\,-15)
DTSTART;TZID=Europe/Berlin:20220205T130000
DTEND;TZID=Europe/Berlin:20220205T150000
LOCATION:TJ Sokol Jehnice\, Blanenská 1 Brno - Jehnice
SUMMARY:JM-Z-1: Jehnice-Újezd u Brna
END:VEVENT
BEGIN:VEVENT
UID:38306438-3561-4564-b339-336566376431
DTSTAMP:20260423T094127Z
DESCRIPTION:29/142 ŠSK při Gymnáziu Šlapanice - Újezd u Brna 3:1 (23\,15\,-
 22\,22)
DTSTART;TZID=Europe/Berlin:20220305T100000
DTEND;TZID=Europe/Berlin:20220305T120000
LOCATION:Pod Hradem \, Údolní 221 Brno - Brno-město
SUMMARY:JM-Z-1: ŠSK při Gymnáziu Šlapanice-Újezd u Brna
END:VEVENT
BEGIN:VEVENT
UID:61343162-3039-4164-a235-376561323865
DTSTAMP:20260423T094127Z
DESCRIPTION:30/147 ŠSK při Gymnáziu Šlapanice - Újezd u Brna 3:1 (19\,-18\,
 21\,17)
DTSTART;TZID=Europe/Berlin:20220305T130000
DTEND;TZID=Europe/Berlin:20220305T150000
LOCATION:Pod Hradem \, Údolní 221 Brno - Brno-město
SUMMARY:JM-Z-1: ŠSK při Gymnáziu Šlapanice-Újezd u Brna
END:VEVENT
BEGIN:VEVENT
UID:37376261-3534-4637-b332-656164353364
DTSTAMP:20260423T094127Z
DESCRIPTION:35/175 Vyškov - Újezd u Brna 0:3 (-9\,-20\,-22)
DTSTART;TZID=Europe/Berlin:20220326T100000
DTEND;TZID=Europe/Berlin:20220326T120000
LOCATION:Tělocvična ZŠ Nádražní\, Nádražní 5 Vyškov - Vyškov-Město
SUMMARY:JM-Z-1: Vyškov-Újezd u Brna
END:VEVENT
BEGIN:VEVENT
UID:35373735-3132-4562-b664-626138663764
DTSTAMP:20260423T094127Z
DESCRIPTION:36/180 Vyškov - Újezd u Brna 0:3 (-13\,-18\,-13)
DTSTART;TZID=Europe/Berlin:20220326T130000
DTEND;TZID=Europe/Berlin:20220326T150000
LOCATION:Tělocvična ZŠ Nádražní\, Nádražní 5 Vyškov - Vyškov-Město
SUMMARY:JM-Z-1: Vyškov-Újezd u Brna
END:VEVENT
BEGIN:VEVENT
UID:36373462-3561-4466-a534-613530363830
DTSTAMP:20260423T094127Z
DESCRIPTION:1/2 Újezd u Brna - Brno-Juliánov 0:3 (-19\,-7\,-17)
DTSTART;TZID=Europe/Berlin:20220423T120000
DTEND;TZID=Europe/Berlin:20220423T140000
LOCATION:Sportovní hala Na Lapači\, Na Lapači 247 Vsetín - Rokytnice
SUMMARY:2-Z-KC: Újezd u Brna-Brno-Juliánov
END:VEVENT
BEGIN:VEVENT
UID:32313938-6537-4365-b437-653662633939
DTSTAMP:20260423T094127Z
DESCRIPTION:3/5 Újezd u Brna - Uherské Hradiště 3:2 (24\,-21\,-19\,23\,11)
DTSTART;TZID=Europe/Berlin:20220424T100000
DTEND;TZID=Europe/Berlin:20220424T120000
LOCATION:Sportovní hala Na Lapači\, Na Lapači 247 Vsetín - Rokytnice
SUMMARY:2-Z-KC: Újezd u Brna-Uherské Hradiště
END:VEVENT
BEGIN:VEVENT
UID:63633530-3465-4934-b539-656335326662
DTSTAMP:20260423T094127Z
DESCRIPTION:2/4 Vsetín - Újezd u Brna 3:1 (14\,-20\,16\,21)
DTSTART;TZID=Europe/Berlin:20220423T180000
DTEND;TZID=Europe/Berlin:20220423T200000
LOCATION:Sportovní hala Na Lapači\, Na Lapači 247 Vsetín - Rokytnice
SUMMARY:2-Z-KC: Vsetín-Újezd u Brna
END:VEVENT
END:VCALENDAR
