BEGIN:VCALENDAR
VERSION:2.0
PRODID:-//TJ Žďár nad Sázavou77048//NONSGML kigkonsult.se iCalcreator 2.41.80//
CALSCALE:GREGORIAN
UID:30386234-6136-4936-b138-393931656662
BEGIN:VEVENT
UID:30326539-6534-4564-b539-363437363838
DTSTAMP:20260422T022915Z
DESCRIPTION:1/2 TJ Žďár nad Sázavou - Sokol Hrotovice 2:1 (15\,-18\,13)
DTSTART;TZID=Europe/Berlin:20211003T090000
DTEND;TZID=Europe/Berlin:20211003T110000
LOCATION:ZŠ Palachova\, Palachova 1757 Žďár nad Sázavou - Žďár nad Sázavou 
 6
SUMMARY:VY-ZCI: TJ Žďár nad Sázavou-Sokol Hrotovice
END:VEVENT
BEGIN:VEVENT
UID:66306662-6337-4533-a166-303638326434
DTSTAMP:20260422T022915Z
DESCRIPTION:2/7 TJ Žďár nad Sázavou - Havlíčkův Brod 0:2 (-19\,-25)\npořada
 tel Havlíčkův Brod
DTSTART;TZID=Europe/Berlin:20211031T090000
DTEND;TZID=Europe/Berlin:20211031T110000
LOCATION:ZŠ Palachova\, Palachova 1757 Žďár nad Sázavou - Žďár nad Sázavou 
 6
SUMMARY:VY-ZCI: TJ Žďár nad Sázavou-Havlíčkův Brod
END:VEVENT
BEGIN:VEVENT
UID:62623931-3432-4566-b466-303361396139
DTSTAMP:20260422T022915Z
DESCRIPTION:2/11 TJ Žďár nad Sázavou - Sokol Hrotovice 2:1 (-18\,23\,12)
DTSTART;TZID=Europe/Berlin:20211031T090000
DTEND;TZID=Europe/Berlin:20211031T110000
LOCATION:ZŠ Palachova\, Palachova 1757 Žďár nad Sázavou - Žďár nad Sázavou 
 6
SUMMARY:VY-ZCI: TJ Žďár nad Sázavou-Sokol Hrotovice
END:VEVENT
BEGIN:VEVENT
UID:30323535-3764-4337-b333-616262363066
DTSTAMP:20260422T022915Z
DESCRIPTION:3/15 TJ Žďár nad Sázavou - Velké Meziříčí 0:2 (-14\,-18)
DTSTART;TZID=Europe/Berlin:20211114T090000
DTEND;TZID=Europe/Berlin:20211114T110000
LOCATION:ZŠ Palachova\, Palachova 1757 Žďár nad Sázavou - Žďár nad Sázavou 
 6
SUMMARY:VY-ZCI: TJ Žďár nad Sázavou-Velké Meziříčí
END:VEVENT
BEGIN:VEVENT
UID:62316164-3862-4131-a165-303864623234
DTSTAMP:20260422T022915Z
DESCRIPTION:4/22 TJ Žďár nad Sázavou - Velké Meziříčí 1:2 (11\,-24\,-11)
DTSTART;TZID=Europe/Berlin:20211128T090000
DTEND;TZID=Europe/Berlin:20211128T110000
LOCATION:ZŠ Palachova\, Palachova 1757 Žďár nad Sázavou - Žďár nad Sázavou 
 6
SUMMARY:VY-ZCI: TJ Žďár nad Sázavou-Velké Meziříčí
END:VEVENT
BEGIN:VEVENT
UID:37616635-3833-4635-a439-356438333935
DTSTAMP:20260422T022915Z
DESCRIPTION:4/24 TJ Žďár nad Sázavou - Sokol Hrotovice 2:0 (20\,19)
DTSTART;TZID=Europe/Berlin:20211128T090000
DTEND;TZID=Europe/Berlin:20211128T110000
LOCATION:ZŠ Palachova\, Palachova 1757 Žďár nad Sázavou - Žďár nad Sázavou 
 6
SUMMARY:VY-ZCI: TJ Žďár nad Sázavou-Sokol Hrotovice
END:VEVENT
BEGIN:VEVENT
UID:64376437-6139-4964-b236-616362306638
DTSTAMP:20260422T022915Z
DESCRIPTION:5/26 TJ Žďár nad Sázavou - Sokol Hrotovice 0:2 (-12\,-13)\npořa
 datel Žďár nad Sázavou hala na Bouchalkach
DTSTART;TZID=Europe/Berlin:20220130T090000
DTEND;TZID=Europe/Berlin:20220130T110000
LOCATION:ZŠ Palachova\, Palachova 1757 Žďár nad Sázavou - Žďár nad Sázavou 
 6
SUMMARY:VY-ZCI: TJ Žďár nad Sázavou-Sokol Hrotovice
END:VEVENT
BEGIN:VEVENT
UID:31343165-3132-4363-b861-373039663530
DTSTAMP:20260422T022915Z
DESCRIPTION:6/31 TJ Žďár nad Sázavou - Havlíčkův Brod 2:0 (12\,29)\npořadat
 el Havlíčkův Brod
DTSTART;TZID=Europe/Berlin:20220206T090000
DTEND;TZID=Europe/Berlin:20220206T110000
LOCATION:ZŠ Palachova\, Palachova 1757 Žďár nad Sázavou - Žďár nad Sázavou 
 6
SUMMARY:VY-ZCI: TJ Žďár nad Sázavou-Havlíčkův Brod
END:VEVENT
BEGIN:VEVENT
UID:31353761-6535-4737-b966-653137356161
DTSTAMP:20260422T022915Z
DESCRIPTION:6/35 TJ Žďár nad Sázavou - Sokol Hrotovice 1:2 (-9\,23\,-10)
DTSTART;TZID=Europe/Berlin:20220206T090000
DTEND;TZID=Europe/Berlin:20220206T110000
LOCATION:ZŠ Palachova\, Palachova 1757 Žďár nad Sázavou - Žďár nad Sázavou 
 6
SUMMARY:VY-ZCI: TJ Žďár nad Sázavou-Sokol Hrotovice
END:VEVENT
BEGIN:VEVENT
UID:64623936-3138-4631-a439-313238383538
DTSTAMP:20260422T022915Z
DESCRIPTION:7/39 TJ Žďár nad Sázavou - Velké Meziříčí 0:2 (-5\,-24)
DTSTART;TZID=Europe/Berlin:20220227T090000
DTEND;TZID=Europe/Berlin:20220227T110000
LOCATION:ZŠ Palachova\, Palachova 1757 Žďár nad Sázavou - Žďár nad Sázavou 
 6
SUMMARY:VY-ZCI: TJ Žďár nad Sázavou-Velké Meziříčí
END:VEVENT
BEGIN:VEVENT
UID:61316530-3962-4930-a533-376466386535
DTSTAMP:20260422T022915Z
DESCRIPTION:8/46 TJ Žďár nad Sázavou - Velké Meziříčí 0:2 (-18\,-11)
DTSTART;TZID=Europe/Berlin:20220320T090000
DTEND;TZID=Europe/Berlin:20220320T110000
LOCATION:ZŠ Palachova\, Palachova 1757 Žďár nad Sázavou - Žďár nad Sázavou 
 6
SUMMARY:VY-ZCI: TJ Žďár nad Sázavou-Velké Meziříčí
END:VEVENT
BEGIN:VEVENT
UID:33333561-6636-4236-a533-393032623564
DTSTAMP:20260422T022915Z
DESCRIPTION:8/48 TJ Žďár nad Sázavou - Sokol Hrotovice 1:2 (-25\,23\,-3)
DTSTART;TZID=Europe/Berlin:20220320T090000
DTEND;TZID=Europe/Berlin:20220320T110000
LOCATION:ZŠ Palachova\, Palachova 1757 Žďár nad Sázavou - Žďár nad Sázavou 
 6
SUMMARY:VY-ZCI: TJ Žďár nad Sázavou-Sokol Hrotovice
END:VEVENT
BEGIN:VEVENT
UID:36376632-3238-4832-b765-313061313038
DTSTAMP:20260422T022915Z
DESCRIPTION:1/3 Velké Meziříčí - TJ Žďár nad Sázavou 2:1 (-21\,17\,7)
DTSTART;TZID=Europe/Berlin:20211003T090000
DTEND;TZID=Europe/Berlin:20211003T110000
LOCATION:ZŠ Sokolovská\, Sokolovská 470 Velké Meziříčí
SUMMARY:VY-ZCI: Velké Meziříčí-TJ Žďár nad Sázavou
END:VEVENT
BEGIN:VEVENT
UID:36393935-3538-4165-a132-646336626231
DTSTAMP:20260422T022915Z
DESCRIPTION:1/5 Havlíčkův Brod - TJ Žďár nad Sázavou 2:1 (20\,-17\,12)
DTSTART;TZID=Europe/Berlin:20211003T090000
DTEND;TZID=Europe/Berlin:20211003T110000
LOCATION:Tělocvična SPŠ Stavební\, Jihlavská 628 Havlíčkův Brod
SUMMARY:VY-ZCI: Havlíčkův Brod-TJ Žďár nad Sázavou
END:VEVENT
BEGIN:VEVENT
UID:34633766-6231-4333-b232-643665353436
DTSTAMP:20260422T022915Z
DESCRIPTION:2/10 Velké Meziříčí - TJ Žďár nad Sázavou 2:0 (24\,19)
DTSTART;TZID=Europe/Berlin:20211031T090000
DTEND;TZID=Europe/Berlin:20211031T110000
LOCATION:ZŠ Sokolovská\, Sokolovská 470 Velké Meziříčí
SUMMARY:VY-ZCI: Velké Meziříčí-TJ Žďár nad Sázavou
END:VEVENT
BEGIN:VEVENT
UID:33383834-3463-4237-b038-343230373934
DTSTAMP:20260422T022915Z
DESCRIPTION:3/13 Sokol Hrotovice - TJ Žďár nad Sázavou 0:2 (-25\,-21)\npořa
 datel Hrotovice
DTSTART;TZID=Europe/Berlin:20211114T090000
DTEND;TZID=Europe/Berlin:20211114T110000
LOCATION:Sportovní hala ZŠ Hrotovice\, F. B. Zvěřiny 221 Hrotovice
SUMMARY:VY-ZCI: Sokol Hrotovice-TJ Žďár nad Sázavou
END:VEVENT
BEGIN:VEVENT
UID:32663333-6634-4463-b765-343138386137
DTSTAMP:20260422T022915Z
DESCRIPTION:3/18 Havlíčkův Brod - TJ Žďár nad Sázavou 0:2 (-16\,-19)
DTSTART;TZID=Europe/Berlin:20211114T090000
DTEND;TZID=Europe/Berlin:20211114T110000
LOCATION:Tělocvična SPŠ Stavební\, Jihlavská 628 Havlíčkův Brod
SUMMARY:VY-ZCI: Havlíčkův Brod-TJ Žďár nad Sázavou
END:VEVENT
BEGIN:VEVENT
UID:34386136-6665-4436-b936-366439316130
DTSTAMP:20260422T022915Z
DESCRIPTION:4/20 Havlíčkův Brod - TJ Žďár nad Sázavou 0:2 (-22\,-20)
DTSTART;TZID=Europe/Berlin:20211128T090000
DTEND;TZID=Europe/Berlin:20211128T110000
LOCATION:Tělocvična SPŠ Stavební\, Jihlavská 628 Havlíčkův Brod
SUMMARY:VY-ZCI: Havlíčkův Brod-TJ Žďár nad Sázavou
END:VEVENT
BEGIN:VEVENT
UID:65316439-6533-4638-b039-303230366137
DTSTAMP:20260422T022915Z
DESCRIPTION:5/27 Velké Meziříčí - TJ Žďár nad Sázavou 0:2 (-25\,-18)\npořad
 atel Žďár nad Sázavou hala na Bouchalkach
DTSTART;TZID=Europe/Berlin:20220130T090000
DTEND;TZID=Europe/Berlin:20220130T110000
LOCATION:ZŠ Sokolovská\, Sokolovská 470 Velké Meziříčí
SUMMARY:VY-ZCI: Velké Meziříčí-TJ Žďár nad Sázavou
END:VEVENT
BEGIN:VEVENT
UID:37343930-3639-4030-a533-333532396634
DTSTAMP:20260422T022915Z
DESCRIPTION:5/29 Havlíčkův Brod - TJ Žďár nad Sázavou 2:0 (15\,16)
DTSTART;TZID=Europe/Berlin:20220130T090000
DTEND;TZID=Europe/Berlin:20220130T110000
LOCATION:Tělocvična SPŠ Stavební\, Jihlavská 628 Havlíčkův Brod
SUMMARY:VY-ZCI: Havlíčkův Brod-TJ Žďár nad Sázavou
END:VEVENT
BEGIN:VEVENT
UID:63633933-6165-4133-b739-613262653338
DTSTAMP:20260422T022915Z
DESCRIPTION:6/34 Velké Meziříčí - TJ Žďár nad Sázavou 2:0 (13\,13)
DTSTART;TZID=Europe/Berlin:20220206T090000
DTEND;TZID=Europe/Berlin:20220206T110000
LOCATION:ZŠ Sokolovská\, Sokolovská 470 Velké Meziříčí
SUMMARY:VY-ZCI: Velké Meziříčí-TJ Žďár nad Sázavou
END:VEVENT
BEGIN:VEVENT
UID:39666238-3230-4237-b236-356262313731
DTSTAMP:20260422T022915Z
DESCRIPTION:7/37 Sokol Hrotovice - TJ Žďár nad Sázavou 2:1 (-19\,20\,11)\np
 ořadatel Hrotovice
DTSTART;TZID=Europe/Berlin:20220227T090000
DTEND;TZID=Europe/Berlin:20220227T110000
LOCATION:Sportovní hala ZŠ Hrotovice\, F. B. Zvěřiny 221 Hrotovice
SUMMARY:VY-ZCI: Sokol Hrotovice-TJ Žďár nad Sázavou
END:VEVENT
BEGIN:VEVENT
UID:65313835-3636-4038-b338-306532313834
DTSTAMP:20260422T022915Z
DESCRIPTION:7/42 Havlíčkův Brod - TJ Žďár nad Sázavou 2:1 (15\,-21\,10)
DTSTART;TZID=Europe/Berlin:20220227T090000
DTEND;TZID=Europe/Berlin:20220227T110000
LOCATION:Tělocvična SPŠ Stavební\, Jihlavská 628 Havlíčkův Brod
SUMMARY:VY-ZCI: Havlíčkův Brod-TJ Žďár nad Sázavou
END:VEVENT
BEGIN:VEVENT
UID:66656438-3864-4131-b566-383261616232
DTSTAMP:20260422T022915Z
DESCRIPTION:8/44 Havlíčkův Brod - TJ Žďár nad Sázavou 2:1 (-23\,15\,7)
DTSTART;TZID=Europe/Berlin:20220320T090000
DTEND;TZID=Europe/Berlin:20220320T110000
LOCATION:Tělocvična SPŠ Stavební\, Jihlavská 628 Havlíčkův Brod
SUMMARY:VY-ZCI: Havlíčkův Brod-TJ Žďár nad Sázavou
END:VEVENT
END:VCALENDAR
