BEGIN:VCALENDAR
VERSION:2.0
PRODID:-//Sportovní klub tenis - odbíjená Duchcov .77095//NONSGML kigkonsult.se iCalcreator 2.41.80//
CALSCALE:GREGORIAN
UID:62653238-6266-4330-a265-626265623731
BEGIN:VEVENT
UID:63373332-3566-4937-b465-373330356531
DTSTAMP:20260422T053756Z
DESCRIPTION:1/3 SKTO Duchcov - VTK Čížkovice\, z.s. 3:0 (20\,22\,11)
DTSTART;TZID=Europe/Berlin:20211003T100000
DTEND;TZID=Europe/Berlin:20211003T120000
LOCATION:Tělocvična ZŠ J. Pešaty Duchcov ZŠ J. Pešaty 1313/11 Duchcov
SUMMARY:US-KKY: SKTO Duchcov-VTK Čížkovice\, z.s.
END:VEVENT
BEGIN:VEVENT
UID:37383066-6235-4235-a266-366637633962
DTSTAMP:20260422T053756Z
DESCRIPTION:2/7 SKTO Duchcov - VTK Čížkovice\, z.s. 2:3 (-21\,18\,-16\,11\,
 -7)
DTSTART;TZID=Europe/Berlin:20211003T140000
DTEND;TZID=Europe/Berlin:20211003T160000
LOCATION:Tělocvična ZŠ J. Pešaty Duchcov ZŠ J. Pešaty 1313/11 Duchcov
SUMMARY:US-KKY: SKTO Duchcov-VTK Čížkovice\, z.s.
END:VEVENT
BEGIN:VEVENT
UID:66613234-3663-4961-b666-383732616336
DTSTAMP:20260422T053756Z
DESCRIPTION:5/18 SKTO Duchcov - Teplice 2:3 (17\,-17\,20\,-20\,-14)
DTSTART;TZID=Europe/Berlin:20211024T100000
DTEND;TZID=Europe/Berlin:20211024T120000
LOCATION:Tělocvična ZŠ J. Pešaty Duchcov ZŠ J. Pešaty 1313/11 Duchcov
SUMMARY:US-KKY: SKTO Duchcov-Teplice
END:VEVENT
BEGIN:VEVENT
UID:39373639-6533-4734-b635-383132656631
DTSTAMP:20260422T053756Z
DESCRIPTION:6/22 SKTO Duchcov - Teplice 1:3 (-21\,-19\,20\,-16)
DTSTART;TZID=Europe/Berlin:20211024T140000
DTEND;TZID=Europe/Berlin:20211024T160000
LOCATION:Tělocvična ZŠ J. Pešaty Duchcov ZŠ J. Pešaty 1313/11 Duchcov
SUMMARY:US-KKY: SKTO Duchcov-Teplice
END:VEVENT
BEGIN:VEVENT
UID:64613663-6363-4337-b131-376363616438
DTSTAMP:20260422T053756Z
DESCRIPTION:11/44 SKTO Duchcov - Volejbal Ústí nad Labem 'B' 3:0 (10\,15\,1
 8)
DTSTART;TZID=Europe/Berlin:20211128T100000
DTEND;TZID=Europe/Berlin:20211128T120000
LOCATION:Tělocvična ZŠ J. Pešaty Duchcov ZŠ J. Pešaty 1313/11 Duchcov
SUMMARY:US-KKY: SKTO Duchcov-Volejbal Ústí nad Labem 'B'
END:VEVENT
BEGIN:VEVENT
UID:32653038-3234-4133-b162-343039643632
DTSTAMP:20260422T053756Z
DESCRIPTION:12/48 SKTO Duchcov - Volejbal Ústí nad Labem 'B' 3:0 (17\,19\,1
 4)
DTSTART;TZID=Europe/Berlin:20211128T140000
DTEND;TZID=Europe/Berlin:20211128T160000
LOCATION:Tělocvična ZŠ J. Pešaty Duchcov ZŠ J. Pešaty 1313/11 Duchcov
SUMMARY:US-KKY: SKTO Duchcov-Volejbal Ústí nad Labem 'B'
END:VEVENT
BEGIN:VEVENT
UID:34323239-6165-4632-b932-663666313238
DTSTAMP:20260422T053756Z
DESCRIPTION:17/67 SKTO Duchcov - TJ Baník Most 3:0 (23\,11\,15)
DTSTART;TZID=Europe/Berlin:20211219T100000
DTEND;TZID=Europe/Berlin:20211219T120000
LOCATION:Tělocvična ZŠ J. Pešaty Duchcov ZŠ J. Pešaty 1313/11 Duchcov
SUMMARY:US-KKY: SKTO Duchcov-TJ Baník Most
END:VEVENT
BEGIN:VEVENT
UID:36396334-3539-4532-a532-323361353232
DTSTAMP:20260422T053756Z
DESCRIPTION:18/71 SKTO Duchcov - TJ Baník Most 3:1 (-12\,18\,12\,20)
DTSTART;TZID=Europe/Berlin:20211219T140000
DTEND;TZID=Europe/Berlin:20211219T160000
LOCATION:Tělocvična ZŠ J. Pešaty Duchcov ZŠ J. Pešaty 1313/11 Duchcov
SUMMARY:US-KKY: SKTO Duchcov-TJ Baník Most
END:VEVENT
BEGIN:VEVENT
UID:36386436-3436-4539-b333-663563386639
DTSTAMP:20260422T053756Z
DESCRIPTION:21/84 SKTO Duchcov - VSK Spartak Děčín 3:1 (19\,-21\,17\,12)
DTSTART;TZID=Europe/Berlin:20220116T100000
DTEND;TZID=Europe/Berlin:20220116T120000
LOCATION:Tělocvična ZŠ J. Pešaty Duchcov ZŠ J. Pešaty 1313/11 Duchcov
SUMMARY:US-KKY: SKTO Duchcov-VSK Spartak Děčín
END:VEVENT
BEGIN:VEVENT
UID:64643263-3361-4334-a261-613837356164
DTSTAMP:20260422T053756Z
DESCRIPTION:22/88 SKTO Duchcov - VSK Spartak Děčín 3:0 (19\,18\,12)
DTSTART;TZID=Europe/Berlin:20220116T140000
DTEND;TZID=Europe/Berlin:20220116T160000
LOCATION:Tělocvična ZŠ J. Pešaty Duchcov ZŠ J. Pešaty 1313/11 Duchcov
SUMMARY:US-KKY: SKTO Duchcov-VSK Spartak Děčín
END:VEVENT
BEGIN:VEVENT
UID:31373439-6666-4565-b332-646137663536
DTSTAMP:20260422T053756Z
DESCRIPTION:27/106 SKTO Duchcov - SK VOLEJBAL Ústí nad Labem\, z.s. 3:0 (12
 \,13\,19)
DTSTART;TZID=Europe/Berlin:20220327T100000
DTEND;TZID=Europe/Berlin:20220327T120000
LOCATION:Tělocvična ZŠ J. Pešaty Duchcov ZŠ J. Pešaty 1313/11 Duchcov
SUMMARY:US-KKY: SKTO Duchcov-SK VOLEJBAL Ústí nad Labem\, z.s.
END:VEVENT
BEGIN:VEVENT
UID:34313138-6366-4162-b039-626364336661
DTSTAMP:20260422T053756Z
DESCRIPTION:28/110 SKTO Duchcov - SK VOLEJBAL Ústí nad Labem\, z.s. 3:0 (11
 \,17\,11)
DTSTART;TZID=Europe/Berlin:20220327T140000
DTEND;TZID=Europe/Berlin:20220327T160000
LOCATION:Tělocvična ZŠ J. Pešaty Duchcov ZŠ J. Pešaty 1313/11 Duchcov
SUMMARY:US-KKY: SKTO Duchcov-SK VOLEJBAL Ústí nad Labem\, z.s.
END:VEVENT
BEGIN:VEVENT
UID:61393430-3063-4139-b865-303038613666
DTSTAMP:20260422T053756Z
DESCRIPTION:3/11 TJ Baník Most - SKTO Duchcov 0:3 (-13\,-24\,-18)
DTSTART;TZID=Europe/Berlin:20211010T100000
DTEND;TZID=Europe/Berlin:20211010T120000
LOCATION:Sportovní Hala Most Třída Budovatelů 112/7
SUMMARY:US-KKY: TJ Baník Most-SKTO Duchcov
END:VEVENT
BEGIN:VEVENT
UID:65653537-3433-4363-b930-333266353531
DTSTAMP:20260422T053756Z
DESCRIPTION:4/15 TJ Baník Most - SKTO Duchcov 1:3 (13\,-22\,-28\,-15)
DTSTART;TZID=Europe/Berlin:20211010T140000
DTEND;TZID=Europe/Berlin:20211010T160000
LOCATION:Sportovní Hala Most Třída Budovatelů 112/7
SUMMARY:US-KKY: TJ Baník Most-SKTO Duchcov
END:VEVENT
BEGIN:VEVENT
UID:64303734-3764-4265-a563-663838623437
DTSTAMP:20260422T053756Z
DESCRIPTION:7/28 VSK Spartak Děčín - SKTO Duchcov 2:3 (-17\,21\,-16\,16\,-1
 2)
DTSTART;TZID=Europe/Berlin:20211107T100000
DTEND;TZID=Europe/Berlin:20211107T120000
LOCATION:ZŠ Dr .Míroslava Tyrše Vokolkova ul. Děčín 2
SUMMARY:US-KKY: VSK Spartak Děčín-SKTO Duchcov
END:VEVENT
BEGIN:VEVENT
UID:36383733-3736-4236-b835-653338623764
DTSTAMP:20260422T053756Z
DESCRIPTION:8/32 VSK Spartak Děčín - SKTO Duchcov 1:3 (-16\,-23\,23\,-24)
DTSTART;TZID=Europe/Berlin:20211107T140000
DTEND;TZID=Europe/Berlin:20211107T160000
LOCATION:ZŠ Dr .Míroslava Tyrše Vokolkova ul. Děčín 2
SUMMARY:US-KKY: VSK Spartak Děčín-SKTO Duchcov
END:VEVENT
BEGIN:VEVENT
UID:34626535-6139-4362-b064-396232653633
DTSTAMP:20260422T053756Z
DESCRIPTION:13/50 SK VOLEJBAL Ústí nad Labem\, z.s. - SKTO Duchcov 0:3 (-23
 \,-18\,-20)
DTSTART;TZID=Europe/Berlin:20211205T100000
DTEND;TZID=Europe/Berlin:20211205T120000
LOCATION:ZŠ Stříbrnická Stříbrnická 3031\, 400 11 Ústí nad Labem-Severní Te
 rasa
SUMMARY:US-KKY: SK VOLEJBAL Ústí nad Labem\, z.s.-SKTO Duchcov
END:VEVENT
BEGIN:VEVENT
UID:65386335-3836-4266-a635-643930633063
DTSTAMP:20260422T053756Z
DESCRIPTION:14/54 SK VOLEJBAL Ústí nad Labem\, z.s. - SKTO Duchcov 0:3 (-12
 \,-13\,-15)
DTSTART;TZID=Europe/Berlin:20211205T140000
DTEND;TZID=Europe/Berlin:20211205T160000
LOCATION:ZŠ Stříbrnická Stříbrnická 3031\, 400 11 Ústí nad Labem-Severní Te
 rasa
SUMMARY:US-KKY: SK VOLEJBAL Ústí nad Labem\, z.s.-SKTO Duchcov
END:VEVENT
BEGIN:VEVENT
UID:38633435-3436-4233-b334-363737343635
DTSTAMP:20260422T053756Z
DESCRIPTION:15/59 VTK Čížkovice\, z.s. - SKTO Duchcov 1:3 (-13\,22\,-21\,-2
 3)
DTSTART;TZID=Europe/Berlin:20220225T160000
DTEND;TZID=Europe/Berlin:20220225T180000
LOCATION:Hala při ZŠ Benešova 65\, 41112 Čížkovice
SUMMARY:US-KKY: VTK Čížkovice\, z.s.-SKTO Duchcov
END:VEVENT
BEGIN:VEVENT
UID:36616166-3537-4061-b164-613466656163
DTSTAMP:20260422T053756Z
DESCRIPTION:16/63 VTK Čížkovice\, z.s. - SKTO Duchcov 1:3 (14\,-15\,-18\,-8
 )
DTSTART;TZID=Europe/Berlin:20220225T180000
DTEND;TZID=Europe/Berlin:20220225T200000
LOCATION:Hala při ZŠ Benešova 65\, 41112 Čížkovice
SUMMARY:US-KKY: VTK Čížkovice\, z.s.-SKTO Duchcov
END:VEVENT
BEGIN:VEVENT
UID:35303633-6530-4235-a533-333234646637
DTSTAMP:20260422T053756Z
DESCRIPTION:19/74 Teplice - SKTO Duchcov 1:3 (-16\,18\,-10\,-16)
DTSTART;TZID=Europe/Berlin:20220323T160000
DTEND;TZID=Europe/Berlin:20220323T180000
LOCATION:ZŠ Koperníkova Teplice Koperníkova 2592 \, 41501 Teplice
SUMMARY:US-KKY: Teplice-SKTO Duchcov
END:VEVENT
BEGIN:VEVENT
UID:34623136-6238-4363-b130-653538363433
DTSTAMP:20260422T053756Z
DESCRIPTION:20/78 Teplice - SKTO Duchcov 3:1 (22\,24\,-22\,23)
DTSTART;TZID=Europe/Berlin:20220323T180000
DTEND;TZID=Europe/Berlin:20220323T200000
LOCATION:ZŠ Koperníkova Teplice Koperníkova 2592 \, 41501 Teplice
SUMMARY:US-KKY: Teplice-SKTO Duchcov
END:VEVENT
BEGIN:VEVENT
UID:33306435-3466-4534-b334-333633376637
DTSTAMP:20260422T053756Z
DESCRIPTION:25/100 Volejbal Ústí nad Labem 'B' - SKTO Duchcov 1:3 (19\,-17\
 ,-17\,-18)
DTSTART;TZID=Europe/Berlin:20220306T090000
DTEND;TZID=Europe/Berlin:20220306T110000
LOCATION:Gymnázium a SOŠ Dr. Václava Šmejkala Stará 99\, 400 11 Ústí nad La
 bem-Severní Terasa
SUMMARY:US-KKY: Volejbal Ústí nad Labem 'B'-SKTO Duchcov
END:VEVENT
BEGIN:VEVENT
UID:31353165-3138-4265-a566-393531626631
DTSTAMP:20260422T053756Z
DESCRIPTION:26/104 Volejbal Ústí nad Labem 'B' - SKTO Duchcov 0:3 (-18\,-16
 \,-13)
DTSTART;TZID=Europe/Berlin:20220306T130000
DTEND;TZID=Europe/Berlin:20220306T150000
LOCATION:Gymnázium a SOŠ Dr. Václava Šmejkala Stará 99\, 400 11 Ústí nad La
 bem-Severní Terasa
SUMMARY:US-KKY: Volejbal Ústí nad Labem 'B'-SKTO Duchcov
END:VEVENT
BEGIN:VEVENT
UID:34376365-3266-4165-b533-313935643165
DTSTAMP:20260422T053756Z
DESCRIPTION:2/5 SKTO Duchcov - Sokol H. Brod 2:1 (-16\,19\,10)
DTSTART;TZID=Europe/Berlin:20211016T093000
DTEND;TZID=Europe/Berlin:20211016T113000
LOCATION:Tělocvična ZŠ J. Pešaty Duchcov ZŠ J. Pešaty 1313/11 Duchcov
SUMMARY:CP-KKY-C: SKTO Duchcov-Sokol H. Brod
END:VEVENT
BEGIN:VEVENT
UID:34373366-3830-4534-a262-333433336433
DTSTAMP:20260422T053756Z
DESCRIPTION:5/15 SKTO Duchcov - Znojmo 0:2 (-15\,-6)
DTSTART;TZID=Europe/Berlin:20211016T175000
DTEND;TZID=Europe/Berlin:20211016T195000
LOCATION:Tělocvična ZŠ J. Pešaty Duchcov ZŠ J. Pešaty 1313/11 Duchcov
SUMMARY:CP-KKY-C: SKTO Duchcov-Znojmo
END:VEVENT
BEGIN:VEVENT
UID:39363936-3331-4133-a534-316634366330
DTSTAMP:20260422T053756Z
DESCRIPTION:7/19 SKTO Duchcov - Chlumec 0:2 (-20\,-24)
DTSTART;TZID=Europe/Berlin:20211017T113000
DTEND;TZID=Europe/Berlin:20211017T133000
LOCATION:Tělocvična ZŠ J. Pešaty Duchcov ZŠ J. Pešaty 1313/11 Duchcov
SUMMARY:CP-KKY-C: SKTO Duchcov-Chlumec
END:VEVENT
BEGIN:VEVENT
UID:37626634-6661-4436-a239-393361303765
DTSTAMP:20260422T053756Z
DESCRIPTION:1/2 Prostějov - SKTO Duchcov 2:0 (12\,16)
DTSTART;TZID=Europe/Berlin:20211016T080000
DTEND;TZID=Europe/Berlin:20211016T100000
LOCATION:Národní sportovní centrum\, Za velodromem 4187 Prostějov
SUMMARY:CP-KKY-C: Prostějov-SKTO Duchcov
END:VEVENT
BEGIN:VEVENT
UID:65363434-6663-4531-b438-323639643766
DTSTAMP:20260422T053756Z
DESCRIPTION:3/9 Meteor - SKTO Duchcov 2:1 (14\,-22\,11)
DTSTART;TZID=Europe/Berlin:20211016T120000
DTEND;TZID=Europe/Berlin:20211016T140000
LOCATION:ZŠ Žernosecká Žernosecká 3/1597\, Praha 8
SUMMARY:CP-KKY-C: Meteor-SKTO Duchcov
END:VEVENT
BEGIN:VEVENT
UID:37316535-3664-4266-b435-396461313366
DTSTAMP:20260422T053756Z
DESCRIPTION:6/16 TJ Baník Most - SKTO Duchcov 0:2 (-22\,-20)
DTSTART;TZID=Europe/Berlin:20211017T103000
DTEND;TZID=Europe/Berlin:20211017T123000
LOCATION:Sportovní Hala Most Třída Budovatelů 112/7
SUMMARY:CP-KKY-C: TJ Baník Most-SKTO Duchcov
END:VEVENT
BEGIN:VEVENT
UID:35326561-6462-4936-b131-663062326532
DTSTAMP:20260422T053756Z
DESCRIPTION:1/2 SKTO Duchcov - U. Hradiště 1:2 (-18\,22\,-8)
DTSTART;TZID=Europe/Berlin:20211120T090000
DTEND;TZID=Europe/Berlin:20211120T110000
LOCATION:Tělocvična ZŠ J. Pešaty Duchcov ZŠ J. Pešaty 1313/11 Duchcov
SUMMARY:CP-KKY-1D: SKTO Duchcov-U. Hradiště
END:VEVENT
BEGIN:VEVENT
UID:36343832-3035-4063-b135-613634323365
DTSTAMP:20260422T053756Z
DESCRIPTION:5/10 SKTO Duchcov - TJ Baník Most 2:0 (9\,16)
DTSTART;TZID=Europe/Berlin:20211120T130000
DTEND;TZID=Europe/Berlin:20211120T150000
LOCATION:Tělocvična ZŠ J. Pešaty Duchcov ZŠ J. Pešaty 1313/11 Duchcov
SUMMARY:CP-KKY-1D: SKTO Duchcov-TJ Baník Most
END:VEVENT
BEGIN:VEVENT
UID:30376164-3065-4766-a363-633432613964
DTSTAMP:20260422T053756Z
DESCRIPTION:9/17 SKTO Duchcov - VSK Spartak Děčín 2:X
DTSTART;TZID=Europe/Berlin:20211120T180000
DTEND;TZID=Europe/Berlin:20211120T200000
LOCATION:Tělocvična ZŠ J. Pešaty Duchcov ZŠ J. Pešaty 1313/11 Duchcov
SUMMARY:CP-KKY-1D: SKTO Duchcov-VSK Spartak Děčín
END:VEVENT
BEGIN:VEVENT
UID:61306566-3666-4330-a661-393536333132
DTSTAMP:20260422T053756Z
DESCRIPTION:12/24 SKTO Duchcov - Meteor 2:1 (-20\,18\,12)
DTSTART;TZID=Europe/Berlin:20211121T100000
DTEND;TZID=Europe/Berlin:20211121T120000
LOCATION:Tělocvična ZŠ J. Pešaty Duchcov ZŠ J. Pešaty 1313/11 Duchcov
SUMMARY:CP-KKY-1D: SKTO Duchcov-Meteor
END:VEVENT
BEGIN:VEVENT
UID:64373133-3963-4161-a338-366138623965
DTSTAMP:20260422T053756Z
DESCRIPTION:4/7 Mělník - SKTO Duchcov 0:2 (-6\,-21)
DTSTART;TZID=Europe/Berlin:20211120T160000
DTEND;TZID=Europe/Berlin:20211120T180000
LOCATION:Tělocvična ZŠ J. Matiegky\, Pražská 2817 Mělník
SUMMARY:CP-KKY-1D: Mělník-SKTO Duchcov
END:VEVENT
BEGIN:VEVENT
UID:33353435-3937-4563-a165-633162303535
DTSTAMP:20260422T053756Z
DESCRIPTION:8/16 Č.Kostelec - SKTO Duchcov X:2
DTSTART;TZID=Europe/Berlin:20211120T170000
DTEND;TZID=Europe/Berlin:20211120T190000
LOCATION:Sportovní hala\, Palackého 1234 Červený Kostelec
SUMMARY:CP-KKY-1D: Č.Kostelec-SKTO Duchcov
END:VEVENT
BEGIN:VEVENT
UID:66333638-6136-4364-b561-313036303630
DTSTAMP:20260422T053756Z
DESCRIPTION:14/28 Č. Třebová 'A' - SKTO Duchcov 0:2 (-16\,-16)
DTSTART;TZID=Europe/Berlin:20211121T120000
DTEND;TZID=Europe/Berlin:20211121T140000
LOCATION:Základní škola Česká Třebová Habrmanova\, Na Skále\, Na Skále 566 
 Česká Třebová
SUMMARY:CP-KKY-1D: Č. Třebová 'A'-SKTO Duchcov
END:VEVENT
BEGIN:VEVENT
UID:36326132-6238-4732-b233-343763656236
DTSTAMP:20260422T053756Z
DESCRIPTION:1/2 SKTO Duchcov - Sokol H. Brod 0:2 (-24\,-13)
DTSTART;TZID=Europe/Berlin:20220219T090000
DTEND;TZID=Europe/Berlin:20220219T110000
LOCATION:Tělocvična ZŠ J. Pešaty Duchcov ZŠ J. Pešaty 1313/11 Duchcov
SUMMARY:CP-KKY-3C: SKTO Duchcov-Sokol H. Brod
END:VEVENT
BEGIN:VEVENT
UID:32633161-3533-4237-b435-643837653636
DTSTAMP:20260422T053756Z
DESCRIPTION:5/15 SKTO Duchcov - Chlumec 0:2 (-23\,-14)
DTSTART;TZID=Europe/Berlin:20220219T170000
DTEND;TZID=Europe/Berlin:20220219T190000
LOCATION:Tělocvična ZŠ J. Pešaty Duchcov ZŠ J. Pešaty 1313/11 Duchcov
SUMMARY:CP-KKY-3C: SKTO Duchcov-Chlumec
END:VEVENT
BEGIN:VEVENT
UID:30613061-3534-4630-b764-656363323065
DTSTAMP:20260422T053756Z
DESCRIPTION:8/24 SKTO Duchcov - Raškovice 1:2 (-17\,24\,-11)
DTSTART;TZID=Europe/Berlin:20220220T120000
DTEND;TZID=Europe/Berlin:20220220T140000
LOCATION:Tělocvična ZŠ J. Pešaty Duchcov ZŠ J. Pešaty 1313/11 Duchcov
SUMMARY:CP-KKY-3C: SKTO Duchcov-Raškovice
END:VEVENT
BEGIN:VEVENT
UID:62666462-3862-4037-b561-613663303335
DTSTAMP:20260422T053756Z
DESCRIPTION:2/5 Tábor - SKTO Duchcov 2:0 (13\,24)
DTSTART;TZID=Europe/Berlin:20220219T110000
DTEND;TZID=Europe/Berlin:20220219T130000
LOCATION:Tělocvična ZŠ Husova\, Husova 1570 Tábor
SUMMARY:CP-KKY-3C: Tábor-SKTO Duchcov
END:VEVENT
BEGIN:VEVENT
UID:62353638-3562-4066-b132-326430326436
DTSTAMP:20260422T053756Z
DESCRIPTION:4/10 U. Hradiště - SKTO Duchcov 2:0 (19\,12)
DTSTART;TZID=Europe/Berlin:20220219T150000
DTEND;TZID=Europe/Berlin:20220219T170000
LOCATION:Městská sportovní hala\, Stonky 860 Uherské Hradiště
SUMMARY:CP-KKY-3C: U. Hradiště-SKTO Duchcov
END:VEVENT
BEGIN:VEVENT
UID:30373331-6465-4263-a133-663264333566
DTSTAMP:20260422T053756Z
DESCRIPTION:7/20 Jičín - SKTO Duchcov 2:1 (-20\,22\,11)
DTSTART;TZID=Europe/Berlin:20220220T103000
DTEND;TZID=Europe/Berlin:20220220T123000
LOCATION:Hala 3. základní školy Jičín\, Poděbradova 18 Jičín - Nové Město
SUMMARY:CP-KKY-3C: Jičín-SKTO Duchcov
END:VEVENT
BEGIN:VEVENT
UID:35313563-3634-4334-b563-396630636363
DTSTAMP:20260422T053756Z
DESCRIPTION:9/27 SKV Ústí n. L. - SKTO Duchcov 2:0 (23\,18)
DTSTART;TZID=Europe/Berlin:20220220T133000
DTEND;TZID=Europe/Berlin:20220220T153000
LOCATION:Střední průmyslová škola strojní a elektro\, Resslova 210 Ústí nad
  Labem - Klíše
SUMMARY:CP-KKY-3C: SKV Ústí n. L.-SKTO Duchcov
END:VEVENT
BEGIN:VEVENT
UID:64623761-3564-4438-a633-323662636361
DTSTAMP:20260422T053756Z
DESCRIPTION:2/3 SKTO Duchcov - TJ Baník Most 2:0 (16\,19)
DTSTART;TZID=Europe/Berlin:20220319T101500
DTEND;TZID=Europe/Berlin:20220319T121500
LOCATION:Tělocvična ZŠ J. Pešaty Duchcov ZŠ J. Pešaty 1313/11 Duchcov
SUMMARY:CP-KKY-4D: SKTO Duchcov-TJ Baník Most
END:VEVENT
BEGIN:VEVENT
UID:38366138-3531-4535-b938-376466666132
DTSTAMP:20260422T053756Z
DESCRIPTION:4/8 SKTO Duchcov - Mikulova B 2:0 (17\,16)
DTSTART;TZID=Europe/Berlin:20220319T124500
DTEND;TZID=Europe/Berlin:20220319T144500
LOCATION:Tělocvična ZŠ J. Pešaty Duchcov ZŠ J. Pešaty 1313/11 Duchcov
SUMMARY:CP-KKY-4D: SKTO Duchcov-Mikulova B
END:VEVENT
BEGIN:VEVENT
UID:31306232-3332-4030-b432-303935346162
DTSTAMP:20260422T053756Z
DESCRIPTION:3/6 Č.Kostelec - SKTO Duchcov 2:0 (23\,17)
DTSTART;TZID=Europe/Berlin:20220319T113000
DTEND;TZID=Europe/Berlin:20220319T133000
LOCATION:Sportovní hala\, Palackého 1234 Červený Kostelec
SUMMARY:CP-KKY-4D: Č.Kostelec-SKTO Duchcov
END:VEVENT
BEGIN:VEVENT
UID:38636337-3330-4834-b337-346331623233
DTSTAMP:20260422T053756Z
DESCRIPTION:5/9 Chlumec - SKTO Duchcov 2:0 (17\,16)
DTSTART;TZID=Europe/Berlin:20220319T140000
DTEND;TZID=Europe/Berlin:20220319T160000
LOCATION:Slavíčkova hala\, Sokolská 795 Chlumec nad Cidlinou - Chlumec nad 
 Cidlinou IV
SUMMARY:CP-KKY-4D: Chlumec-SKTO Duchcov
END:VEVENT
BEGIN:VEVENT
UID:39396262-3632-4663-b165-636439316364
DTSTAMP:20260422T053756Z
DESCRIPTION:6/12 Meteor - SKTO Duchcov X:2
DTSTART;TZID=Europe/Berlin:20220319T153000
DTEND;TZID=Europe/Berlin:20220319T173000
LOCATION:ZŠ Žernosecká Žernosecká 3/1597\, Praha 8
SUMMARY:CP-KKY-4D: Meteor-SKTO Duchcov
END:VEVENT
BEGIN:VEVENT
UID:63623163-6461-4061-b264-363237303862
DTSTAMP:20260422T053756Z
DESCRIPTION:6/19 VSK Spartak Děčín - SKTO Duchcov X:2
DTSTART;TZID=Europe/Berlin:20220319T153000
DTEND;TZID=Europe/Berlin:20220319T173000
LOCATION:ZŠ Dr .Míroslava Tyrše Vokolkova ul. Děčín 2
SUMMARY:CP-KKY-4D: VSK Spartak Děčín-SKTO Duchcov
END:VEVENT
BEGIN:VEVENT
UID:66313034-3665-4530-b765-653333396463
DTSTAMP:20260422T053756Z
DESCRIPTION:6/25 Mělník - SKTO Duchcov X:2
DTSTART;TZID=Europe/Berlin:20220319T153000
DTEND;TZID=Europe/Berlin:20220319T173000
LOCATION:Tělocvična ZŠ J. Matiegky\, Pražská 2817 Mělník
SUMMARY:CP-KKY-4D: Mělník-SKTO Duchcov
END:VEVENT
END:VCALENDAR
