BEGIN:VCALENDAR
VERSION:2.0
PRODID:-//TJ Baník Most77099//NONSGML kigkonsult.se iCalcreator 2.41.80//
CALSCALE:GREGORIAN
UID:36303563-3864-4630-b162-646432653331
BEGIN:VEVENT
UID:32636239-3463-4561-b662-643365393536
DTSTAMP:20260422T052754Z
DESCRIPTION:3/11 TJ Baník Most - SKTO Duchcov 0:3 (-13\,-24\,-18)
DTSTART;TZID=Europe/Berlin:20211010T100000
DTEND;TZID=Europe/Berlin:20211010T120000
LOCATION:Sportovní Hala Most Třída Budovatelů 112/7
SUMMARY:US-KKY: TJ Baník Most-SKTO Duchcov
END:VEVENT
BEGIN:VEVENT
UID:33376232-3261-4463-b061-313463373165
DTSTAMP:20260422T052754Z
DESCRIPTION:4/15 TJ Baník Most - SKTO Duchcov 1:3 (13\,-22\,-28\,-15)
DTSTART;TZID=Europe/Berlin:20211010T140000
DTEND;TZID=Europe/Berlin:20211010T160000
LOCATION:Sportovní Hala Most Třída Budovatelů 112/7
SUMMARY:US-KKY: TJ Baník Most-SKTO Duchcov
END:VEVENT
BEGIN:VEVENT
UID:38363466-3737-4233-b263-346631366534
DTSTAMP:20260422T052754Z
DESCRIPTION:7/26 TJ Baník Most - SK VOLEJBAL Ústí nad Labem\, z.s. 3:0 (16\
 ,16\,8)
DTSTART;TZID=Europe/Berlin:20211107T130000
DTEND;TZID=Europe/Berlin:20211107T150000
LOCATION:Sportovní Hala Most Třída Budovatelů 112/7
SUMMARY:US-KKY: TJ Baník Most-SK VOLEJBAL Ústí nad Labem\, z.s.
END:VEVENT
BEGIN:VEVENT
UID:65656136-6664-4436-b130-613531646333
DTSTAMP:20260422T052754Z
DESCRIPTION:8/30 TJ Baník Most - SK VOLEJBAL Ústí nad Labem\, z.s. 3:0 (12\
 ,23\,16)
DTSTART;TZID=Europe/Berlin:20211107T170000
DTEND;TZID=Europe/Berlin:20211107T190000
LOCATION:Sportovní Hala Most Třída Budovatelů 112/7
SUMMARY:US-KKY: TJ Baník Most-SK VOLEJBAL Ústí nad Labem\, z.s.
END:VEVENT
BEGIN:VEVENT
UID:37323136-6234-4935-a638-363838376164
DTSTAMP:20260422T052754Z
DESCRIPTION:13/52 TJ Baník Most - Teplice 3:1 (-16\,24\,21\,24)
DTSTART;TZID=Europe/Berlin:20220220T100000
DTEND;TZID=Europe/Berlin:20220220T120000
LOCATION:Sportovní Hala Most Třída Budovatelů 112/7
SUMMARY:US-KKY: TJ Baník Most-Teplice
END:VEVENT
BEGIN:VEVENT
UID:65333633-3035-4734-a235-303738313132
DTSTAMP:20260422T052754Z
DESCRIPTION:14/56 TJ Baník Most - Teplice 2:3 (-18\,29\,17\,-19\,-11)
DTSTART;TZID=Europe/Berlin:20220220T140000
DTEND;TZID=Europe/Berlin:20220220T160000
LOCATION:Sportovní Hala Most Třída Budovatelů 112/7
SUMMARY:US-KKY: TJ Baník Most-Teplice
END:VEVENT
BEGIN:VEVENT
UID:33663233-3161-4562-a337-646136313561
DTSTAMP:20260422T052754Z
DESCRIPTION:15/58 TJ Baník Most - VSK Spartak Děčín 2:3 (-21\,-11\,11\,19\,
 -12)
DTSTART;TZID=Europe/Berlin:20220313T100000
DTEND;TZID=Europe/Berlin:20220313T120000
LOCATION:Sportovní Hala Most Třída Budovatelů 112/7
SUMMARY:US-KKY: TJ Baník Most-VSK Spartak Děčín
END:VEVENT
BEGIN:VEVENT
UID:35396366-3635-4639-a362-616431383431
DTSTAMP:20260422T052754Z
DESCRIPTION:16/62 TJ Baník Most - VSK Spartak Děčín 3:1 (18\,17\,-21\,23)
DTSTART;TZID=Europe/Berlin:20220313T140000
DTEND;TZID=Europe/Berlin:20220313T160000
LOCATION:Sportovní Hala Most Třída Budovatelů 112/7
SUMMARY:US-KKY: TJ Baník Most-VSK Spartak Děčín
END:VEVENT
BEGIN:VEVENT
UID:32393732-3230-4462-b133-366261636465
DTSTAMP:20260422T052754Z
DESCRIPTION:19/75 TJ Baník Most - Volejbal Ústí nad Labem 'B' 3:0 (9\,20\,1
 6)
DTSTART;TZID=Europe/Berlin:20220216T170000
DTEND;TZID=Europe/Berlin:20220216T190000
LOCATION:Sportovní Hala Most Třída Budovatelů 112/7
SUMMARY:US-KKY: TJ Baník Most-Volejbal Ústí nad Labem 'B'
END:VEVENT
BEGIN:VEVENT
UID:62613835-6263-4239-b230-323933316362
DTSTAMP:20260422T052754Z
DESCRIPTION:20/79 TJ Baník Most - Volejbal Ústí nad Labem 'B' 3:2 (-21\,19\
 ,8\,-18\,8)
DTSTART;TZID=Europe/Berlin:20220216T190000
DTEND;TZID=Europe/Berlin:20220216T210000
LOCATION:Sportovní Hala Most Třída Budovatelů 112/7
SUMMARY:US-KKY: TJ Baník Most-Volejbal Ústí nad Labem 'B'
END:VEVENT
BEGIN:VEVENT
UID:65353361-3064-4531-a236-373133626264
DTSTAMP:20260422T052754Z
DESCRIPTION:23/92 TJ Baník Most - VTK Čížkovice\, z.s. 0:3 (-21\,-19\,-14)
DTSTART;TZID=Europe/Berlin:20220130T133000
DTEND;TZID=Europe/Berlin:20220130T153000
LOCATION:Sportovní Hala Most Třída Budovatelů 112/7
SUMMARY:US-KKY: TJ Baník Most-VTK Čížkovice\, z.s.
END:VEVENT
BEGIN:VEVENT
UID:61323336-6633-4631-b961-666135343439
DTSTAMP:20260422T052754Z
DESCRIPTION:24/96 TJ Baník Most - VTK Čížkovice\, z.s. 1:3 (-15\,-17\,21\,-
 25)
DTSTART;TZID=Europe/Berlin:20220130T153000
DTEND;TZID=Europe/Berlin:20220130T173000
LOCATION:Sportovní Hala Most Třída Budovatelů 112/7
SUMMARY:US-KKY: TJ Baník Most-VTK Čížkovice\, z.s.
END:VEVENT
BEGIN:VEVENT
UID:30393462-3764-4438-b136-383563353865
DTSTAMP:20260422T052754Z
DESCRIPTION:1/2 VSK Spartak Děčín - TJ Baník Most 3:0 (22\,19\,15)
DTSTART;TZID=Europe/Berlin:20211003T100000
DTEND;TZID=Europe/Berlin:20211003T120000
LOCATION:ZŠ Dr .Míroslava Tyrše Vokolkova ul. Děčín 2
SUMMARY:US-KKY: VSK Spartak Děčín-TJ Baník Most
END:VEVENT
BEGIN:VEVENT
UID:32653634-6138-4132-a538-336439373739
DTSTAMP:20260422T052754Z
DESCRIPTION:2/6 VSK Spartak Děčín - TJ Baník Most 3:0 (23\,19\,11)
DTSTART;TZID=Europe/Berlin:20211003T140000
DTEND;TZID=Europe/Berlin:20211003T160000
LOCATION:ZŠ Dr .Míroslava Tyrše Vokolkova ul. Děčín 2
SUMMARY:US-KKY: VSK Spartak Děčín-TJ Baník Most
END:VEVENT
BEGIN:VEVENT
UID:62326331-3066-4131-a437-373837336432
DTSTAMP:20260422T052754Z
DESCRIPTION:5/19 Volejbal Ústí nad Labem 'B' - TJ Baník Most 3:2 (-20\,-18\
 ,22\,23\,14)
DTSTART;TZID=Europe/Berlin:20211024T100000
DTEND;TZID=Europe/Berlin:20211024T120000
LOCATION:Gymnázium a SOŠ Dr. Václava Šmejkala Stará 99\, 400 11 Ústí nad La
 bem-Severní Terasa
SUMMARY:US-KKY: Volejbal Ústí nad Labem 'B'-TJ Baník Most
END:VEVENT
BEGIN:VEVENT
UID:31376636-3830-4963-b733-623234626531
DTSTAMP:20260422T052754Z
DESCRIPTION:6/23 Volejbal Ústí nad Labem 'B' - TJ Baník Most 3:2 (19\,22\,-
 10\,-16\,5)
DTSTART;TZID=Europe/Berlin:20211024T140000
DTEND;TZID=Europe/Berlin:20211024T160000
LOCATION:Gymnázium a SOŠ Dr. Václava Šmejkala Stará 99\, 400 11 Ústí nad La
 bem-Severní Terasa
SUMMARY:US-KKY: Volejbal Ústí nad Labem 'B'-TJ Baník Most
END:VEVENT
BEGIN:VEVENT
UID:37393535-3233-4362-a263-306333373438
DTSTAMP:20260422T052754Z
DESCRIPTION:9/36 VTK Čížkovice\, z.s. - TJ Baník Most 2:3 (-16\,20\,-14\,22
 \,-11)
DTSTART;TZID=Europe/Berlin:20211114T100000
DTEND;TZID=Europe/Berlin:20211114T120000
LOCATION:Hala při ZŠ Benešova 65\, 41112 Čížkovice
SUMMARY:US-KKY: VTK Čížkovice\, z.s.-TJ Baník Most
END:VEVENT
BEGIN:VEVENT
UID:31323361-3537-4164-a661-303235653033
DTSTAMP:20260422T052754Z
DESCRIPTION:10/40 VTK Čížkovice\, z.s. - TJ Baník Most 1:3 (20\,-19\,-11\,-
 13)
DTSTART;TZID=Europe/Berlin:20211114T140000
DTEND;TZID=Europe/Berlin:20211114T160000
LOCATION:Hala při ZŠ Benešova 65\, 41112 Čížkovice
SUMMARY:US-KKY: VTK Čížkovice\, z.s.-TJ Baník Most
END:VEVENT
BEGIN:VEVENT
UID:38373335-3365-4338-a565-383933643432
DTSTAMP:20260422T052754Z
DESCRIPTION:17/67 SKTO Duchcov - TJ Baník Most 3:0 (23\,11\,15)
DTSTART;TZID=Europe/Berlin:20211219T100000
DTEND;TZID=Europe/Berlin:20211219T120000
LOCATION:Tělocvična ZŠ J. Pešaty Duchcov ZŠ J. Pešaty 1313/11 Duchcov
SUMMARY:US-KKY: SKTO Duchcov-TJ Baník Most
END:VEVENT
BEGIN:VEVENT
UID:66663832-6561-4537-b632-373131303566
DTSTAMP:20260422T052754Z
DESCRIPTION:18/71 SKTO Duchcov - TJ Baník Most 3:1 (-12\,18\,12\,20)
DTSTART;TZID=Europe/Berlin:20211219T140000
DTEND;TZID=Europe/Berlin:20211219T160000
LOCATION:Tělocvična ZŠ J. Pešaty Duchcov ZŠ J. Pešaty 1313/11 Duchcov
SUMMARY:US-KKY: SKTO Duchcov-TJ Baník Most
END:VEVENT
BEGIN:VEVENT
UID:30353666-3562-4561-a261-346633336432
DTSTAMP:20260422T052754Z
DESCRIPTION:21/82 SK VOLEJBAL Ústí nad Labem\, z.s. - TJ Baník Most 0:3 (-1
 3\,-13\,-25)
DTSTART;TZID=Europe/Berlin:20220116T100000
DTEND;TZID=Europe/Berlin:20220116T120000
LOCATION:ZŠ Stříbrnická Stříbrnická 3031\, 400 11 Ústí nad Labem-Severní Te
 rasa
SUMMARY:US-KKY: SK VOLEJBAL Ústí nad Labem\, z.s.-TJ Baník Most
END:VEVENT
BEGIN:VEVENT
UID:39656536-3638-4535-b363-623535366235
DTSTAMP:20260422T052754Z
DESCRIPTION:22/86 SK VOLEJBAL Ústí nad Labem\, z.s. - TJ Baník Most 0:3 (-2
 1\,-18\,-22)
DTSTART;TZID=Europe/Berlin:20220116T140000
DTEND;TZID=Europe/Berlin:20220116T160000
LOCATION:ZŠ Stříbrnická Stříbrnická 3031\, 400 11 Ústí nad Labem-Severní Te
 rasa
SUMMARY:US-KKY: SK VOLEJBAL Ústí nad Labem\, z.s.-TJ Baník Most
END:VEVENT
BEGIN:VEVENT
UID:31653832-6136-4462-a533-666134313465
DTSTAMP:20260422T052754Z
DESCRIPTION:27/108 Teplice - TJ Baník Most 3:0 (13\,18\,25)
DTSTART;TZID=Europe/Berlin:20220327T100000
DTEND;TZID=Europe/Berlin:20220327T120000
LOCATION:ZŠ Koperníkova Teplice Koperníkova 2592 \, 41501 Teplice
SUMMARY:US-KKY: Teplice-TJ Baník Most
END:VEVENT
BEGIN:VEVENT
UID:65323537-3066-4430-b636-356566336561
DTSTAMP:20260422T052754Z
DESCRIPTION:28/112 Teplice - TJ Baník Most 3:1 (-15\,20\,22\,16)
DTSTART;TZID=Europe/Berlin:20220327T140000
DTEND;TZID=Europe/Berlin:20220327T160000
LOCATION:ZŠ Koperníkova Teplice Koperníkova 2592 \, 41501 Teplice
SUMMARY:US-KKY: Teplice-TJ Baník Most
END:VEVENT
BEGIN:VEVENT
UID:61656565-3837-4562-a532-373130646161
DTSTAMP:20260422T052754Z
DESCRIPTION:2/6 TJ Baník Most - Chlumec 0:2 (-12\,-20)
DTSTART;TZID=Europe/Berlin:20211016T093000
DTEND;TZID=Europe/Berlin:20211016T113000
LOCATION:Sportovní Hala Most Třída Budovatelů 112/7
SUMMARY:CP-KKY-C: TJ Baník Most-Chlumec
END:VEVENT
BEGIN:VEVENT
UID:65356530-3832-4666-b839-316462396437
DTSTAMP:20260422T052754Z
DESCRIPTION:4/11 TJ Baník Most - Sokol H. Brod 0:2 (-14\,-15)
DTSTART;TZID=Europe/Berlin:20211016T150000
DTEND;TZID=Europe/Berlin:20211016T170000
LOCATION:Sportovní Hala Most Třída Budovatelů 112/7
SUMMARY:CP-KKY-C: TJ Baník Most-Sokol H. Brod
END:VEVENT
BEGIN:VEVENT
UID:65663764-6634-4332-a330-353634393263
DTSTAMP:20260422T052754Z
DESCRIPTION:6/16 TJ Baník Most - SKTO Duchcov 0:2 (-22\,-20)
DTSTART;TZID=Europe/Berlin:20211017T103000
DTEND;TZID=Europe/Berlin:20211017T123000
LOCATION:Sportovní Hala Most Třída Budovatelů 112/7
SUMMARY:CP-KKY-C: TJ Baník Most-SKTO Duchcov
END:VEVENT
BEGIN:VEVENT
UID:65363032-6261-4536-a131-346337333435
DTSTAMP:20260422T052754Z
DESCRIPTION:3/7 Prostějov - TJ Baník Most 2:0 (16\,15)
DTSTART;TZID=Europe/Berlin:20211016T120000
DTEND;TZID=Europe/Berlin:20211016T140000
LOCATION:Národní sportovní centrum\, Za velodromem 4187 Prostějov
SUMMARY:CP-KKY-C: Prostějov-TJ Baník Most
END:VEVENT
BEGIN:VEVENT
UID:65323939-3130-4935-a234-666261396133
DTSTAMP:20260422T052754Z
DESCRIPTION:5/14 Meteor - TJ Baník Most 1:2 (-15\,12\,-12)
DTSTART;TZID=Europe/Berlin:20211016T175000
DTEND;TZID=Europe/Berlin:20211016T195000
LOCATION:ZŠ Žernosecká Žernosecká 3/1597\, Praha 8
SUMMARY:CP-KKY-C: Meteor-TJ Baník Most
END:VEVENT
BEGIN:VEVENT
UID:30343763-3062-4364-b136-623233343036
DTSTAMP:20260422T052754Z
DESCRIPTION:7/21 Znojmo - TJ Baník Most 2:0 (18\,11)
DTSTART;TZID=Europe/Berlin:20211017T113000
DTEND;TZID=Europe/Berlin:20211017T133000
SUMMARY:CP-KKY-C: Znojmo-TJ Baník Most
END:VEVENT
BEGIN:VEVENT
UID:65376362-3131-4464-b136-613337633561
DTSTAMP:20260422T052754Z
DESCRIPTION:1/1 TJ Baník Most - VSK Spartak Děčín 2:X
DTSTART;TZID=Europe/Berlin:20211120T090000
DTEND;TZID=Europe/Berlin:20211120T110000
LOCATION:Sportovní Hala Most Třída Budovatelů 112/7
SUMMARY:CP-KKY-1D: TJ Baník Most-VSK Spartak Děčín
END:VEVENT
BEGIN:VEVENT
UID:65376537-3433-4463-b734-326434363238
DTSTAMP:20260422T052754Z
DESCRIPTION:4/8 TJ Baník Most - Č.Kostelec 2:X
DTSTART;TZID=Europe/Berlin:20211120T120000
DTEND;TZID=Europe/Berlin:20211120T140000
LOCATION:Sportovní Hala Most Třída Budovatelů 112/7
SUMMARY:CP-KKY-1D: TJ Baník Most-Č.Kostelec
END:VEVENT
BEGIN:VEVENT
UID:35663035-3565-4661-a263-333261346536
DTSTAMP:20260422T052754Z
DESCRIPTION:8/15 TJ Baník Most - Meteor 2:1 (-11\,19\,13)
DTSTART;TZID=Europe/Berlin:20211120T110000
DTEND;TZID=Europe/Berlin:20211120T130000
LOCATION:Sportovní Hala Most Třída Budovatelů 112/7
SUMMARY:CP-KKY-1D: TJ Baník Most-Meteor
END:VEVENT
BEGIN:VEVENT
UID:37396631-6266-4438-b439-663636363735
DTSTAMP:20260422T052754Z
DESCRIPTION:11/22 TJ Baník Most - U. Hradiště 0:2 (-15\,-13)
DTSTART;TZID=Europe/Berlin:20211120T120000
DTEND;TZID=Europe/Berlin:20211120T140000
LOCATION:Sportovní Hala Most Třída Budovatelů 112/7
SUMMARY:CP-KKY-1D: TJ Baník Most-U. Hradiště
END:VEVENT
BEGIN:VEVENT
UID:36653337-3135-4365-b333-633665363364
DTSTAMP:20260422T052754Z
DESCRIPTION:5/10 SKTO Duchcov - TJ Baník Most 2:0 (9\,16)
DTSTART;TZID=Europe/Berlin:20211120T130000
DTEND;TZID=Europe/Berlin:20211120T150000
LOCATION:Tělocvična ZŠ J. Pešaty Duchcov ZŠ J. Pešaty 1313/11 Duchcov
SUMMARY:CP-KKY-1D: SKTO Duchcov-TJ Baník Most
END:VEVENT
BEGIN:VEVENT
UID:64393135-3530-4131-a562-323130663837
DTSTAMP:20260422T052754Z
DESCRIPTION:10/19 Č. Třebová 'A' - TJ Baník Most 2:0 (11\,13)
DTSTART;TZID=Europe/Berlin:20211120T190000
DTEND;TZID=Europe/Berlin:20211120T210000
LOCATION:Základní škola Česká Třebová Habrmanova\, Na Skále\, Na Skále 566 
 Česká Třebová
SUMMARY:CP-KKY-1D: Č. Třebová 'A'-TJ Baník Most
END:VEVENT
BEGIN:VEVENT
UID:30633338-6162-4932-b166-626564643536
DTSTAMP:20260422T052754Z
DESCRIPTION:13/26 Mělník - TJ Baník Most 1:2 (-15\,16\,-13)
DTSTART;TZID=Europe/Berlin:20211120T090000
DTEND;TZID=Europe/Berlin:20211120T110000
LOCATION:Tělocvična ZŠ J. Matiegky\, Pražská 2817 Mělník
SUMMARY:CP-KKY-1D: Mělník-TJ Baník Most
END:VEVENT
BEGIN:VEVENT
UID:66356533-3561-4430-a238-336137613535
DTSTAMP:20260422T052754Z
DESCRIPTION:3/6 TJ Baník Most - Č.Kostelec 0:2 (-20\,-17)
DTSTART;TZID=Europe/Berlin:20220219T110000
DTEND;TZID=Europe/Berlin:20220219T130000
LOCATION:Sportovní Hala Most Třída Budovatelů 112/7
SUMMARY:CP-KKY-3D: TJ Baník Most-Č.Kostelec
END:VEVENT
BEGIN:VEVENT
UID:36323037-6462-4430-b439-616463333537
DTSTAMP:20260422T052754Z
DESCRIPTION:6/11 TJ Baník Most - Mikulova B 0:2 (-22\,-17)
DTSTART;TZID=Europe/Berlin:20220219T150000
DTEND;TZID=Europe/Berlin:20220219T170000
LOCATION:Sportovní Hala Most Třída Budovatelů 112/7
SUMMARY:CP-KKY-3D: TJ Baník Most-Mikulova B
END:VEVENT
BEGIN:VEVENT
UID:39333535-3335-4434-a138-343733383436
DTSTAMP:20260422T052754Z
DESCRIPTION:8/16 TJ Baník Most - Rokycany 0:2 (-11\,-23)
DTSTART;TZID=Europe/Berlin:20220219T170000
DTEND;TZID=Europe/Berlin:20220219T190000
LOCATION:Sportovní Hala Most Třída Budovatelů 112/7
SUMMARY:CP-KKY-3D: TJ Baník Most-Rokycany
END:VEVENT
BEGIN:VEVENT
UID:32386430-3635-4331-a133-323966383630
DTSTAMP:20260422T052754Z
DESCRIPTION:1/1 VSK Spartak Děčín - TJ Baník Most 2:1 (-16\,21\,11)
DTSTART;TZID=Europe/Berlin:20220219T090000
DTEND;TZID=Europe/Berlin:20220219T110000
LOCATION:ZŠ Dr .Míroslava Tyrše Vokolkova ul. Děčín 2
SUMMARY:CP-KKY-3D: VSK Spartak Děčín-TJ Baník Most
END:VEVENT
BEGIN:VEVENT
UID:66306535-6638-4263-a464-373662636666
DTSTAMP:20260422T052754Z
DESCRIPTION:10/20 Meteor - TJ Baník Most 2:0 (20\,18)
DTSTART;TZID=Europe/Berlin:20220220T090000
DTEND;TZID=Europe/Berlin:20220220T110000
LOCATION:ZŠ Žernosecká Žernosecká 3/1597\, Praha 8
SUMMARY:CP-KKY-3D: Meteor-TJ Baník Most
END:VEVENT
BEGIN:VEVENT
UID:39353861-6361-4232-b138-336662613763
DTSTAMP:20260422T052754Z
DESCRIPTION:12/23 Č.Třebová B - TJ Baník Most 2:0 (19\,23)
DTSTART;TZID=Europe/Berlin:20220220T110000
DTEND;TZID=Europe/Berlin:20220220T130000
SUMMARY:CP-KKY-3D: Č.Třebová B-TJ Baník Most
END:VEVENT
BEGIN:VEVENT
UID:35633736-6631-4137-a366-363365643534
DTSTAMP:20260422T052754Z
DESCRIPTION:13/26 Mělník - TJ Baník Most 0:2 (-9\,-21)
DTSTART;TZID=Europe/Berlin:20220220T120000
DTEND;TZID=Europe/Berlin:20220220T140000
LOCATION:Tělocvična ZŠ J. Matiegky\, Pražská 2817 Mělník
SUMMARY:CP-KKY-3D: Mělník-TJ Baník Most
END:VEVENT
BEGIN:VEVENT
UID:34663530-6231-4163-b162-363865643737
DTSTAMP:20260422T052754Z
DESCRIPTION:1/2 TJ Baník Most - Chlumec 0:2 (-22\,-15)
DTSTART;TZID=Europe/Berlin:20220319T090000
DTEND;TZID=Europe/Berlin:20220319T110000
LOCATION:Sportovní Hala Most Třída Budovatelů 112/7
SUMMARY:CP-KKY-4D: TJ Baník Most-Chlumec
END:VEVENT
BEGIN:VEVENT
UID:65613937-6461-4966-b661-623963316261
DTSTAMP:20260422T052754Z
DESCRIPTION:4/7 TJ Baník Most - Č.Kostelec 0:2 (-13\,-18)
DTSTART;TZID=Europe/Berlin:20220319T124500
DTEND;TZID=Europe/Berlin:20220319T144500
LOCATION:Sportovní Hala Most Třída Budovatelů 112/7
SUMMARY:CP-KKY-4D: TJ Baník Most-Č.Kostelec
END:VEVENT
BEGIN:VEVENT
UID:66383434-6161-4865-a339-656263626239
DTSTAMP:20260422T052754Z
DESCRIPTION:2/3 SKTO Duchcov - TJ Baník Most 2:0 (16\,19)
DTSTART;TZID=Europe/Berlin:20220319T101500
DTEND;TZID=Europe/Berlin:20220319T121500
LOCATION:Tělocvična ZŠ J. Pešaty Duchcov ZŠ J. Pešaty 1313/11 Duchcov
SUMMARY:CP-KKY-4D: SKTO Duchcov-TJ Baník Most
END:VEVENT
BEGIN:VEVENT
UID:65636435-3539-4662-a637-613039333530
DTSTAMP:20260422T052754Z
DESCRIPTION:5/10 Mikulova B - TJ Baník Most 2:0 (20\,29)
DTSTART;TZID=Europe/Berlin:20220319T140000
DTEND;TZID=Europe/Berlin:20220319T160000
LOCATION:ZŠ Mikulova Mikulova 1594
SUMMARY:CP-KKY-4D: Mikulova B-TJ Baník Most
END:VEVENT
BEGIN:VEVENT
UID:38643762-6134-4738-a636-353630386530
DTSTAMP:20260422T052754Z
DESCRIPTION:6/16 Meteor - TJ Baník Most X:2
DTSTART;TZID=Europe/Berlin:20220319T153000
DTEND;TZID=Europe/Berlin:20220319T173000
LOCATION:ZŠ Žernosecká Žernosecká 3/1597\, Praha 8
SUMMARY:CP-KKY-4D: Meteor-TJ Baník Most
END:VEVENT
BEGIN:VEVENT
UID:65613738-3664-4237-a464-393364326364
DTSTAMP:20260422T052754Z
DESCRIPTION:6/22 VSK Spartak Děčín - TJ Baník Most X:2
DTSTART;TZID=Europe/Berlin:20220319T153000
DTEND;TZID=Europe/Berlin:20220319T173000
LOCATION:ZŠ Dr .Míroslava Tyrše Vokolkova ul. Děčín 2
SUMMARY:CP-KKY-4D: VSK Spartak Děčín-TJ Baník Most
END:VEVENT
BEGIN:VEVENT
UID:66623233-3761-4361-b461-396665353939
DTSTAMP:20260422T052754Z
DESCRIPTION:6/28 Mělník - TJ Baník Most X:2
DTSTART;TZID=Europe/Berlin:20220319T153000
DTEND;TZID=Europe/Berlin:20220319T173000
LOCATION:Tělocvična ZŠ J. Matiegky\, Pražská 2817 Mělník
SUMMARY:CP-KKY-4D: Mělník-TJ Baník Most
END:VEVENT
END:VCALENDAR
