BEGIN:VCALENDAR
VERSION:2.0
PRODID:-//VTK Čížkovice, z.s.77104//NONSGML kigkonsult.se iCalcreator 2.41.80//
CALSCALE:GREGORIAN
UID:34316437-3262-4438-b830-616661333234
BEGIN:VEVENT
UID:30383138-3434-4238-b830-633964373336
DTSTAMP:20260423T070849Z
DESCRIPTION:3/8 VTK Čížkovice\, z.s. - Volejbal Ústí n. L. 0:3 (-19\,-18\,-
 17)
DTSTART;TZID=Europe/Berlin:20211023T100000
DTEND;TZID=Europe/Berlin:20211023T120000
LOCATION:Hala při ZŠ Benešova 65\, 41112 Čížkovice
SUMMARY:US-JKY: VTK Čížkovice\, z.s.-Volejbal Ústí n. L.
END:VEVENT
BEGIN:VEVENT
UID:66633961-3162-4137-b532-366461303064
DTSTAMP:20260423T070849Z
DESCRIPTION:4/11 VTK Čížkovice\, z.s. - Volejbal Ústí n. L. 0:3 (-7\,-12\,-
 19)
DTSTART;TZID=Europe/Berlin:20211023T140000
DTEND;TZID=Europe/Berlin:20211023T160000
LOCATION:Hala při ZŠ Benešova 65\, 41112 Čížkovice
SUMMARY:US-JKY: VTK Čížkovice\, z.s.-Volejbal Ústí n. L.
END:VEVENT
BEGIN:VEVENT
UID:39313966-3466-4938-b962-646338616338
DTSTAMP:20260423T070849Z
DESCRIPTION:9/27 VTK Čížkovice\, z.s. - VSK Spartak Děčín 2:3 (17\,-11\,19\
 ,-15\,-12)
DTSTART;TZID=Europe/Berlin:20220402T100000
DTEND;TZID=Europe/Berlin:20220402T120000
LOCATION:Hala při ZŠ Benešova 65\, 41112 Čížkovice
SUMMARY:US-JKY: VTK Čížkovice\, z.s.-VSK Spartak Děčín
END:VEVENT
BEGIN:VEVENT
UID:36636639-3864-4633-b865-633430616563
DTSTAMP:20260423T070849Z
DESCRIPTION:10/30 VTK Čížkovice\, z.s. - VSK Spartak Děčín 1:3 (13\,-22\,-1
 9\,-10)
DTSTART;TZID=Europe/Berlin:20220402T140000
DTEND;TZID=Europe/Berlin:20220402T160000
LOCATION:Hala při ZŠ Benešova 65\, 41112 Čížkovice
SUMMARY:US-JKY: VTK Čížkovice\, z.s.-VSK Spartak Děčín
END:VEVENT
BEGIN:VEVENT
UID:39613236-6134-4839-b934-323730303533
DTSTAMP:20260423T070849Z
DESCRIPTION:15/45 VTK Čížkovice\, z.s. - Volejbal Ústí nad Labem 'B' 3:X
DTSTART;TZID=Europe/Berlin:20211106T100000
DTEND;TZID=Europe/Berlin:20211106T120000
LOCATION:Hala při ZŠ Benešova 65\, 41112 Čížkovice
SUMMARY:US-JKY: VTK Čížkovice\, z.s.-Volejbal Ústí nad Labem 'B'
END:VEVENT
BEGIN:VEVENT
UID:32646665-3764-4038-b230-616263653530
DTSTAMP:20260423T070849Z
DESCRIPTION:16/48 VTK Čížkovice\, z.s. - Volejbal Ústí nad Labem 'B' 3:X
DTSTART;TZID=Europe/Berlin:20211106T140000
DTEND;TZID=Europe/Berlin:20211106T160000
LOCATION:Hala při ZŠ Benešova 65\, 41112 Čížkovice
SUMMARY:US-JKY: VTK Čížkovice\, z.s.-Volejbal Ústí nad Labem 'B'
END:VEVENT
BEGIN:VEVENT
UID:30646133-3266-4338-b934-336635623930
DTSTAMP:20260423T070849Z
DESCRIPTION:5/15 Volejbal Ústí nad Labem 'B' - VTK Čížkovice\, z.s. 3:1 (21
 \,-22\,20\,20)
DTSTART;TZID=Europe/Berlin:20220212T100000
DTEND;TZID=Europe/Berlin:20220212T120000
LOCATION:Gymnázium a SOŠ Dr. Václava Šmejkala Stará 99\, 400 11 Ústí nad La
 bem-Severní Terasa
SUMMARY:US-JKY: Volejbal Ústí nad Labem 'B'-VTK Čížkovice\, z.s.
END:VEVENT
BEGIN:VEVENT
UID:39333231-3262-4132-b233-666364383163
DTSTAMP:20260423T070849Z
DESCRIPTION:6/18 Volejbal Ústí nad Labem 'B' - VTK Čížkovice\, z.s. 1:3 (-1
 9\,-22\,24\,-19)
DTSTART;TZID=Europe/Berlin:20220212T140000
DTEND;TZID=Europe/Berlin:20220212T160000
LOCATION:Gymnázium a SOŠ Dr. Václava Šmejkala Stará 99\, 400 11 Ústí nad La
 bem-Severní Terasa
SUMMARY:US-JKY: Volejbal Ústí nad Labem 'B'-VTK Čížkovice\, z.s.
END:VEVENT
BEGIN:VEVENT
UID:64366431-3938-4366-b932-373935306235
DTSTAMP:20260423T070849Z
DESCRIPTION:13/38 Volejbal Ústí n. L. - VTK Čížkovice\, z.s. 3:0 (11\,14\,7
 )\nHala při ZŠ Benešova 65\, Čížkovice
DTSTART;TZID=Europe/Berlin:20220305T100000
DTEND;TZID=Europe/Berlin:20220305T120000
LOCATION:Gymnázium a SOŠ Dr. Václava Šmejkala Stará 99\, 400 11 Ústí nad La
 bem-Severní Terasa
SUMMARY:US-JKY: Volejbal Ústí n. L.-VTK Čížkovice\, z.s.
END:VEVENT
BEGIN:VEVENT
UID:64303330-6266-4536-b232-386332666535
DTSTAMP:20260423T070849Z
DESCRIPTION:14/41 Volejbal Ústí n. L. - VTK Čížkovice\, z.s. 3:0 (14\,17\,2
 2)\nHala při ZŠ Benešova 65\, Čížkovice
DTSTART;TZID=Europe/Berlin:20220305T140000
DTEND;TZID=Europe/Berlin:20220305T160000
LOCATION:Gymnázium a SOŠ Dr. Václava Šmejkala Stará 99\, 400 11 Ústí nad La
 bem-Severní Terasa
SUMMARY:US-JKY: Volejbal Ústí n. L.-VTK Čížkovice\, z.s.
END:VEVENT
BEGIN:VEVENT
UID:33636139-3433-4938-a235-326266323864
DTSTAMP:20260423T070849Z
DESCRIPTION:19/57 VSK Spartak Děčín - VTK Čížkovice\, z.s. 3:0 (22\,24\,17)
DTSTART;TZID=Europe/Berlin:20220326T100000
DTEND;TZID=Europe/Berlin:20220326T120000
LOCATION:ZŠ Dr .Míroslava Tyrše Vokolkova ul. Děčín 2
SUMMARY:US-JKY: VSK Spartak Děčín-VTK Čížkovice\, z.s.
END:VEVENT
BEGIN:VEVENT
UID:30616237-3036-4465-a331-633536663430
DTSTAMP:20260423T070849Z
DESCRIPTION:20/60 VSK Spartak Děčín - VTK Čížkovice\, z.s. 3:0 (19\,22\,14)
DTSTART;TZID=Europe/Berlin:20220326T140000
DTEND;TZID=Europe/Berlin:20220326T160000
LOCATION:ZŠ Dr .Míroslava Tyrše Vokolkova ul. Děčín 2
SUMMARY:US-JKY: VSK Spartak Děčín-VTK Čížkovice\, z.s.
END:VEVENT
END:VCALENDAR
