BEGIN:VCALENDAR
VERSION:2.0
PRODID:-//TJ VEROS Chomutov z.s.77112//NONSGML kigkonsult.se iCalcreator 2.41.80//
CALSCALE:GREGORIAN
UID:32373034-3666-4564-b662-323231383265
BEGIN:VEVENT
UID:64373239-3932-4564-a164-353634373963
DTSTAMP:20260421T215113Z
DESCRIPTION:1/3 TJ VEROS Chomutov z.s. - Jirkov 0:2 (-7\,-11)
DTSTART;TZID=Europe/Berlin:20211002T090000
DTEND;TZID=Europe/Berlin:20211002T110000
LOCATION:Sportovní hala MG a ZŠ Jirkov\, Krušnohorská 1675 Jirkov
SUMMARY:US-ZKY-KVAL-A: TJ VEROS Chomutov z.s.-Jirkov
END:VEVENT
BEGIN:VEVENT
UID:63396232-3734-4161-a435-386531313032
DTSTAMP:20260421T215113Z
DESCRIPTION:1/8 TJ VEROS Chomutov z.s. - VTK Čížkovice\, z.s. 0:2 (-8\,-27)
DTSTART;TZID=Europe/Berlin:20211002T090000
DTEND;TZID=Europe/Berlin:20211002T110000
LOCATION:Sportovní hala MG a ZŠ Jirkov\, Krušnohorská 1675 Jirkov
SUMMARY:US-ZKY-KVAL-A: TJ VEROS Chomutov z.s.-VTK Čížkovice\, z.s.
END:VEVENT
BEGIN:VEVENT
UID:64636439-3630-4032-b135-396236363131
DTSTAMP:20260421T215113Z
DESCRIPTION:1/5 VK Litvínov\, z.s. - TJ VEROS Chomutov z.s. 2:0 (18\,24)
DTSTART;TZID=Europe/Berlin:20211002T090000
DTEND;TZID=Europe/Berlin:20211002T110000
LOCATION:Sportovní hala MG a ZŠ Jirkov\, Krušnohorská 1675 Jirkov
SUMMARY:US-ZKY-KVAL-A: VK Litvínov\, z.s.-TJ VEROS Chomutov z.s.
END:VEVENT
BEGIN:VEVENT
UID:63643531-3562-4065-b430-366139336533
DTSTAMP:20260421T215113Z
DESCRIPTION:1/10 SKTO Duchcov z.s. - TJ VEROS Chomutov z.s. 0:2 (-10\,-16)
DTSTART;TZID=Europe/Berlin:20211002T090000
DTEND;TZID=Europe/Berlin:20211002T110000
LOCATION:Sportovní hala MG a ZŠ Jirkov\, Krušnohorská 1675 Jirkov
SUMMARY:US-ZKY-KVAL-A: SKTO Duchcov z.s.-TJ VEROS Chomutov z.s.
END:VEVENT
BEGIN:VEVENT
UID:66313162-3832-4333-a637-346437643963
DTSTAMP:20260421T215113Z
DESCRIPTION:2/12 TJ VEROS Chomutov z.s. - SK VOLEJBAL Ústí nad Labem 0:2 (-
 9\,-15)
DTSTART;TZID=Europe/Berlin:20211106T090000
DTEND;TZID=Europe/Berlin:20211106T110000
LOCATION:ZŠ Akademika Heyrovského Základní škola Chomutov\, Akademika Heyro
 vského 4539
SUMMARY:US-ZKY-1: TJ VEROS Chomutov z.s.-SK VOLEJBAL Ústí nad Labem
END:VEVENT
BEGIN:VEVENT
UID:38323333-6238-4736-b131-663936663331
DTSTAMP:20260421T215113Z
DESCRIPTION:2/8 Volejbal Ústí/L. - TJ VEROS Chomutov z.s. 2:0 (17\,13)
DTSTART;TZID=Europe/Berlin:20211106T090000
DTEND;TZID=Europe/Berlin:20211106T110000
LOCATION:Gymnázium a SOŠ Dr. Václava Šmejkala Stará 99\, 400 11 Ústí nad La
 bem-Severní Terasa
SUMMARY:US-ZKY-1: Volejbal Ústí/L.-TJ VEROS Chomutov z.s.
END:VEVENT
BEGIN:VEVENT
UID:35353965-3336-4130-b331-303163663232
DTSTAMP:20260421T215113Z
DESCRIPTION:2/9 VTK Čížkovice\, z.s. - TJ VEROS Chomutov z.s. 2:0 (14\,13)
DTSTART;TZID=Europe/Berlin:20211106T090000
DTEND;TZID=Europe/Berlin:20211106T110000
LOCATION:Hala při ZŠ Benešova 65\, 41112 Čížkovice
SUMMARY:US-ZKY-1: VTK Čížkovice\, z.s.-TJ VEROS Chomutov z.s.
END:VEVENT
BEGIN:VEVENT
UID:37306161-3564-4334-b733-303265653436
DTSTAMP:20260421T215113Z
DESCRIPTION:3/15 TJ VEROS Chomutov z.s. - SKTO Duchcov z.s. 2:0 (20\,22)
DTSTART;TZID=Europe/Berlin:20211204T090100
DTEND;TZID=Europe/Berlin:20211204T110100
LOCATION:ZŠ Akademika Heyrovského Základní škola Chomutov\, Akademika Heyro
 vského 4539
SUMMARY:US-ZKY-2: TJ VEROS Chomutov z.s.-SKTO Duchcov z.s.
END:VEVENT
BEGIN:VEVENT
UID:65623038-6364-4334-b161-343464633137
DTSTAMP:20260421T215113Z
DESCRIPTION:3/14 Volejbal Ústí nad Labem 'B' - TJ VEROS Chomutov z.s. 0:2 (
 -20\,-3)
DTSTART;TZID=Europe/Berlin:20211204T090100
DTEND;TZID=Europe/Berlin:20211204T110100
LOCATION:Gymnázium a SOŠ Dr. Václava Šmejkala Stará 99\, 400 11 Ústí nad La
 bem-Severní Terasa
SUMMARY:US-ZKY-2: Volejbal Ústí nad Labem 'B'-TJ VEROS Chomutov z.s.
END:VEVENT
BEGIN:VEVENT
UID:39326165-6333-4530-a136-633237633032
DTSTAMP:20260421T215113Z
DESCRIPTION:2/9 TJ VEROS Chomutov z.s. - VK Litvínov\, z.s. 2:X
DTSTART;TZID=Europe/Berlin:20211218T090000
DTEND;TZID=Europe/Berlin:20211218T110000
LOCATION:ZŠ Akademika Heyrovského Základní škola Chomutov\, Akademika Heyro
 vského 4539
SUMMARY:US-ZKY-3: TJ VEROS Chomutov z.s.-VK Litvínov\, z.s.
END:VEVENT
BEGIN:VEVENT
UID:39383237-6234-4965-b864-306464313236
DTSTAMP:20260421T215113Z
DESCRIPTION:2/7 SKV Ústí n. L. B - TJ VEROS Chomutov z.s. 2:0 (21\,13)
DTSTART;TZID=Europe/Berlin:20211218T090000
DTEND;TZID=Europe/Berlin:20211218T110000
LOCATION:ZŠ Stříbrnická Stříbrnická 3031\, Ústí nad Labem 40011
SUMMARY:US-ZKY-3: SKV Ústí n. L. B-TJ VEROS Chomutov z.s.
END:VEVENT
BEGIN:VEVENT
UID:31663065-3635-4661-b039-343034313730
DTSTAMP:20260421T215113Z
DESCRIPTION:2/11 Volejbal Ústí/L. - TJ VEROS Chomutov z.s. 2:0 (14\,22)
DTSTART;TZID=Europe/Berlin:20211218T090000
DTEND;TZID=Europe/Berlin:20211218T110000
LOCATION:Gymnázium a SOŠ Dr. Václava Šmejkala Stará 99\, 400 11 Ústí nad La
 bem-Severní Terasa
SUMMARY:US-ZKY-3: Volejbal Ústí/L.-TJ VEROS Chomutov z.s.
END:VEVENT
BEGIN:VEVENT
UID:36386432-6537-4264-a364-653337386636
DTSTAMP:20260421T215113Z
DESCRIPTION:2/9 TJ VEROS Chomutov z.s. - Volejbal Ústí/L. X:2
DTSTART;TZID=Europe/Berlin:20220115T090000
DTEND;TZID=Europe/Berlin:20220115T110000
LOCATION:ZŠ Akademika Heyrovského Základní škola Chomutov\, Akademika Heyro
 vského 4539
SUMMARY:US-ZKY-4: TJ VEROS Chomutov z.s.-Volejbal Ústí/L.
END:VEVENT
BEGIN:VEVENT
UID:61376237-6136-4563-b565-393232643134
DTSTAMP:20260421T215113Z
DESCRIPTION:2/7 VK Šanov Teplice\, z.s. - TJ VEROS Chomutov z.s. 2:X
DTSTART;TZID=Europe/Berlin:20220115T090000
DTEND;TZID=Europe/Berlin:20220115T110000
LOCATION:ZŠ Koperníkova Teplice Koperníkova 2592 \, 41501 Teplice
SUMMARY:US-ZKY-4: VK Šanov Teplice\, z.s.-TJ VEROS Chomutov z.s.
END:VEVENT
BEGIN:VEVENT
UID:66386666-3135-4736-a138-626237636266
DTSTAMP:20260421T215113Z
DESCRIPTION:2/11 VTK Čížkovice\, z.s. - TJ VEROS Chomutov z.s. 2:X
DTSTART;TZID=Europe/Berlin:20220115T090000
DTEND;TZID=Europe/Berlin:20220115T110000
LOCATION:Hala při ZŠ Benešova 65\, 41112 Čížkovice
SUMMARY:US-ZKY-4: VTK Čížkovice\, z.s.-TJ VEROS Chomutov z.s.
END:VEVENT
BEGIN:VEVENT
UID:66373962-6564-4734-a532-666632643236
DTSTAMP:20260421T215113Z
DESCRIPTION:3/13 TJ VEROS Chomutov z.s. - Volejbal Ústí nad Labem 'B' 2:0 (
 4\,5)
DTSTART;TZID=Europe/Berlin:20220129T090100
DTEND;TZID=Europe/Berlin:20220129T110100
LOCATION:ZŠ Akademika Heyrovského Základní škola Chomutov\, Akademika Heyro
 vského 4539
SUMMARY:US-ZKY-5: TJ VEROS Chomutov z.s.-Volejbal Ústí nad Labem 'B'
END:VEVENT
BEGIN:VEVENT
UID:33656136-6365-4037-a662-316633633238
DTSTAMP:20260421T215113Z
DESCRIPTION:3/15 VK Litvínov\, z.s. - TJ VEROS Chomutov z.s. 2:0 (16\,20)
DTSTART;TZID=Europe/Berlin:20220129T090100
DTEND;TZID=Europe/Berlin:20220129T110100
LOCATION:Sportovní hala SPORTAS U Koldomu 2049\, 436 01 Litvínov
SUMMARY:US-ZKY-5: VK Litvínov\, z.s.-TJ VEROS Chomutov z.s.
END:VEVENT
BEGIN:VEVENT
UID:31623837-3966-4435-a332-633965633833
DTSTAMP:20260421T215113Z
DESCRIPTION:3/13 TJ VEROS Chomutov z.s. - Volejbal Ústí nad Labem 'B' 2:0 (
 9\,16)
DTSTART;TZID=Europe/Berlin:20220326T090100
DTEND;TZID=Europe/Berlin:20220326T110100
LOCATION:ZŠ Akademika Heyrovského Základní škola Chomutov\, Akademika Heyro
 vského 4539
SUMMARY:US-ZKY-6: TJ VEROS Chomutov z.s.-Volejbal Ústí nad Labem 'B'
END:VEVENT
BEGIN:VEVENT
UID:62393966-6465-4136-a566-383065316535
DTSTAMP:20260421T215113Z
DESCRIPTION:3/15 VTK Čížkovice\, z.s. - TJ VEROS Chomutov z.s. 2:0 (23\,14)
DTSTART;TZID=Europe/Berlin:20220326T090100
DTEND;TZID=Europe/Berlin:20220326T110100
LOCATION:Hala při ZŠ Benešova 65\, 41112 Čížkovice
SUMMARY:US-ZKY-6: VTK Čížkovice\, z.s.-TJ VEROS Chomutov z.s.
END:VEVENT
END:VCALENDAR
