BEGIN:VCALENDAR
VERSION:2.0
PRODID:-//SK Dansport Praha A77174//NONSGML kigkonsult.se iCalcreator 2.41.80//
CALSCALE:GREGORIAN
UID:66373965-3137-4264-a237-313439373935
BEGIN:VEVENT
UID:30653935-6335-4362-a636-366430323830
DTSTAMP:20260426T034101Z
DESCRIPTION:1/2 Dansport A - Modřany C 3:1 (22\,19\,-21\,24)
DTSTART;TZID=Europe/Berlin:20211007T200000
DTEND;TZID=Europe/Berlin:20211007T220000
LOCATION:Sportovní hala Gymnázia Jana Keplera\, Parléřova 118 Praha - Hradč
 any
SUMMARY:PP-M: Dansport A-Modřany C
END:VEVENT
BEGIN:VEVENT
UID:64383236-6235-4430-a434-303262643665
DTSTAMP:20260426T034101Z
DESCRIPTION:3/13 Dansport A - Hostivař 2:3 (22\,-27\,21\,-18\,-13)
DTSTART;TZID=Europe/Berlin:20211021T200000
DTEND;TZID=Europe/Berlin:20211021T220000
LOCATION:Sportovní hala Gymnázia Jana Keplera\, Parléřova 118 Praha - Hradč
 any
SUMMARY:PP-M: Dansport A-Hostivař
END:VEVENT
BEGIN:VEVENT
UID:64646133-6335-4636-a439-626166333930
DTSTAMP:20260426T034101Z
DESCRIPTION:4/24 Dansport A - Meteor F 3:0 (12\,15\,20)\nodloženo!NT!
DTSTART;TZID=Europe/Berlin:20220324T200000
DTEND;TZID=Europe/Berlin:20220324T220000
LOCATION:Sportovní hala Gymnázia Jana Keplera\, Parléřova 118 Praha - Hradč
 any
SUMMARY:PP-M: Dansport A-Meteor F
END:VEVENT
BEGIN:VEVENT
UID:37356435-3937-4632-a464-386435616234
DTSTAMP:20260426T034101Z
DESCRIPTION:6/35 Dansport A - Modřany B 1:3 (-20\,-16\,19\,-19)
DTSTART;TZID=Europe/Berlin:20211111T200000
DTEND;TZID=Europe/Berlin:20211111T220000
LOCATION:Sportovní hala Gymnázia Jana Keplera\, Parléřova 118 Praha - Hradč
 any
SUMMARY:PP-M: Dansport A-Modřany B
END:VEVENT
BEGIN:VEVENT
UID:34303731-3838-4638-a235-343064666361
DTSTAMP:20260426T034101Z
DESCRIPTION:8/46 Dansport A - Dansport B 3:0 (16\,19\,16)
DTSTART;TZID=Europe/Berlin:20211125T200000
DTEND;TZID=Europe/Berlin:20211125T220000
LOCATION:Sportovní hala Gymnázia Jana Keplera\, Parléřova 118 Praha - Hradč
 any
SUMMARY:PP-M: Dansport A-Dansport B
END:VEVENT
BEGIN:VEVENT
UID:32663131-6235-4163-b831-623030323332
DTSTAMP:20260426T034101Z
DESCRIPTION:10/57 Dansport A - Meteor G 3:0 (17\,19\,22)
DTSTART;TZID=Europe/Berlin:20211209T200000
DTEND;TZID=Europe/Berlin:20211209T220000
LOCATION:Sportovní hala Gymnázia Jana Keplera\, Parléřova 118 Praha - Hradč
 any
SUMMARY:PP-M: Dansport A-Meteor G
END:VEVENT
BEGIN:VEVENT
UID:35613335-6532-4234-b532-346533666337
DTSTAMP:20260426T034101Z
DESCRIPTION:13/78 Dansport A - Prosek B 3:0 (10\,18\,12)
DTSTART;TZID=Europe/Berlin:20220113T200000
DTEND;TZID=Europe/Berlin:20220113T220000
LOCATION:Sportovní hala Gymnázia Jana Keplera\, Parléřova 118 Praha - Hradč
 any
SUMMARY:PP-M: Dansport A-Prosek B
END:VEVENT
BEGIN:VEVENT
UID:33303735-3261-4632-b362-353164623162
DTSTAMP:20260426T034101Z
DESCRIPTION:16/92 Dansport A - Španielka 0:3 (-24\,-19\,-24)
DTSTART;TZID=Europe/Berlin:20220203T200000
DTEND;TZID=Europe/Berlin:20220203T220000
LOCATION:Sportovní hala Gymnázia Jana Keplera\, Parléřova 118 Praha - Hradč
 any
SUMMARY:PP-M: Dansport A-Španielka
END:VEVENT
BEGIN:VEVENT
UID:32376638-3839-4539-a633-373734616134
DTSTAMP:20260426T034101Z
DESCRIPTION:18/105 Dansport A - TJ Kyje 3:0 (19\,22\,20)
DTSTART;TZID=Europe/Berlin:20220217T200000
DTEND;TZID=Europe/Berlin:20220217T220000
LOCATION:Sportovní hala Gymnázia Jana Keplera\, Parléřova 118 Praha - Hradč
 any
SUMMARY:PP-M: Dansport A-TJ Kyje
END:VEVENT
BEGIN:VEVENT
UID:64316630-6661-4639-a131-393065373936
DTSTAMP:20260426T034101Z
DESCRIPTION:20/118 Dansport A - ČVUT 2:3 (-24\,16\,-23\,20\,-11)
DTSTART;TZID=Europe/Berlin:20220303T200000
DTEND;TZID=Europe/Berlin:20220303T220000
LOCATION:Sportovní hala Gymnázia Jana Keplera\, Parléřova 118 Praha - Hradč
 any
SUMMARY:PP-M: Dansport A-ČVUT
END:VEVENT
BEGIN:VEVENT
UID:31373233-3734-4832-a338-636636613136
DTSTAMP:20260426T034101Z
DESCRIPTION:22/131 Dansport A - Michle 3:0 (17\,12\,11)\nPŘEDEHRÁVKA! NT!
DTSTART;TZID=Europe/Berlin:20220412T183000
DTEND;TZID=Europe/Berlin:20220412T203000
LOCATION:Sportovní hala Gymnázia Jana Keplera\, Parléřova 118 Praha - Hradč
 any
SUMMARY:PP-M: Dansport A-Michle
END:VEVENT
BEGIN:VEVENT
UID:32613139-3339-4465-a432-633164643432
DTSTAMP:20260426T034101Z
DESCRIPTION:2/12 Prosek B - Dansport A 0:3 (-16\,-27\,-19)
DTSTART;TZID=Europe/Berlin:20211013T181000
DTEND;TZID=Europe/Berlin:20211013T201000
LOCATION:SH SK Prosek\, Lovosická 559 Praha - Letňany
SUMMARY:PP-M: Prosek B-Dansport A
END:VEVENT
BEGIN:VEVENT
UID:37376333-3237-4731-a464-623231623962
DTSTAMP:20260426T034101Z
DESCRIPTION:5/26 Španielka - Dansport A 3:1 (13\,-26\,20\,22)
DTSTART;TZID=Europe/Berlin:20211101T193000
DTEND;TZID=Europe/Berlin:20211101T213000
LOCATION:SH TJ Ruzyně\, Ztracená 1132 Praha - Ruzyně
SUMMARY:PP-M: Španielka-Dansport A
END:VEVENT
BEGIN:VEVENT
UID:31393730-3961-4232-b338-663266383966
DTSTAMP:20260426T034101Z
DESCRIPTION:7/39 TJ Kyje - Dansport A 2:3 (-15\,20\,27\,-13\,-12)
DTSTART;TZID=Europe/Berlin:20211115T203000
DTEND;TZID=Europe/Berlin:20211115T223000
LOCATION:TJ Kyje\, Hamerská 1307 Praha - Kyje
SUMMARY:PP-M: TJ Kyje-Dansport A
END:VEVENT
BEGIN:VEVENT
UID:32336461-6464-4332-b335-643038313862
DTSTAMP:20260426T034101Z
DESCRIPTION:9/52 ČVUT - Dansport A 1:3 (22\,-20\,-18\,-18)
DTSTART;TZID=Europe/Berlin:20211130T203000
DTEND;TZID=Europe/Berlin:20211130T223000
LOCATION:Sportovní centrum ČVUT Pod Juliskou\, Pod Juliskou 1805 Praha - De
 jvice
SUMMARY:PP-M: ČVUT-Dansport A
END:VEVENT
BEGIN:VEVENT
UID:61393638-3637-4438-b137-303461626535
DTSTAMP:20260426T034101Z
DESCRIPTION:11/65 Michle - Dansport A 0:3 (-17\,-23\,-22)
DTSTART;TZID=Europe/Berlin:20211216T203000
DTEND;TZID=Europe/Berlin:20211216T223000
LOCATION:TJ Sokol Michle\, Pod Stárkou 36 Praha - Michle
SUMMARY:PP-M: Michle-Dansport A
END:VEVENT
BEGIN:VEVENT
UID:31656437-6532-4331-a263-653565616634
DTSTAMP:20260426T034101Z
DESCRIPTION:12/68 Modřany C - Dansport A 1:3 (22\,-22\,-21\,-26)
DTSTART;TZID=Europe/Berlin:20220318T193000
DTEND;TZID=Europe/Berlin:20220318T213000
LOCATION:TJ Sokol Modřany\, K Vltavě 410 Praha - Modřany
SUMMARY:PP-M: Modřany C-Dansport A
END:VEVENT
BEGIN:VEVENT
UID:63633265-3962-4932-a230-623863363464
DTSTAMP:20260426T034101Z
DESCRIPTION:14/79 Hostivař - Dansport A 3:0 (19\,22\,19)
DTSTART;TZID=Europe/Berlin:20220117T202000
DTEND;TZID=Europe/Berlin:20220117T222000
LOCATION:Sportovní hala Na Třebešíně\, Na Třebešíně 3215 Praha - Strašnice
SUMMARY:PP-M: Hostivař-Dansport A
END:VEVENT
BEGIN:VEVENT
UID:39326161-3333-4166-b637-316661353438
DTSTAMP:20260426T034101Z
DESCRIPTION:15/90 Meteor F - Dansport A 3:2 (-23\,-23\,13\,14\,12)
DTSTART;TZID=Europe/Berlin:20220126T202000
DTEND;TZID=Europe/Berlin:20220126T222000
LOCATION:ZŠ Žernosecká\, Žernosecká 1597 Praha - Kobylisy
SUMMARY:PP-M: Meteor F-Dansport A
END:VEVENT
BEGIN:VEVENT
UID:33333335-3464-4563-a165-626631613934
DTSTAMP:20260426T034101Z
DESCRIPTION:17/101 Modřany B - Dansport A 3:1 (24\,-23\,17\,24)
DTSTART;TZID=Europe/Berlin:20220211T193000
DTEND;TZID=Europe/Berlin:20220211T213000
LOCATION:TJ Sokol Modřany\, K Vltavě 410 Praha - Modřany
SUMMARY:PP-M: Modřany B-Dansport A
END:VEVENT
BEGIN:VEVENT
UID:36326538-6539-4538-b231-646530616663
DTSTAMP:20260426T034101Z
DESCRIPTION:19/112 Dansport B - Dansport A 0:3 (-11\,-16\,-19)
DTSTART;TZID=Europe/Berlin:20220224T200000
DTEND;TZID=Europe/Berlin:20220224T220000
LOCATION:Sportovní hala Gymnázia Jana Keplera\, Parléřova 118 Praha - Hradč
 any
SUMMARY:PP-M: Dansport B-Dansport A
END:VEVENT
BEGIN:VEVENT
UID:63336664-3134-4464-a235-646138333531
DTSTAMP:20260426T034101Z
DESCRIPTION:21/123 Meteor G - Dansport A 1:3 (-23\,-19\,18\,-16)
DTSTART;TZID=Europe/Berlin:20220406T203000
DTEND;TZID=Europe/Berlin:20220406T223000
LOCATION:ZŠ Žernosecká\, Žernosecká 1597 Praha - Kobylisy
SUMMARY:PP-M: Meteor G-Dansport A
END:VEVENT
END:VCALENDAR
