BEGIN:VCALENDAR
VERSION:2.0
PRODID:-//TJ ABC Braník, z.s.77205//NONSGML kigkonsult.se iCalcreator 2.41.80//
CALSCALE:GREGORIAN
UID:39306231-3237-4561-b931-303431363236
BEGIN:VEVENT
UID:62316238-3964-4935-b262-373033356132
DTSTAMP:20260423T150611Z
DESCRIPTION:1/1 Braník A - Modřany 2:3 (-15\,17\,16\,-20\,-6)
DTSTART;TZID=Europe/Berlin:20211006T182000
DTEND;TZID=Europe/Berlin:20211006T202000
LOCATION:Sokolovna Braník\, Branická 275 Praha - Braník
SUMMARY:PP-Z: Braník A-Modřany
END:VEVENT
BEGIN:VEVENT
UID:38373030-6532-4336-a439-626163353163
DTSTAMP:20260423T150611Z
DESCRIPTION:2/10 Braník A - Meteor A 0:3 (-19\,-15\,-21)
DTSTART;TZID=Europe/Berlin:20211013T182000
DTEND;TZID=Europe/Berlin:20211013T202000
LOCATION:Sokolovna Braník\, Branická 275 Praha - Braník
SUMMARY:PP-Z: Braník A-Meteor A
END:VEVENT
BEGIN:VEVENT
UID:32313939-3366-4465-a565-316230336163
DTSTAMP:20260423T150611Z
DESCRIPTION:4/19 Braník A - JM Chodov 3:1 (-24\,22\,21\,18)\nodloženo!NT!
DTSTART;TZID=Europe/Berlin:20220302T182000
DTEND;TZID=Europe/Berlin:20220302T202000
LOCATION:Sokolovna Braník\, Branická 275 Praha - Braník
SUMMARY:PP-Z: Braník A-JM Chodov
END:VEVENT
BEGIN:VEVENT
UID:31636161-6133-4630-a165-646635376630
DTSTAMP:20260423T150611Z
DESCRIPTION:6/28 Braník A - MFF A 2:3 (23\,22\,-11\,-12\,-11)\nodloženo!NT!
DTSTART;TZID=Europe/Berlin:20211201T182000
DTEND;TZID=Europe/Berlin:20211201T202000
LOCATION:Sokolovna Braník\, Branická 275 Praha - Braník
SUMMARY:PP-Z: Braník A-MFF A
END:VEVENT
BEGIN:VEVENT
UID:66326637-6132-4535-a139-376631336264
DTSTAMP:20260423T150611Z
DESCRIPTION:8/37 Braník A - Vršovice 3:2 (22\,23\,-23\,-15\,11)
DTSTART;TZID=Europe/Berlin:20211124T182000
DTEND;TZID=Europe/Berlin:20211124T202000
LOCATION:Sokolovna Braník\, Branická 275 Praha - Braník
SUMMARY:PP-Z: Braník A-Vršovice
END:VEVENT
BEGIN:VEVENT
UID:61396331-6432-4162-b138-363365316161
DTSTAMP:20260423T150611Z
DESCRIPTION:12/57 Braník A - Nusle B 0:3 (-17\,-19\,-15)
DTSTART;TZID=Europe/Berlin:20220112T182000
DTEND;TZID=Europe/Berlin:20220112T202000
LOCATION:Sokolovna Braník\, Branická 275 Praha - Braník
SUMMARY:PP-Z: Braník A-Nusle B
END:VEVENT
BEGIN:VEVENT
UID:37343962-6336-4363-a462-383564343634
DTSTAMP:20260423T150611Z
DESCRIPTION:14/68 Braník A - ČZU Praha 3:2 (14\,-20\,16\,-18\,11)
DTSTART;TZID=Europe/Berlin:20220126T182000
DTEND;TZID=Europe/Berlin:20220126T202000
LOCATION:Sokolovna Braník\, Branická 275 Praha - Braník
SUMMARY:PP-Z: Braník A-ČZU Praha
END:VEVENT
BEGIN:VEVENT
UID:31656634-3861-4733-a461-306439393631
DTSTAMP:20260423T150611Z
DESCRIPTION:16/79 Braník A - Meteor C 1:3 (25\,-13\,-23\,-21)
DTSTART;TZID=Europe/Berlin:20220209T182000
DTEND;TZID=Europe/Berlin:20220209T202000
LOCATION:Sokolovna Braník\, Branická 275 Praha - Braník
SUMMARY:PP-Z: Braník A-Meteor C
END:VEVENT
BEGIN:VEVENT
UID:66666135-3532-4564-b038-393439366162
DTSTAMP:20260423T150611Z
DESCRIPTION:18/90 Braník A - Praga 3:1 (-15\,21\,22\,23)
DTSTART;TZID=Europe/Berlin:20220223T182000
DTEND;TZID=Europe/Berlin:20220223T202000
LOCATION:Sokolovna Braník\, Branická 275 Praha - Braník
SUMMARY:PP-Z: Braník A-Praga
END:VEVENT
BEGIN:VEVENT
UID:34376138-6664-4664-b533-343066663262
DTSTAMP:20260423T150611Z
DESCRIPTION:3/12 Nusle B - Braník A 3:1 (22\,-22\,24\,16)
DTSTART;TZID=Europe/Berlin:20211021T203000
DTEND;TZID=Europe/Berlin:20211021T223000
LOCATION:TJ Sokol Nusle\, Na květnici 700 Praha - Nusle
SUMMARY:PP-Z: Nusle B-Braník A
END:VEVENT
BEGIN:VEVENT
UID:34653339-3536-4263-b338-383935646237
DTSTAMP:20260423T150611Z
DESCRIPTION:5/23 ČZU Praha - Braník A 3:0 (13\,20\,15)
DTSTART;TZID=Europe/Berlin:20211103T203000
DTEND;TZID=Europe/Berlin:20211103T223000
LOCATION:Sportcentrum Suchdol ČZU\, Sídlištní 1167 Praha - Suchdol
SUMMARY:PP-Z: ČZU Praha-Braník A
END:VEVENT
BEGIN:VEVENT
UID:33656365-3831-4431-b938-386530393534
DTSTAMP:20260423T150611Z
DESCRIPTION:7/34 Meteor C - Braník A 0:3 (-18\,-19\,-22)\nodloženo!NT!
DTSTART;TZID=Europe/Berlin:20220105T203000
DTEND;TZID=Europe/Berlin:20220105T223000
LOCATION:Tělocvična ZŠ Na Šutce\, Na Šutce 440 Praha - Troja
SUMMARY:PP-Z: Meteor C-Braník A
END:VEVENT
BEGIN:VEVENT
UID:33306562-3562-4038-a234-343462323364
DTSTAMP:20260423T150611Z
DESCRIPTION:9/45 Praga - Braník A 3:0 (23\,16\,20)
DTSTART;TZID=Europe/Berlin:20220216T182000
DTEND;TZID=Europe/Berlin:20220216T202000
LOCATION:Sokolovna Braník\, Branická 275 Praha - Braník
SUMMARY:PP-Z: Praga-Braník A
END:VEVENT
BEGIN:VEVENT
UID:30663937-3338-4566-a639-303238643861
DTSTAMP:20260423T150611Z
DESCRIPTION:10/46 Modřany - Braník A 3:1 (11\,14\,-20\,15)
DTSTART;TZID=Europe/Berlin:20211207T203000
DTEND;TZID=Europe/Berlin:20211207T223000
LOCATION:ZŠ Rakovského\, Rakovského 3136 Praha - Modřany
SUMMARY:PP-Z: Modřany-Braník A
END:VEVENT
BEGIN:VEVENT
UID:30376239-6562-4363-a561-313237373131
DTSTAMP:20260423T150611Z
DESCRIPTION:11/55 Meteor A - Braník A 3:0 (24\,17\,12)
DTSTART;TZID=Europe/Berlin:20211215T202000
DTEND;TZID=Europe/Berlin:20211215T222000
LOCATION:Tělocvična ZŠ Na Šutce\, Na Šutce 440 Praha - Troja
SUMMARY:PP-Z: Meteor A-Braník A
END:VEVENT
BEGIN:VEVENT
UID:62646437-3965-4337-a232-386437343033
DTSTAMP:20260423T150611Z
DESCRIPTION:13/64 JM Chodov - Braník A 2:3 (-23\,16\,26\,-23\,-7)
DTSTART;TZID=Europe/Berlin:20220221T202000
DTEND;TZID=Europe/Berlin:20220221T222000
LOCATION:tělocvičny ZŠ Mikulova\, Mikulova 1594 Praha - Chodov
SUMMARY:PP-Z: JM Chodov-Braník A
END:VEVENT
BEGIN:VEVENT
UID:35393137-3337-4461-b364-336665643462
DTSTAMP:20260423T150611Z
DESCRIPTION:15/73 MFF A - Braník A 3:0 (20\,14\,21)
DTSTART;TZID=Europe/Berlin:20220201T201500
DTEND;TZID=Europe/Berlin:20220201T221500
LOCATION:, Ohradní 1366 Praha - Michle
SUMMARY:PP-Z: MFF A-Braník A
END:VEVENT
BEGIN:VEVENT
UID:35386331-6238-4762-a233-663832313835
DTSTAMP:20260423T150611Z
DESCRIPTION:17/82 Vršovice - Braník A 0:3 (-28\,-18\,-24)
DTSTART;TZID=Europe/Berlin:20220214T201500
DTEND;TZID=Europe/Berlin:20220214T221500
LOCATION:Sokolovna Vršovice\, Sportovní 111 Praha - Vršovice
SUMMARY:PP-Z: Vršovice-Braník A
END:VEVENT
END:VCALENDAR
