BEGIN:VCALENDAR
VERSION:2.0
PRODID:-//TJ Jižní Město Chodov, z.s.77208//NONSGML kigkonsult.se iCalcreator 2.41.80//
CALSCALE:GREGORIAN
UID:66306162-6261-4563-a364-316633626431
BEGIN:VEVENT
UID:64653066-6530-4435-b235-376335633332
DTSTAMP:20260423T150613Z
DESCRIPTION:1/4 JM Chodov - Meteor C 1:3 (-24\,21\,-25\,-20)
DTSTART;TZID=Europe/Berlin:20211007T202000
DTEND;TZID=Europe/Berlin:20211007T222000
LOCATION:tělocvičny ZŠ Mikulova\, Mikulova 1594 Praha - Chodov
SUMMARY:PP-Z: JM Chodov-Meteor C
END:VEVENT
BEGIN:VEVENT
UID:31343430-3162-4537-b562-356265383230
DTSTAMP:20260423T150613Z
DESCRIPTION:3/13 JM Chodov - Praga 3:0 (18\,23\,25)
DTSTART;TZID=Europe/Berlin:20211021T202000
DTEND;TZID=Europe/Berlin:20211021T222000
LOCATION:tělocvičny ZŠ Mikulova\, Mikulova 1594 Praha - Chodov
SUMMARY:PP-Z: JM Chodov-Praga
END:VEVENT
BEGIN:VEVENT
UID:63386436-3639-4963-b930-656163666432
DTSTAMP:20260423T150613Z
DESCRIPTION:5/22 JM Chodov - Meteor A 3:1 (-21\,17\,18\,20)
DTSTART;TZID=Europe/Berlin:20211104T202000
DTEND;TZID=Europe/Berlin:20211104T222000
LOCATION:tělocvičny ZŠ Mikulova\, Mikulova 1594 Praha - Chodov
SUMMARY:PP-Z: JM Chodov-Meteor A
END:VEVENT
BEGIN:VEVENT
UID:39323063-3037-4663-b032-356365393339
DTSTAMP:20260423T150613Z
DESCRIPTION:7/31 JM Chodov - Modřany 0:3 (-24\,-21\,-17)\nodloženo!NT!
DTSTART;TZID=Europe/Berlin:20220106T202000
DTEND;TZID=Europe/Berlin:20220106T222000
LOCATION:tělocvičny ZŠ Mikulova\, Mikulova 1594 Praha - Chodov
SUMMARY:PP-Z: JM Chodov-Modřany
END:VEVENT
BEGIN:VEVENT
UID:38306534-6366-4266-b734-343363373138
DTSTAMP:20260423T150613Z
DESCRIPTION:8/40 JM Chodov - ČZU Praha 0:3 (-13\,-16\,-9)
DTSTART;TZID=Europe/Berlin:20211125T202000
DTEND;TZID=Europe/Berlin:20211125T222000
LOCATION:tělocvičny ZŠ Mikulova\, Mikulova 1594 Praha - Chodov
SUMMARY:PP-Z: JM Chodov-ČZU Praha
END:VEVENT
BEGIN:VEVENT
UID:34366466-3832-4635-b839-323362613531
DTSTAMP:20260423T150613Z
DESCRIPTION:11/53 JM Chodov - Vršovice 3:2 (-18\,-23\,13\,10\,8)\nodloženo!
 NT!
DTSTART;TZID=Europe/Berlin:20220324T202000
DTEND;TZID=Europe/Berlin:20220324T222000
LOCATION:tělocvičny ZŠ Mikulova\, Mikulova 1594 Praha - Chodov
SUMMARY:PP-Z: JM Chodov-Vršovice
END:VEVENT
BEGIN:VEVENT
UID:39623233-3262-4161-a631-653734393663
DTSTAMP:20260423T150613Z
DESCRIPTION:13/64 JM Chodov - Braník A 2:3 (-23\,16\,26\,-23\,-7)
DTSTART;TZID=Europe/Berlin:20220221T202000
DTEND;TZID=Europe/Berlin:20220221T222000
LOCATION:tělocvičny ZŠ Mikulova\, Mikulova 1594 Praha - Chodov
SUMMARY:PP-Z: JM Chodov-Braník A
END:VEVENT
BEGIN:VEVENT
UID:36346630-6633-4433-a363-663534646439
DTSTAMP:20260423T150613Z
DESCRIPTION:15/75 JM Chodov - Nusle B 0:3 (-14\,-20\,-12)
DTSTART;TZID=Europe/Berlin:20220203T202000
DTEND;TZID=Europe/Berlin:20220203T222000
LOCATION:tělocvičny ZŠ Mikulova\, Mikulova 1594 Praha - Chodov
SUMMARY:PP-Z: JM Chodov-Nusle B
END:VEVENT
BEGIN:VEVENT
UID:38386166-6132-4764-b830-643333356339
DTSTAMP:20260423T150613Z
DESCRIPTION:18/87 JM Chodov - MFF A 1:3 (28\,-22\,-22\,-16)
DTSTART;TZID=Europe/Berlin:20220224T202000
DTEND;TZID=Europe/Berlin:20220224T222000
LOCATION:tělocvičny ZŠ Mikulova\, Mikulova 1594 Praha - Chodov
SUMMARY:PP-Z: JM Chodov-MFF A
END:VEVENT
BEGIN:VEVENT
UID:34626336-3337-4665-a532-313231373433
DTSTAMP:20260423T150613Z
DESCRIPTION:2/8 Vršovice - JM Chodov 3:0 (10\,14\,18)
DTSTART;TZID=Europe/Berlin:20211011T201500
DTEND;TZID=Europe/Berlin:20211011T221500
LOCATION:Sokolovna Vršovice\, Sportovní 111 Praha - Vršovice
SUMMARY:PP-Z: Vršovice-JM Chodov
END:VEVENT
BEGIN:VEVENT
UID:31646362-3966-4331-b335-373662643430
DTSTAMP:20260423T150613Z
DESCRIPTION:4/19 Braník A - JM Chodov 3:1 (-24\,22\,21\,18)\nodloženo!NT!
DTSTART;TZID=Europe/Berlin:20220302T182000
DTEND;TZID=Europe/Berlin:20220302T202000
LOCATION:Sokolovna Braník\, Branická 275 Praha - Braník
SUMMARY:PP-Z: Braník A-JM Chodov
END:VEVENT
BEGIN:VEVENT
UID:38356630-3839-4264-a632-613131393562
DTSTAMP:20260423T150613Z
DESCRIPTION:6/30 Nusle B - JM Chodov 3:0 (21\,23\,14)
DTSTART;TZID=Europe/Berlin:20211111T203000
DTEND;TZID=Europe/Berlin:20211111T223000
LOCATION:TJ Sokol Nusle\, Na květnici 700 Praha - Nusle
SUMMARY:PP-Z: Nusle B-JM Chodov
END:VEVENT
BEGIN:VEVENT
UID:37383861-3231-4532-a237-303136636565
DTSTAMP:20260423T150613Z
DESCRIPTION:9/42 MFF A - JM Chodov 3:0 (20\,23\,23)
DTSTART;TZID=Europe/Berlin:20211130T201500
DTEND;TZID=Europe/Berlin:20211130T221500
LOCATION:, Ohradní 1366 Praha - Michle
SUMMARY:PP-Z: MFF A-JM Chodov
END:VEVENT
BEGIN:VEVENT
UID:33306633-3266-4432-a262-663439636233
DTSTAMP:20260423T150613Z
DESCRIPTION:10/49 Meteor C - JM Chodov 0:3 (-22\,-20\,-20)
DTSTART;TZID=Europe/Berlin:20220330T203000
DTEND;TZID=Europe/Berlin:20220330T223000
LOCATION:Tělocvična ZŠ Na Šutce\, Na Šutce 440 Praha - Troja
SUMMARY:PP-Z: Meteor C-JM Chodov
END:VEVENT
BEGIN:VEVENT
UID:37363333-6265-4531-a433-353636343934
DTSTAMP:20260423T150613Z
DESCRIPTION:12/58 Praga - JM Chodov 3:2 (14\,-20\,23\,-23\,8)
DTSTART;TZID=Europe/Berlin:20220113T182000
DTEND;TZID=Europe/Berlin:20220113T202000
LOCATION:Sokolovna Braník\, Branická 275 Praha - Braník
SUMMARY:PP-Z: Praga-JM Chodov
END:VEVENT
BEGIN:VEVENT
UID:32656231-6464-4930-a464-626665656331
DTSTAMP:20260423T150613Z
DESCRIPTION:14/67 Meteor A - JM Chodov 0:3 (-15\,-22\,-18)
DTSTART;TZID=Europe/Berlin:20220126T202000
DTEND;TZID=Europe/Berlin:20220126T222000
LOCATION:Tělocvična ZŠ Na Šutce\, Na Šutce 440 Praha - Troja
SUMMARY:PP-Z: Meteor A-JM Chodov
END:VEVENT
BEGIN:VEVENT
UID:64356161-3661-4135-b535-373061393266
DTSTAMP:20260423T150613Z
DESCRIPTION:16/76 Modřany - JM Chodov 3:1 (-17\,18\,21\,18)
DTSTART;TZID=Europe/Berlin:20220208T203000
DTEND;TZID=Europe/Berlin:20220208T223000
LOCATION:ZŠ Rakovského\, Rakovského 3136 Praha - Modřany
SUMMARY:PP-Z: Modřany-JM Chodov
END:VEVENT
BEGIN:VEVENT
UID:39343033-3639-4232-b630-386462633934
DTSTAMP:20260423T150613Z
DESCRIPTION:17/85 ČZU Praha - JM Chodov 3:0 (22\,18\,21)
DTSTART;TZID=Europe/Berlin:20220216T203000
DTEND;TZID=Europe/Berlin:20220216T223000
LOCATION:Sportcentrum Suchdol ČZU\, Sídlištní 1167 Praha - Suchdol
SUMMARY:PP-Z: ČZU Praha-JM Chodov
END:VEVENT
END:VCALENDAR
