BEGIN:VCALENDAR
VERSION:2.0
PRODID:-//Klub rekreačního sportu Uničov, spolek77328//NONSGML kigkonsult.se iCalcreator 2.41.80//
CALSCALE:GREGORIAN
UID:63393264-3964-4030-b535-323764366664
BEGIN:VEVENT
UID:39666137-6339-4762-b236-636532623732
DTSTAMP:20260423T094121Z
DESCRIPTION:1/2 Uničov - Kojetín 3:1 (-21\,24\,18\,24)
DTSTART;TZID=Europe/Berlin:20210911T100000
DTEND;TZID=Europe/Berlin:20210911T120000
LOCATION:tělocvična\, U Stadionu 849 Uničov
SUMMARY:OLK-Z: Uničov-Kojetín
END:VEVENT
BEGIN:VEVENT
UID:31376535-3936-4133-b965-373566336532
DTSTAMP:20260423T094121Z
DESCRIPTION:2/5 Uničov - Kojetín 0:3 (-20\,-20\,-17)
DTSTART;TZID=Europe/Berlin:20210911T140000
DTEND;TZID=Europe/Berlin:20210911T160000
LOCATION:tělocvična\, U Stadionu 849 Uničov
SUMMARY:OLK-Z: Uničov-Kojetín
END:VEVENT
BEGIN:VEVENT
UID:38636434-3536-4636-a664-366134333336
DTSTAMP:20260423T094121Z
DESCRIPTION:5/13 Uničov - Šumperk 2:3 (22\,-12\,-15\,22\,-9)
DTSTART;TZID=Europe/Berlin:20211009T100000
DTEND;TZID=Europe/Berlin:20211009T120000
LOCATION:tělocvična\, U Stadionu 849 Uničov
SUMMARY:OLK-Z: Uničov-Šumperk
END:VEVENT
BEGIN:VEVENT
UID:63313934-3738-4232-a431-363939356339
DTSTAMP:20260423T094121Z
DESCRIPTION:6/16 Uničov - Šumperk 3:1 (-18\,18\,25\,21)
DTSTART;TZID=Europe/Berlin:20211009T140000
DTEND;TZID=Europe/Berlin:20211009T160000
LOCATION:tělocvična\, U Stadionu 849 Uničov
SUMMARY:OLK-Z: Uničov-Šumperk
END:VEVENT
BEGIN:VEVENT
UID:33353036-3730-4034-a365-326666383633
DTSTAMP:20260423T094121Z
DESCRIPTION:7/21 Uničov - Velká Bystřice 3:2 (-19\,20\,24\,-17\,13)
DTSTART;TZID=Europe/Berlin:20220212T100000
DTEND;TZID=Europe/Berlin:20220212T120000
LOCATION:tělocvična\, U Stadionu 849 Uničov
SUMMARY:OLK-Z: Uničov-Velká Bystřice
END:VEVENT
BEGIN:VEVENT
UID:66343530-3936-4333-a237-306665383666
DTSTAMP:20260423T094121Z
DESCRIPTION:8/24 Uničov - Velká Bystřice 2:3 (-22\,-23\,22\,22\,-13)
DTSTART;TZID=Europe/Berlin:20220212T140000
DTEND;TZID=Europe/Berlin:20220212T160000
LOCATION:tělocvična\, U Stadionu 849 Uničov
SUMMARY:OLK-Z: Uničov-Velká Bystřice
END:VEVENT
BEGIN:VEVENT
UID:35373735-6363-4635-a234-303264633535
DTSTAMP:20260423T094121Z
DESCRIPTION:13/39 Uničov - Bohuňovice 0:3 (-14\,-21\,-15)
DTSTART;TZID=Europe/Berlin:20220115T100000
DTEND;TZID=Europe/Berlin:20220115T120000
LOCATION:tělocvična\, U Stadionu 849 Uničov
SUMMARY:OLK-Z: Uničov-Bohuňovice
END:VEVENT
BEGIN:VEVENT
UID:32393035-3262-4335-b964-323834356235
DTSTAMP:20260423T094121Z
DESCRIPTION:14/42 Uničov - Bohuňovice 3:1 (25\,23\,-21\,8)
DTSTART;TZID=Europe/Berlin:20220115T140000
DTEND;TZID=Europe/Berlin:20220115T160000
LOCATION:tělocvična\, U Stadionu 849 Uničov
SUMMARY:OLK-Z: Uničov-Bohuňovice
END:VEVENT
BEGIN:VEVENT
UID:38643739-6636-4134-b831-316363623966
DTSTAMP:20260423T094121Z
DESCRIPTION:19/56 Uničov - Přerov 3:1 (25\,-17\,18\,24)
DTSTART;TZID=Europe/Berlin:20220305T100000
DTEND;TZID=Europe/Berlin:20220305T120000
LOCATION:tělocvična\, U Stadionu 849 Uničov
SUMMARY:OLK-Z: Uničov-Přerov
END:VEVENT
BEGIN:VEVENT
UID:66623562-3665-4634-a633-363534363033
DTSTAMP:20260423T094121Z
DESCRIPTION:20/59 Uničov - Přerov 3:0 (24\,16\,10)
DTSTART;TZID=Europe/Berlin:20220305T140000
DTEND;TZID=Europe/Berlin:20220305T160000
LOCATION:tělocvična\, U Stadionu 849 Uničov
SUMMARY:OLK-Z: Uničov-Přerov
END:VEVENT
BEGIN:VEVENT
UID:61366362-3962-4866-b466-306330383130
DTSTAMP:20260423T094121Z
DESCRIPTION:3/9 Bohuňovice - Uničov 3:2 (-14\,-21\,23\,18\,8)
DTSTART;TZID=Europe/Berlin:20210925T100000
DTEND;TZID=Europe/Berlin:20210925T120000
LOCATION:Volejbalové hřiště - antuka\, Pod lipami 653 Bohuňovice
SUMMARY:OLK-Z: Bohuňovice-Uničov
END:VEVENT
BEGIN:VEVENT
UID:66353531-3666-4938-b062-646663393836
DTSTAMP:20260423T094121Z
DESCRIPTION:4/12 Bohuňovice - Uničov 3:2 (20\,20\,-24\,-23\,7)
DTSTART;TZID=Europe/Berlin:20210925T140000
DTEND;TZID=Europe/Berlin:20210925T160000
LOCATION:Volejbalové hřiště - antuka\, Pod lipami 653 Bohuňovice
SUMMARY:OLK-Z: Bohuňovice-Uničov
END:VEVENT
BEGIN:VEVENT
UID:65656338-3465-4833-b434-616262643337
DTSTAMP:20260423T094121Z
DESCRIPTION:9/26 Přerov - Uničov 1:3 (21\,-13\,-18\,-20)
DTSTART;TZID=Europe/Berlin:20211113T100000
DTEND;TZID=Europe/Berlin:20211113T120000
LOCATION:Tělocvična SŠGaS\, Šířava 670 Přerov - Přerov I-Město
SUMMARY:OLK-Z: Přerov-Uničov
END:VEVENT
BEGIN:VEVENT
UID:64373237-3366-4435-b939-363463643830
DTSTAMP:20260423T094121Z
DESCRIPTION:10/29 Přerov - Uničov 2:3 (-17\,25\,18\,-23\,-6)
DTSTART;TZID=Europe/Berlin:20211113T140000
DTEND;TZID=Europe/Berlin:20211113T160000
LOCATION:Tělocvična SŠGaS\, Šířava 670 Přerov - Přerov I-Město
SUMMARY:OLK-Z: Přerov-Uničov
END:VEVENT
BEGIN:VEVENT
UID:30316234-6635-4535-a463-323431386439
DTSTAMP:20260423T094121Z
DESCRIPTION:11/32 Kojetín - Uničov 1:3 (17\,-13\,-15\,-22)
DTSTART;TZID=Europe/Berlin:20211204T100000
DTEND;TZID=Europe/Berlin:20211204T120000
LOCATION:Městská sportovní hala\, Hanusíkova 1476 Kojetín - Kojetín I-Město
SUMMARY:OLK-Z: Kojetín-Uničov
END:VEVENT
BEGIN:VEVENT
UID:35643033-3165-4034-a136-343265373739
DTSTAMP:20260423T094121Z
DESCRIPTION:12/35 Kojetín - Uničov 0:3 (-17\,-14\,-13)
DTSTART;TZID=Europe/Berlin:20211204T140000
DTEND;TZID=Europe/Berlin:20211204T160000
LOCATION:Městská sportovní hala\, Hanusíkova 1476 Kojetín - Kojetín I-Město
SUMMARY:OLK-Z: Kojetín-Uničov
END:VEVENT
BEGIN:VEVENT
UID:34323238-6463-4137-b563-616261383234
DTSTAMP:20260423T094121Z
DESCRIPTION:15/43 Šumperk - Uničov 3:1 (14\,18\,-15\,11)
DTSTART;TZID=Europe/Berlin:20220129T100000
DTEND;TZID=Europe/Berlin:20220129T120000
LOCATION:3. ZŠ Šumperk\, 8. května 870 Šumperk
SUMMARY:OLK-Z: Šumperk-Uničov
END:VEVENT
BEGIN:VEVENT
UID:30366131-3663-4465-b039-306639303266
DTSTAMP:20260423T094121Z
DESCRIPTION:16/46 Šumperk - Uničov 3:2 (-21\,-22\,16\,26\,11)
DTSTART;TZID=Europe/Berlin:20220129T140000
DTEND;TZID=Europe/Berlin:20220129T160000
LOCATION:3. ZŠ Šumperk\, 8. května 870 Šumperk
SUMMARY:OLK-Z: Šumperk-Uničov
END:VEVENT
BEGIN:VEVENT
UID:38653933-6331-4962-b139-373032356666
DTSTAMP:20260423T094121Z
DESCRIPTION:17/51 Velká Bystřice - Uničov 3:0 (4\,18\,21)
DTSTART;TZID=Europe/Berlin:20211114T100000
DTEND;TZID=Europe/Berlin:20211114T120000
LOCATION:SK Velká Bystřice - antukové hřiště\, Na Letné 766 Velká Bystřice
SUMMARY:OLK-Z: Velká Bystřice-Uničov
END:VEVENT
BEGIN:VEVENT
UID:39333062-3864-4433-b831-316336396561
DTSTAMP:20260423T094121Z
DESCRIPTION:18/54 Velká Bystřice - Uničov 3:0 (11\,14\,23)
DTSTART;TZID=Europe/Berlin:20211114T140000
DTEND;TZID=Europe/Berlin:20211114T160000
LOCATION:SK Velká Bystřice - antukové hřiště\, Na Letné 766 Velká Bystřice
SUMMARY:OLK-Z: Velká Bystřice-Uničov
END:VEVENT
END:VCALENDAR
