BEGIN:VCALENDAR
VERSION:2.0
PRODID:-//Sportovní klub Přerov 1908 z.s.77330//NONSGML kigkonsult.se iCalcreator 2.41.80//
CALSCALE:GREGORIAN
UID:31323264-3435-4931-b935-346164656561
BEGIN:VEVENT
UID:61613631-6665-4433-b935-666363636236
DTSTAMP:20260423T094124Z
DESCRIPTION:5/15 Přerov - Kojetín 3:2 (-23\,25\,-25\,15\,13)
DTSTART;TZID=Europe/Berlin:20211024T100000
DTEND;TZID=Europe/Berlin:20211024T120000
LOCATION:Tělocvična SŠGaS\, Šířava 670 Přerov - Přerov I-Město
SUMMARY:OLK-Z: Přerov-Kojetín
END:VEVENT
BEGIN:VEVENT
UID:61363234-6162-4432-b761-346435313762
DTSTAMP:20260423T094124Z
DESCRIPTION:6/18 Přerov - Kojetín 3:1 (24\,-24\,17\,21)
DTSTART;TZID=Europe/Berlin:20211024T140000
DTEND;TZID=Europe/Berlin:20211024T160000
LOCATION:Tělocvična SŠGaS\, Šířava 670 Přerov - Přerov I-Město
SUMMARY:OLK-Z: Přerov-Kojetín
END:VEVENT
BEGIN:VEVENT
UID:37613832-6661-4761-b634-313133613164
DTSTAMP:20260423T094124Z
DESCRIPTION:9/26 Přerov - Uničov 1:3 (21\,-13\,-18\,-20)
DTSTART;TZID=Europe/Berlin:20211113T100000
DTEND;TZID=Europe/Berlin:20211113T120000
LOCATION:Tělocvična SŠGaS\, Šířava 670 Přerov - Přerov I-Město
SUMMARY:OLK-Z: Přerov-Uničov
END:VEVENT
BEGIN:VEVENT
UID:63336164-3230-4130-b539-383533623237
DTSTAMP:20260423T094124Z
DESCRIPTION:10/29 Přerov - Uničov 2:3 (-17\,25\,18\,-23\,-6)
DTSTART;TZID=Europe/Berlin:20211113T140000
DTEND;TZID=Europe/Berlin:20211113T160000
LOCATION:Tělocvična SŠGaS\, Šířava 670 Přerov - Přerov I-Město
SUMMARY:OLK-Z: Přerov-Uničov
END:VEVENT
BEGIN:VEVENT
UID:38306131-6435-4132-a165-323338663437
DTSTAMP:20260423T094124Z
DESCRIPTION:13/37 Přerov - Šumperk 0:3 (-0\,-0\,-0)
DTSTART;TZID=Europe/Berlin:20220115T100000
DTEND;TZID=Europe/Berlin:20220115T120000
LOCATION:Tělocvična SŠGaS\, Šířava 670 Přerov - Přerov I-Město
SUMMARY:OLK-Z: Přerov-Šumperk
END:VEVENT
BEGIN:VEVENT
UID:61353031-3238-4566-b563-376134306261
DTSTAMP:20260423T094124Z
DESCRIPTION:14/40 Přerov - Šumperk 0:3 (-0\,-0\,-0)
DTSTART;TZID=Europe/Berlin:20220115T140000
DTEND;TZID=Europe/Berlin:20220115T160000
LOCATION:Tělocvična SŠGaS\, Šířava 670 Přerov - Přerov I-Město
SUMMARY:OLK-Z: Přerov-Šumperk
END:VEVENT
BEGIN:VEVENT
UID:30633964-6466-4431-a662-653665303163
DTSTAMP:20260423T094124Z
DESCRIPTION:17/50 Přerov - Bohuňovice 1:3 (-22\,-22\,17\,-13)
DTSTART;TZID=Europe/Berlin:20220313T100000
DTEND;TZID=Europe/Berlin:20220313T120000
LOCATION:Tělocvična SŠGaS\, Šířava 670 Přerov - Přerov I-Město
SUMMARY:OLK-Z: Přerov-Bohuňovice
END:VEVENT
BEGIN:VEVENT
UID:66653034-6133-4239-b132-663434386331
DTSTAMP:20260423T094124Z
DESCRIPTION:18/53 Přerov - Bohuňovice 3:2 (12\,-15\,19\,-21\,12)
DTSTART;TZID=Europe/Berlin:20220313T140000
DTEND;TZID=Europe/Berlin:20220313T160000
LOCATION:Tělocvična SŠGaS\, Šířava 670 Přerov - Přerov I-Město
SUMMARY:OLK-Z: Přerov-Bohuňovice
END:VEVENT
BEGIN:VEVENT
UID:31646138-3235-4038-a137-663738626437
DTSTAMP:20260423T094124Z
DESCRIPTION:1/3 Velká Bystřice - Přerov 3:1 (16\,-22\,21\,25)
DTSTART;TZID=Europe/Berlin:20210911T100000
DTEND;TZID=Europe/Berlin:20210911T120000
LOCATION:SK Velká Bystřice - antukové hřiště\, Na Letné 766 Velká Bystřice
SUMMARY:OLK-Z: Velká Bystřice-Přerov
END:VEVENT
BEGIN:VEVENT
UID:61373036-6266-4337-a436-373365316433
DTSTAMP:20260423T094124Z
DESCRIPTION:2/6 Velká Bystřice - Přerov 3:1 (16\,21\,-17\,9)
DTSTART;TZID=Europe/Berlin:20210911T140000
DTEND;TZID=Europe/Berlin:20210911T160000
LOCATION:SK Velká Bystřice - antukové hřiště\, Na Letné 766 Velká Bystřice
SUMMARY:OLK-Z: Velká Bystřice-Přerov
END:VEVENT
BEGIN:VEVENT
UID:34633465-3062-4337-a533-396137633465
DTSTAMP:20260423T094124Z
DESCRIPTION:3/7 Šumperk - Přerov 3:0 (13\,12\,17)
DTSTART;TZID=Europe/Berlin:20210925T100000
DTEND;TZID=Europe/Berlin:20210925T120000
LOCATION:3. ZŠ Šumperk\, 8. května 870 Šumperk
SUMMARY:OLK-Z: Šumperk-Přerov
END:VEVENT
BEGIN:VEVENT
UID:63343333-6264-4966-b134-313132333863
DTSTAMP:20260423T094124Z
DESCRIPTION:4/10 Šumperk - Přerov 3:0 (23\,20\,19)
DTSTART;TZID=Europe/Berlin:20210925T140000
DTEND;TZID=Europe/Berlin:20210925T160000
LOCATION:3. ZŠ Šumperk\, 8. května 870 Šumperk
SUMMARY:OLK-Z: Šumperk-Přerov
END:VEVENT
BEGIN:VEVENT
UID:37343937-3863-4739-a234-303734613134
DTSTAMP:20260423T094124Z
DESCRIPTION:7/20 Bohuňovice - Přerov 3:0 (13\,21\,14)
DTSTART;TZID=Europe/Berlin:20211023T100000
DTEND;TZID=Europe/Berlin:20211023T120000
LOCATION:ZŠ a MŠ Aloise Štěpánka\,  Dolany174
SUMMARY:OLK-Z: Bohuňovice-Přerov
END:VEVENT
BEGIN:VEVENT
UID:39323632-3039-4734-b630-363332323935
DTSTAMP:20260423T094124Z
DESCRIPTION:8/23 Bohuňovice - Přerov 3:1 (9\,17\,-17\,19)
DTSTART;TZID=Europe/Berlin:20211023T140000
DTEND;TZID=Europe/Berlin:20211023T160000
LOCATION:ZŠ a MŠ Aloise Štěpánka\,  Dolany174
SUMMARY:OLK-Z: Bohuňovice-Přerov
END:VEVENT
BEGIN:VEVENT
UID:66633233-6265-4438-b633-396334366238
DTSTAMP:20260423T094124Z
DESCRIPTION:11/33 Velká Bystřice - Přerov 3:0 (17\,24\,15)
DTSTART;TZID=Europe/Berlin:20220326T150000
DTEND;TZID=Europe/Berlin:20220326T170000
LOCATION:SK Velká Bystřice - antukové hřiště\, Na Letné 766 Velká Bystřice
SUMMARY:OLK-Z: Velká Bystřice-Přerov
END:VEVENT
BEGIN:VEVENT
UID:64316166-3736-4936-b365-363263643065
DTSTAMP:20260423T094124Z
DESCRIPTION:12/36 Velká Bystřice - Přerov 3:0 (21\,19\,16)
DTSTART;TZID=Europe/Berlin:20220326T190000
DTEND;TZID=Europe/Berlin:20220326T210000
LOCATION:SK Velká Bystřice - antukové hřiště\, Na Letné 766 Velká Bystřice
SUMMARY:OLK-Z: Velká Bystřice-Přerov
END:VEVENT
BEGIN:VEVENT
UID:33396662-6535-4932-b036-666437643934
DTSTAMP:20260423T094124Z
DESCRIPTION:15/45 Kojetín - Přerov 3:0 (20\,19\,21)
DTSTART;TZID=Europe/Berlin:20220220T100000
DTEND;TZID=Europe/Berlin:20220220T120000
LOCATION:Městská sportovní hala\, Hanusíkova 1476 Kojetín - Kojetín I-Město
SUMMARY:OLK-Z: Kojetín-Přerov
END:VEVENT
BEGIN:VEVENT
UID:38646333-6231-4365-a462-666365306331
DTSTAMP:20260423T094124Z
DESCRIPTION:16/48 Kojetín - Přerov 3:2 (15\,16\,-27\,-18\,4)
DTSTART;TZID=Europe/Berlin:20220220T140000
DTEND;TZID=Europe/Berlin:20220220T160000
LOCATION:Městská sportovní hala\, Hanusíkova 1476 Kojetín - Kojetín I-Město
SUMMARY:OLK-Z: Kojetín-Přerov
END:VEVENT
BEGIN:VEVENT
UID:65313939-6666-4330-b839-663734643462
DTSTAMP:20260423T094124Z
DESCRIPTION:19/56 Uničov - Přerov 3:1 (25\,-17\,18\,24)
DTSTART;TZID=Europe/Berlin:20220305T100000
DTEND;TZID=Europe/Berlin:20220305T120000
LOCATION:tělocvična\, U Stadionu 849 Uničov
SUMMARY:OLK-Z: Uničov-Přerov
END:VEVENT
BEGIN:VEVENT
UID:32643132-3832-4839-b637-383362376633
DTSTAMP:20260423T094124Z
DESCRIPTION:20/59 Uničov - Přerov 3:0 (24\,16\,10)
DTSTART;TZID=Europe/Berlin:20220305T140000
DTEND;TZID=Europe/Berlin:20220305T160000
LOCATION:tělocvična\, U Stadionu 849 Uničov
SUMMARY:OLK-Z: Uničov-Přerov
END:VEVENT
END:VCALENDAR
