BEGIN:VCALENDAR
VERSION:2.0
PRODID:-//Tělovýchovná jednota Hlučín, z.s. "A"77363//NONSGML kigkonsult.se iCalcreator 2.41.80//
CALSCALE:GREGORIAN
UID:39646433-3564-4436-a564-663962623433
BEGIN:VEVENT
UID:37656535-3434-4232-a534-303734363031
DTSTAMP:20260422T150345Z
DESCRIPTION:11/41 TJ Hlučín 'A' - VK Polanka n.O. 3:1 (6\,-24\,18\,13)
DTSTART;TZID=Europe/Berlin:20211211T090000
DTEND;TZID=Europe/Berlin:20211211T110000
LOCATION:Sportovní hala\, Tyršova 1668 Hlučín
SUMMARY:MS-KKY-A: TJ Hlučín 'A'-VK Polanka n.O.
END:VEVENT
BEGIN:VEVENT
UID:63333966-3062-4461-a666-653932636335
DTSTAMP:20260422T150345Z
DESCRIPTION:12/45 TJ Hlučín 'A' - VK Polanka n.O. 3:0 (11\,19\,14)
DTSTART;TZID=Europe/Berlin:20211211T130000
DTEND;TZID=Europe/Berlin:20211211T150000
LOCATION:Sportovní hala\, Tyršova 1668 Hlučín
SUMMARY:MS-KKY-A: TJ Hlučín 'A'-VK Polanka n.O.
END:VEVENT
BEGIN:VEVENT
UID:32666133-6432-4764-b765-343235366662
DTSTAMP:20260422T150345Z
DESCRIPTION:15/57 TJ Hlučín 'A' - VK Kylešovice 3:1 (-23\,22\,12\,16)
DTSTART;TZID=Europe/Berlin:20220115T100000
DTEND;TZID=Europe/Berlin:20220115T120000
LOCATION:Sportovní hala\, Tyršova 1668 Hlučín
SUMMARY:MS-KKY-A: TJ Hlučín 'A'-VK Kylešovice
END:VEVENT
BEGIN:VEVENT
UID:30396438-6536-4564-b739-626339313539
DTSTAMP:20260422T150345Z
DESCRIPTION:16/61 TJ Hlučín 'A' - VK Kylešovice 3:1 (-17\,22\,19\,25)
DTSTART;TZID=Europe/Berlin:20220115T140000
DTEND;TZID=Europe/Berlin:20220115T160000
LOCATION:Sportovní hala\, Tyršova 1668 Hlučín
SUMMARY:MS-KKY-A: TJ Hlučín 'A'-VK Kylešovice
END:VEVENT
BEGIN:VEVENT
UID:34663462-3536-4335-a165-643661336663
DTSTAMP:20260422T150345Z
DESCRIPTION:19/73 TJ Hlučín 'A' - TJ Sokol Poruba 3:0 (8\,12\,24)
DTSTART;TZID=Europe/Berlin:20220206T090000
DTEND;TZID=Europe/Berlin:20220206T110000
LOCATION:Sportovní hala\, Tyršova 1668 Hlučín
SUMMARY:MS-KKY-A: TJ Hlučín 'A'-TJ Sokol Poruba
END:VEVENT
BEGIN:VEVENT
UID:66623563-6632-4238-b363-623732373935
DTSTAMP:20260422T150345Z
DESCRIPTION:20/77 TJ Hlučín 'A' - TJ Sokol Poruba 3:0 (17\,6\,14)
DTSTART;TZID=Europe/Berlin:20220206T130000
DTEND;TZID=Europe/Berlin:20220206T150000
LOCATION:Sportovní hala\, Tyršova 1668 Hlučín
SUMMARY:MS-KKY-A: TJ Hlučín 'A'-TJ Sokol Poruba
END:VEVENT
BEGIN:VEVENT
UID:64386362-3537-4464-b665-303866353936
DTSTAMP:20260422T150345Z
DESCRIPTION:21/81 TJ Hlučín 'A' - TJ Krnov 3:0 (22\,19\,16)
DTSTART;TZID=Europe/Berlin:20220212T090000
DTEND;TZID=Europe/Berlin:20220212T110000
LOCATION:Sportovní hala\, Tyršova 1668 Hlučín
SUMMARY:MS-KKY-A: TJ Hlučín 'A'-TJ Krnov
END:VEVENT
BEGIN:VEVENT
UID:30346161-6133-4362-b764-653535383434
DTSTAMP:20260422T150345Z
DESCRIPTION:22/85 TJ Hlučín 'A' - TJ Krnov 3:0 (22\,21\,13)
DTSTART;TZID=Europe/Berlin:20220212T130000
DTEND;TZID=Europe/Berlin:20220212T150000
LOCATION:Sportovní hala\, Tyršova 1668 Hlučín
SUMMARY:MS-KKY-A: TJ Hlučín 'A'-TJ Krnov
END:VEVENT
BEGIN:VEVENT
UID:34326235-3630-4535-b661-373964623533
DTSTAMP:20260422T150345Z
DESCRIPTION:23/89 TJ Hlučín 'A' - Happy Opava 3:0 (24\,12\,11)
DTSTART;TZID=Europe/Berlin:20220228T170000
DTEND;TZID=Europe/Berlin:20220228T190000
LOCATION:Sportovní hala\, Tyršova 1668 Hlučín
SUMMARY:MS-KKY-A: TJ Hlučín 'A'-Happy Opava
END:VEVENT
BEGIN:VEVENT
UID:65636536-3765-4130-a139-353232343430
DTSTAMP:20260422T150345Z
DESCRIPTION:24/93 TJ Hlučín 'A' - Happy Opava 3:2 (-21\,23\,-21\,17\,14)
DTSTART;TZID=Europe/Berlin:20220228T190000
DTEND;TZID=Europe/Berlin:20220228T210000
LOCATION:Sportovní hala\, Tyršova 1668 Hlučín
SUMMARY:MS-KKY-A: TJ Hlučín 'A'-Happy Opava
END:VEVENT
BEGIN:VEVENT
UID:64643539-6630-4436-a435-313765666363
DTSTAMP:20260422T150345Z
DESCRIPTION:27/105 TJ Hlučín 'A' - Ostrava B 0:3 (-31\,-18\,-15)
DTSTART;TZID=Europe/Berlin:20220312T090000
DTEND;TZID=Europe/Berlin:20220312T110000
LOCATION:Sportovní hala\, Tyršova 1668 Hlučín
SUMMARY:MS-KKY-A: TJ Hlučín 'A'-Ostrava B
END:VEVENT
BEGIN:VEVENT
UID:66656231-6266-4137-a132-663436343632
DTSTAMP:20260422T150345Z
DESCRIPTION:28/109 TJ Hlučín 'A' - Ostrava B 2:3 (-17\,-18\,17\,22\,-12)
DTSTART;TZID=Europe/Berlin:20220312T130000
DTEND;TZID=Europe/Berlin:20220312T150000
LOCATION:Sportovní hala\, Tyršova 1668 Hlučín
SUMMARY:MS-KKY-A: TJ Hlučín 'A'-Ostrava B
END:VEVENT
BEGIN:VEVENT
UID:37373233-6337-4338-b334-373837353438
DTSTAMP:20260422T150345Z
DESCRIPTION:1/1 VK Kylešovice - TJ Hlučín 'A' 1:3 (-20\,-21\,22\,-17)
DTSTART;TZID=Europe/Berlin:20211002T100000
DTEND;TZID=Europe/Berlin:20211002T120000
LOCATION:Hala SPŠ stavební Opava\, Mírová 630 Opava - Předměstí
SUMMARY:MS-KKY-A: VK Kylešovice-TJ Hlučín 'A'
END:VEVENT
BEGIN:VEVENT
UID:62653137-3431-4534-a561-393437653061
DTSTAMP:20260422T150345Z
DESCRIPTION:2/5 VK Kylešovice - TJ Hlučín 'A' 1:3 (21\,-9\,-23\,-16)
DTSTART;TZID=Europe/Berlin:20211002T140000
DTEND;TZID=Europe/Berlin:20211002T160000
LOCATION:Hala SPŠ stavební Opava\, Mírová 630 Opava - Předměstí
SUMMARY:MS-KKY-A: VK Kylešovice-TJ Hlučín 'A'
END:VEVENT
BEGIN:VEVENT
UID:66323133-3865-4235-b863-366336326538
DTSTAMP:20260422T150345Z
DESCRIPTION:5/17 TJ Sokol Poruba - TJ Hlučín 'A' 0:3 (-11\,-13\,-8)
DTSTART;TZID=Europe/Berlin:20211016T090000
DTEND;TZID=Europe/Berlin:20211016T110000
LOCATION:TJ Sokol Poruba\, Vřesinská 121 Ostrava - Poruba
SUMMARY:MS-KKY-A: TJ Sokol Poruba-TJ Hlučín 'A'
END:VEVENT
BEGIN:VEVENT
UID:32323561-6637-4961-b839-343936343462
DTSTAMP:20260422T150345Z
DESCRIPTION:6/21 TJ Sokol Poruba - TJ Hlučín 'A' 0:3 (-5\,-16\,-18)
DTSTART;TZID=Europe/Berlin:20211016T130000
DTEND;TZID=Europe/Berlin:20211016T150000
LOCATION:TJ Sokol Poruba\, Vřesinská 121 Ostrava - Poruba
SUMMARY:MS-KKY-A: TJ Sokol Poruba-TJ Hlučín 'A'
END:VEVENT
BEGIN:VEVENT
UID:65646564-3334-4165-b230-633739373661
DTSTAMP:20260422T150345Z
DESCRIPTION:7/25 TJ Krnov - TJ Hlučín 'A' 3:0 (14\,13\,25)
DTSTART;TZID=Europe/Berlin:20211106T100000
DTEND;TZID=Europe/Berlin:20211106T120000
LOCATION:Střední pedagogická a zdravotní škola \, Jiráskova 840 Krnov - Pod
  Bezručovým vrchem
SUMMARY:MS-KKY-A: TJ Krnov-TJ Hlučín 'A'
END:VEVENT
BEGIN:VEVENT
UID:65333130-6263-4563-b934-313832633339
DTSTAMP:20260422T150345Z
DESCRIPTION:8/29 TJ Krnov - TJ Hlučín 'A' 3:0 (19\,24\,17)
DTSTART;TZID=Europe/Berlin:20211106T140000
DTEND;TZID=Europe/Berlin:20211106T160000
LOCATION:Střední pedagogická a zdravotní škola \, Jiráskova 840 Krnov - Pod
  Bezručovým vrchem
SUMMARY:MS-KKY-A: TJ Krnov-TJ Hlučín 'A'
END:VEVENT
BEGIN:VEVENT
UID:35633331-3339-4737-a531-626261323063
DTSTAMP:20260422T150345Z
DESCRIPTION:9/33 Happy Opava - TJ Hlučín 'A' 1:3 (-15\,20\,-20\,-21)
DTSTART;TZID=Europe/Berlin:20211113T100000
DTEND;TZID=Europe/Berlin:20211113T120000
LOCATION:ZŠ Ed. Beneše -malá tělocvična\, Edvarda Beneše 961 Opava - Kateři
 nky
SUMMARY:MS-KKY-A: Happy Opava-TJ Hlučín 'A'
END:VEVENT
BEGIN:VEVENT
UID:61383139-3565-4631-b862-663830616533
DTSTAMP:20260422T150345Z
DESCRIPTION:10/37 Happy Opava - TJ Hlučín 'A' 1:3 (-20\,-23\,22\,-23)
DTSTART;TZID=Europe/Berlin:20211113T140000
DTEND;TZID=Europe/Berlin:20211113T160000
LOCATION:ZŠ Ed. Beneše -malá tělocvična\, Edvarda Beneše 961 Opava - Kateři
 nky
SUMMARY:MS-KKY-A: Happy Opava-TJ Hlučín 'A'
END:VEVENT
BEGIN:VEVENT
UID:38376534-6331-4238-a439-616231306161
DTSTAMP:20260422T150345Z
DESCRIPTION:13/49 Ostrava B - TJ Hlučín 'A' 3:0 (11\,24\,13)
DTSTART;TZID=Europe/Berlin:20211204T090000
DTEND;TZID=Europe/Berlin:20211204T110000
LOCATION:Tělocvična ZŠ Gen. Píky \, Gen. Píky 2975 Ostrava - Moravská Ostra
 va
SUMMARY:MS-KKY-A: Ostrava B-TJ Hlučín 'A'
END:VEVENT
BEGIN:VEVENT
UID:64633461-6636-4434-a562-393730383735
DTSTAMP:20260422T150345Z
DESCRIPTION:14/53 Ostrava B - TJ Hlučín 'A' 3:1 (11\,14\,-22\,18)
DTSTART;TZID=Europe/Berlin:20211204T130000
DTEND;TZID=Europe/Berlin:20211204T150000
LOCATION:Tělocvična ZŠ Gen. Píky \, Gen. Píky 2975 Ostrava - Moravská Ostra
 va
SUMMARY:MS-KKY-A: Ostrava B-TJ Hlučín 'A'
END:VEVENT
BEGIN:VEVENT
UID:38363632-6565-4439-b431-316464636538
DTSTAMP:20260422T150345Z
DESCRIPTION:25/97 VK Polanka n.O. - TJ Hlučín 'A' 0:3 (-6\,-13\,-19)
DTSTART;TZID=Europe/Berlin:20220305T090000
DTEND;TZID=Europe/Berlin:20220305T110000
LOCATION:Sportovní hala\, Heleny Salichové 1275 Ostrava - Polanka nad Odrou
SUMMARY:MS-KKY-A: VK Polanka n.O.-TJ Hlučín 'A'
END:VEVENT
BEGIN:VEVENT
UID:38353031-3334-4065-b531-646236656262
DTSTAMP:20260422T150345Z
DESCRIPTION:26/101 VK Polanka n.O. - TJ Hlučín 'A' 0:3 (-10\,-18\,-16)
DTSTART;TZID=Europe/Berlin:20220305T130000
DTEND;TZID=Europe/Berlin:20220305T150000
LOCATION:Sportovní hala\, Heleny Salichové 1275 Ostrava - Polanka nad Odrou
SUMMARY:MS-KKY-A: VK Polanka n.O.-TJ Hlučín 'A'
END:VEVENT
END:VCALENDAR
