BEGIN:VCALENDAR
VERSION:2.0
PRODID:-//Klub volejbalu Kopřivnice,z.s.77372//NONSGML kigkonsult.se iCalcreator 2.41.80//
CALSCALE:GREGORIAN
UID:35353665-6466-4761-a433-646665656264
BEGIN:VEVENT
UID:38663934-3065-4534-b039-313462306336
DTSTAMP:20260422T085147Z
DESCRIPTION:3/9 KV Kopřivnice - TJ Ostrava C 3:0 (15\,12\,8)
DTSTART;TZID=Europe/Berlin:20211009T100000
DTEND;TZID=Europe/Berlin:20211009T120000
LOCATION:Tělocvičny ZŠ 17.listopadu Kopřivnice\, 17. listopadu 1225 Kopřivn
 ice
SUMMARY:MS-KKY-B: KV Kopřivnice-TJ Ostrava C
END:VEVENT
BEGIN:VEVENT
UID:31626137-3730-4339-a431-646630366463
DTSTAMP:20260422T085147Z
DESCRIPTION:4/13 KV Kopřivnice - TJ Ostrava C 3:1 (20\,-20\,20\,16)
DTSTART;TZID=Europe/Berlin:20211009T140000
DTEND;TZID=Europe/Berlin:20211009T160000
LOCATION:Tělocvičny ZŠ 17.listopadu Kopřivnice\, 17. listopadu 1225 Kopřivn
 ice
SUMMARY:MS-KKY-B: KV Kopřivnice-TJ Ostrava C
END:VEVENT
BEGIN:VEVENT
UID:66613333-3934-4636-b531-366132363139
DTSTAMP:20260422T085147Z
DESCRIPTION:7/25 KV Kopřivnice - TJ ODRY\, z.s. 0:3 (-15\,-8\,-13)
DTSTART;TZID=Europe/Berlin:20211106T100000
DTEND;TZID=Europe/Berlin:20211106T120000
LOCATION:Tělocvičny ZŠ 17.listopadu Kopřivnice\, 17. listopadu 1225 Kopřivn
 ice
SUMMARY:MS-KKY-B: KV Kopřivnice-TJ ODRY\, z.s.
END:VEVENT
BEGIN:VEVENT
UID:32333766-3737-4031-b165-616364323931
DTSTAMP:20260422T085147Z
DESCRIPTION:8/29 KV Kopřivnice - TJ ODRY\, z.s. 0:3 (-26\,-16\,-14)
DTSTART;TZID=Europe/Berlin:20211106T140000
DTEND;TZID=Europe/Berlin:20211106T160000
LOCATION:Tělocvičny ZŠ 17.listopadu Kopřivnice\, 17. listopadu 1225 Kopřivn
 ice
SUMMARY:MS-KKY-B: KV Kopřivnice-TJ ODRY\, z.s.
END:VEVENT
BEGIN:VEVENT
UID:37313934-6566-4237-a332-343366323630
DTSTAMP:20260422T085147Z
DESCRIPTION:11/41 KV Kopřivnice - TJ Sokol FM B 0:3 (-21\,-24\,-23)
DTSTART;TZID=Europe/Berlin:20211127T100000
DTEND;TZID=Europe/Berlin:20211127T120000
LOCATION:Tělocvičny ZŠ 17.listopadu Kopřivnice\, 17. listopadu 1225 Kopřivn
 ice
SUMMARY:MS-KKY-B: KV Kopřivnice-TJ Sokol FM B
END:VEVENT
BEGIN:VEVENT
UID:61396534-6461-4434-b738-386565383437
DTSTAMP:20260422T085147Z
DESCRIPTION:12/45 KV Kopřivnice - TJ Sokol FM B 1:3 (20\,-17\,-9\,-22)
DTSTART;TZID=Europe/Berlin:20211127T140000
DTEND;TZID=Europe/Berlin:20211127T160000
LOCATION:Tělocvičny ZŠ 17.listopadu Kopřivnice\, 17. listopadu 1225 Kopřivn
 ice
SUMMARY:MS-KKY-B: KV Kopřivnice-TJ Sokol FM B
END:VEVENT
BEGIN:VEVENT
UID:65653736-6534-4832-b130-326232643737
DTSTAMP:20260422T085147Z
DESCRIPTION:15/57 KV Kopřivnice - VKB Frýdlant n.O. 3:2 (22\,15\,-21\,-23\,
 13)
DTSTART;TZID=Europe/Berlin:20220115T100000
DTEND;TZID=Europe/Berlin:20220115T120000
LOCATION:Tělocvičny ZŠ 17.listopadu Kopřivnice\, 17. listopadu 1225 Kopřivn
 ice
SUMMARY:MS-KKY-B: KV Kopřivnice-VKB Frýdlant n.O.
END:VEVENT
BEGIN:VEVENT
UID:31353863-6564-4939-a366-383635306638
DTSTAMP:20260422T085147Z
DESCRIPTION:16/61 KV Kopřivnice - VKB Frýdlant n.O. 3:2 (15\,21\,-16\,-22\,
 10)
DTSTART;TZID=Europe/Berlin:20220115T140000
DTEND;TZID=Europe/Berlin:20220115T160000
LOCATION:Tělocvičny ZŠ 17.listopadu Kopřivnice\, 17. listopadu 1225 Kopřivn
 ice
SUMMARY:MS-KKY-B: KV Kopřivnice-VKB Frýdlant n.O.
END:VEVENT
BEGIN:VEVENT
UID:34316363-6164-4130-b237-663465613566
DTSTAMP:20260422T085147Z
DESCRIPTION:23/89 KV Kopřivnice - SK Slezan Orlová 3:1 (-11\,15\,9\,19)
DTSTART;TZID=Europe/Berlin:20220219T100000
DTEND;TZID=Europe/Berlin:20220219T120000
LOCATION:Tělocvičny ZŠ 17.listopadu Kopřivnice\, 17. listopadu 1225 Kopřivn
 ice
SUMMARY:MS-KKY-B: KV Kopřivnice-SK Slezan Orlová
END:VEVENT
BEGIN:VEVENT
UID:36633436-6639-4132-a137-616266613337
DTSTAMP:20260422T085147Z
DESCRIPTION:24/93 KV Kopřivnice - SK Slezan Orlová 3:0 (7\,16\,14)
DTSTART;TZID=Europe/Berlin:20220219T140000
DTEND;TZID=Europe/Berlin:20220219T160000
LOCATION:Tělocvičny ZŠ 17.listopadu Kopřivnice\, 17. listopadu 1225 Kopřivn
 ice
SUMMARY:MS-KKY-B: KV Kopřivnice-SK Slezan Orlová
END:VEVENT
BEGIN:VEVENT
UID:31643163-3235-4065-a137-656666623035
DTSTAMP:20260422T085147Z
DESCRIPTION:27/105 KV Kopřivnice - TJ Hlučín 'B' 3:0 (22\,12\,21)
DTSTART;TZID=Europe/Berlin:20220312T100000
DTEND;TZID=Europe/Berlin:20220312T120000
LOCATION:Tělocvičny ZŠ 17.listopadu Kopřivnice\, 17. listopadu 1225 Kopřivn
 ice
SUMMARY:MS-KKY-B: KV Kopřivnice-TJ Hlučín 'B'
END:VEVENT
BEGIN:VEVENT
UID:39353336-3234-4530-a165-303965336331
DTSTAMP:20260422T085147Z
DESCRIPTION:28/109 KV Kopřivnice - TJ Hlučín 'B' 2:3 (-18\,23\,16\,-19\,-13
 )
DTSTART;TZID=Europe/Berlin:20220312T140000
DTEND;TZID=Europe/Berlin:20220312T160000
LOCATION:Tělocvičny ZŠ 17.listopadu Kopřivnice\, 17. listopadu 1225 Kopřivn
 ice
SUMMARY:MS-KKY-B: KV Kopřivnice-TJ Hlučín 'B'
END:VEVENT
BEGIN:VEVENT
UID:39633833-6563-4230-a533-393732366237
DTSTAMP:20260422T085147Z
DESCRIPTION:1/1 VKB Frýdlant n.O. - KV Kopřivnice 1:3 (-25\,18\,-19\,-22)
DTSTART;TZID=Europe/Berlin:20211002T100000
DTEND;TZID=Europe/Berlin:20211002T120000
LOCATION:Sokolovna\, Hlavní 401 Frýdlant nad Ostravicí - Frýdlant
SUMMARY:MS-KKY-B: VKB Frýdlant n.O.-KV Kopřivnice
END:VEVENT
BEGIN:VEVENT
UID:33363233-3634-4166-b962-666538393638
DTSTAMP:20260422T085147Z
DESCRIPTION:2/5 VKB Frýdlant n.O. - KV Kopřivnice 0:3 (-21\,-22\,-18)
DTSTART;TZID=Europe/Berlin:20211002T140000
DTEND;TZID=Europe/Berlin:20211002T160000
LOCATION:Sokolovna\, Hlavní 401 Frýdlant nad Ostravicí - Frýdlant
SUMMARY:MS-KKY-B: VKB Frýdlant n.O.-KV Kopřivnice
END:VEVENT
BEGIN:VEVENT
UID:31663464-3131-4935-b965-326635333631
DTSTAMP:20260422T085147Z
DESCRIPTION:9/33 SK Slezan Orlová - KV Kopřivnice 0:3 (-20\,-12\,-20)
DTSTART;TZID=Europe/Berlin:20211113T100000
DTEND;TZID=Europe/Berlin:20211113T120000
LOCATION:Sportovní hala Gymnázium Orlová\, Masarykova třída 1313 Orlová - L
 utyně
SUMMARY:MS-KKY-B: SK Slezan Orlová-KV Kopřivnice
END:VEVENT
BEGIN:VEVENT
UID:36646261-6636-4565-b134-326130663139
DTSTAMP:20260422T085147Z
DESCRIPTION:10/37 SK Slezan Orlová - KV Kopřivnice 1:3 (-23\,-16\,22\,-11)
DTSTART;TZID=Europe/Berlin:20211113T140000
DTEND;TZID=Europe/Berlin:20211113T160000
LOCATION:Sportovní hala Gymnázium Orlová\, Masarykova třída 1313 Orlová - L
 utyně
SUMMARY:MS-KKY-B: SK Slezan Orlová-KV Kopřivnice
END:VEVENT
BEGIN:VEVENT
UID:31323766-3033-4461-b864-303730386366
DTSTAMP:20260422T085147Z
DESCRIPTION:13/49 TJ Hlučín 'B' - KV Kopřivnice 0:3 (-8\,-14\,-23)
DTSTART;TZID=Europe/Berlin:20211204T090000
DTEND;TZID=Europe/Berlin:20211204T110000
LOCATION:Sportovní hala\, Tyršova 1668 Hlučín
SUMMARY:MS-KKY-B: TJ Hlučín 'B'-KV Kopřivnice
END:VEVENT
BEGIN:VEVENT
UID:64386264-3763-4132-b634-313965353963
DTSTAMP:20260422T085147Z
DESCRIPTION:14/53 TJ Hlučín 'B' - KV Kopřivnice 0:3 (-8\,-9\,-10)
DTSTART;TZID=Europe/Berlin:20211204T130000
DTEND;TZID=Europe/Berlin:20211204T150000
LOCATION:Sportovní hala\, Tyršova 1668 Hlučín
SUMMARY:MS-KKY-B: TJ Hlučín 'B'-KV Kopřivnice
END:VEVENT
BEGIN:VEVENT
UID:37393132-3831-4536-b832-383261383264
DTSTAMP:20260422T085147Z
DESCRIPTION:17/65 TJ Ostrava C - KV Kopřivnice 0:3 (-16\,-17\,-10)
DTSTART;TZID=Europe/Berlin:20220122T110000
DTEND;TZID=Europe/Berlin:20220122T130000
LOCATION:Tělocvična ZŠ Gen. Píky \, Gen. Píky 2975 Ostrava - Moravská Ostra
 va
SUMMARY:MS-KKY-B: TJ Ostrava C-KV Kopřivnice
END:VEVENT
BEGIN:VEVENT
UID:61646237-6539-4537-b764-313139633236
DTSTAMP:20260422T085147Z
DESCRIPTION:18/69 TJ Ostrava C - KV Kopřivnice 0:3 (-19\,-21\,-13)
DTSTART;TZID=Europe/Berlin:20220122T150000
DTEND;TZID=Europe/Berlin:20220122T170000
LOCATION:Tělocvična ZŠ Gen. Píky \, Gen. Píky 2975 Ostrava - Moravská Ostra
 va
SUMMARY:MS-KKY-B: TJ Ostrava C-KV Kopřivnice
END:VEVENT
BEGIN:VEVENT
UID:65343833-3236-4461-b239-323537656132
DTSTAMP:20260422T085147Z
DESCRIPTION:21/81 TJ ODRY\, z.s. - KV Kopřivnice 3:0 (14\,14\,22)
DTSTART;TZID=Europe/Berlin:20220212T100000
DTEND;TZID=Europe/Berlin:20220212T120000
LOCATION:Tělocvična\, Pohořská 1010 Odry
SUMMARY:MS-KKY-B: TJ ODRY\, z.s.-KV Kopřivnice
END:VEVENT
BEGIN:VEVENT
UID:35643631-6361-4164-b835-353137336531
DTSTAMP:20260422T085147Z
DESCRIPTION:22/85 TJ ODRY\, z.s. - KV Kopřivnice 3:0 (7\,19\,20)
DTSTART;TZID=Europe/Berlin:20220212T140000
DTEND;TZID=Europe/Berlin:20220212T160000
LOCATION:Tělocvična\, Pohořská 1010 Odry
SUMMARY:MS-KKY-B: TJ ODRY\, z.s.-KV Kopřivnice
END:VEVENT
BEGIN:VEVENT
UID:61656666-3238-4165-b064-633436626131
DTSTAMP:20260422T085147Z
DESCRIPTION:25/97 TJ Sokol FM B - KV Kopřivnice 3:0 (19\,15\,18)
DTSTART;TZID=Europe/Berlin:20220305T100000
DTEND;TZID=Europe/Berlin:20220305T120000
LOCATION:Sokolovna Frýdek-Místek\, Novodvorská 667 Frýdek-Místek - Frýdek
SUMMARY:MS-KKY-B: TJ Sokol FM B-KV Kopřivnice
END:VEVENT
BEGIN:VEVENT
UID:39316133-3135-4962-b764-363834313830
DTSTAMP:20260422T085147Z
DESCRIPTION:26/101 TJ Sokol FM B - KV Kopřivnice 3:0 (16\,12\,10)
DTSTART;TZID=Europe/Berlin:20220305T140000
DTEND;TZID=Europe/Berlin:20220305T160000
LOCATION:Sokolovna Frýdek-Místek\, Novodvorská 667 Frýdek-Místek - Frýdek
SUMMARY:MS-KKY-B: TJ Sokol FM B-KV Kopřivnice
END:VEVENT
END:VCALENDAR
