BEGIN:VCALENDAR
VERSION:2.0
PRODID:-//Volejbalový spolek Ostrava77377//NONSGML kigkonsult.se iCalcreator 2.41.80//
CALSCALE:GREGORIAN
UID:63336433-6665-4930-a362-333965643734
BEGIN:VEVENT
UID:36313162-3231-4430-b762-343535333230
DTSTAMP:20260422T053813Z
DESCRIPTION:5/9 Vol.spolek Ostrava - Frýdek-Místek 0:2 (-10\,-11)
DTSTART;TZID=Europe/Berlin:20211003T150000
DTEND;TZID=Europe/Berlin:20211003T170000
LOCATION:Hala SPŠ\, 28. října 1639 Frýdek-Místek - Místek
SUMMARY:MS-ZCI-KA: Vol.spolek Ostrava-Frýdek-Místek
END:VEVENT
BEGIN:VEVENT
UID:33346439-3831-4064-a262-313463646231
DTSTAMP:20260422T053813Z
DESCRIPTION:1/2 Blue Ostrava A - Vol.spolek Ostrava 2:0 (17\,12)
DTSTART;TZID=Europe/Berlin:20211003T090000
DTEND;TZID=Europe/Berlin:20211003T110000
LOCATION:Hala SPŠ\, 28. října 1639 Frýdek-Místek - Místek
SUMMARY:MS-ZCI-KA: Blue Ostrava A-Vol.spolek Ostrava
END:VEVENT
BEGIN:VEVENT
UID:66306332-3865-4338-b635-363838366136
DTSTAMP:20260422T053813Z
DESCRIPTION:2/3 Frýdlant n. O. - Vol.spolek Ostrava 2:0 (10\,14)
DTSTART;TZID=Europe/Berlin:20211003T103000
DTEND;TZID=Europe/Berlin:20211003T123000
LOCATION:Hala SPŠ\, 28. října 1639 Frýdek-Místek - Místek
SUMMARY:MS-ZCI-KA: Frýdlant n. O.-Vol.spolek Ostrava
END:VEVENT
BEGIN:VEVENT
UID:35393964-6563-4135-b639-323238396537
DTSTAMP:20260422T053813Z
DESCRIPTION:4/7 VK Ostrava 'B' - Vol.spolek Ostrava 2:0 (23\,19)
DTSTART;TZID=Europe/Berlin:20211003T133000
DTEND;TZID=Europe/Berlin:20211003T153000
LOCATION:Hala SPŠ\, 28. října 1639 Frýdek-Místek - Místek
SUMMARY:MS-ZCI-KA: VK Ostrava 'B'-Vol.spolek Ostrava
END:VEVENT
BEGIN:VEVENT
UID:64653838-3463-4161-a166-373438353565
DTSTAMP:20260422T053813Z
DESCRIPTION:3/3 Vol.spolek Ostrava - Olomouc 2:1 (-24\,17\,14)
DTSTART;TZID=Europe/Berlin:20211017T120000
DTEND;TZID=Europe/Berlin:20211017T140000
LOCATION:hala SPŠE\, Makarenkova 513 Havířov - Město
SUMMARY:MS-ZCI-T1D: Vol.spolek Ostrava-Olomouc
END:VEVENT
BEGIN:VEVENT
UID:63393831-6639-4331-a261-646431363134
DTSTAMP:20260422T053813Z
DESCRIPTION:1/1 VAM Havířov - Vol.spolek Ostrava 0:2 (-11\,-22)
DTSTART;TZID=Europe/Berlin:20211017T090000
DTEND;TZID=Europe/Berlin:20211017T110000
LOCATION:hala SPŠE\, Makarenkova 513 Havířov - Město
SUMMARY:MS-ZCI-T1D: VAM Havířov-Vol.spolek Ostrava
END:VEVENT
BEGIN:VEVENT
UID:65303839-3137-4639-a537-323734396262
DTSTAMP:20260422T053813Z
DESCRIPTION:6/6 Green Volley Frýdek-Místek\, z.s. C - Vol.spolek Ostrava 0:
 2 (-16\,-10)
DTSTART;TZID=Europe/Berlin:20211017T163000
DTEND;TZID=Europe/Berlin:20211017T183000
LOCATION:hala SPŠE\, Makarenkova 513 Havířov - Město
SUMMARY:MS-ZCI-T1D: Green Volley Frýdek-Místek\, z.s. C-Vol.spolek Ostrava
END:VEVENT
BEGIN:VEVENT
UID:39333535-6536-4532-b762-313631396633
DTSTAMP:20260422T053813Z
DESCRIPTION:2/3 Vol.spolek Ostrava - Vlci Nový Jičín B 1:2 (16\,-7\,-11)
DTSTART;TZID=Europe/Berlin:20211114T103000
DTEND;TZID=Europe/Berlin:20211114T123000
LOCATION:Sportovní hala Slezského gymnázia v Opavě\, Zámecký okruh 461 Opav
 a - Město
SUMMARY:MS-ZCI-T2C: Vol.spolek Ostrava-Vlci Nový Jičín B
END:VEVENT
BEGIN:VEVENT
UID:63623331-3766-4839-b731-313533623937
DTSTAMP:20260422T053813Z
DESCRIPTION:1/1 Blue Ostrava B - Vol.spolek Ostrava 2:0 (15\,13)
DTSTART;TZID=Europe/Berlin:20211114T090000
DTEND;TZID=Europe/Berlin:20211114T110000
LOCATION:Sportovní hala Slezského gymnázia v Opavě\, Zámecký okruh 461 Opav
 a - Město
SUMMARY:MS-ZCI-T2C: Blue Ostrava B-Vol.spolek Ostrava
END:VEVENT
BEGIN:VEVENT
UID:64316430-6363-4239-b037-313431313738
DTSTAMP:20260422T053813Z
DESCRIPTION:3/6 Happy Opava - Vol.spolek Ostrava 2:0 (19\,15)
DTSTART;TZID=Europe/Berlin:20211114T120000
DTEND;TZID=Europe/Berlin:20211114T140000
LOCATION:Sportovní hala Slezského gymnázia v Opavě\, Zámecký okruh 461 Opav
 a - Město
SUMMARY:MS-ZCI-T2C: Happy Opava-Vol.spolek Ostrava
END:VEVENT
BEGIN:VEVENT
UID:30643234-6230-4330-b739-626266396539
DTSTAMP:20260422T053813Z
DESCRIPTION:1/1 Vol.spolek Ostrava - Green F-M B 2:1 (13\,-17\,13)
DTSTART;TZID=Europe/Berlin:20211219T090000
DTEND;TZID=Europe/Berlin:20211219T110000
LOCATION:Hala SPŠ\, 28. října 1639 Frýdek-Místek - Místek
SUMMARY:MS-ZCI-T3D: Vol.spolek Ostrava-Green F-M B
END:VEVENT
BEGIN:VEVENT
UID:66636163-3362-4530-b336-366636663631
DTSTAMP:20260422T053813Z
DESCRIPTION:2/4 Vol.spolek Ostrava - VK Ostrava 'B' 2:0 (19\,21)
DTSTART;TZID=Europe/Berlin:20211219T103000
DTEND;TZID=Europe/Berlin:20211219T123000
LOCATION:Hala SPŠ\, 28. října 1639 Frýdek-Místek - Místek
SUMMARY:MS-ZCI-T3D: Vol.spolek Ostrava-VK Ostrava 'B'
END:VEVENT
BEGIN:VEVENT
UID:32653432-6338-4563-b965-376662353832
DTSTAMP:20260422T053813Z
DESCRIPTION:3/5 VAM Havířov - Vol.spolek Ostrava 0:2 (-19\,-13)
DTSTART;TZID=Europe/Berlin:20211219T120000
DTEND;TZID=Europe/Berlin:20211219T140000
LOCATION:Hala SPŠ\, 28. října 1639 Frýdek-Místek - Místek
SUMMARY:MS-ZCI-T3D: VAM Havířov-Vol.spolek Ostrava
END:VEVENT
BEGIN:VEVENT
UID:62313936-3731-4432-b663-386566376565
DTSTAMP:20260422T053813Z
DESCRIPTION:2/3 Vol.spolek Ostrava - Vlci Nový Jičín B 0:2 (-24\,-23)
DTSTART;TZID=Europe/Berlin:20220109T103000
DTEND;TZID=Europe/Berlin:20220109T123000
LOCATION:Hala ABC\, Purkyňova 116 Nový Jičín
SUMMARY:MS-ZCI-T4C: Vol.spolek Ostrava-Vlci Nový Jičín B
END:VEVENT
BEGIN:VEVENT
UID:32336139-3161-4835-a661-313338613737
DTSTAMP:20260422T053813Z
DESCRIPTION:1/1 Happy Opava - Vol.spolek Ostrava 2:0 (21\,17)
DTSTART;TZID=Europe/Berlin:20220109T090000
DTEND;TZID=Europe/Berlin:20220109T110000
LOCATION:Hala ABC\, Purkyňova 116 Nový Jičín
SUMMARY:MS-ZCI-T4C: Happy Opava-Vol.spolek Ostrava
END:VEVENT
BEGIN:VEVENT
UID:65346630-6165-4938-b538-636532373363
DTSTAMP:20260422T053813Z
DESCRIPTION:4/6 Blue Ostrava B - Vol.spolek Ostrava 2:0 (20\,14)
DTSTART;TZID=Europe/Berlin:20220109T133000
DTEND;TZID=Europe/Berlin:20220109T153000
LOCATION:Hala ABC\, Purkyňova 116 Nový Jičín
SUMMARY:MS-ZCI-T4C: Blue Ostrava B-Vol.spolek Ostrava
END:VEVENT
BEGIN:VEVENT
UID:61636434-3831-4334-a637-376163656664
DTSTAMP:20260422T053813Z
DESCRIPTION:1/1 Vol.spolek Ostrava - Green Volley Frýdek-Místek\, z.s. C 2:
 0 (2\,21)
DTSTART;TZID=Europe/Berlin:20220206T090000
DTEND;TZID=Europe/Berlin:20220206T110000
LOCATION:Hala ABC\, Purkyňova 116 Nový Jičín
SUMMARY:MS-ZCI-T5D: Vol.spolek Ostrava-Green Volley Frýdek-Místek\, z.s. C
END:VEVENT
BEGIN:VEVENT
UID:33616137-6262-4535-b638-313063643862
DTSTAMP:20260422T053813Z
DESCRIPTION:3/4 Vol.spolek Ostrava - Olomouc 0:2 (-19\,-21)
DTSTART;TZID=Europe/Berlin:20220206T120000
DTEND;TZID=Europe/Berlin:20220206T140000
LOCATION:Hala ABC\, Purkyňova 116 Nový Jičín
SUMMARY:MS-ZCI-T5D: Vol.spolek Ostrava-Olomouc
END:VEVENT
BEGIN:VEVENT
UID:36303139-3932-4463-b862-393738353533
DTSTAMP:20260422T053813Z
DESCRIPTION:4/5 VAM Havířov - Vol.spolek Ostrava 0:2 (-0\,-0)
DTSTART;TZID=Europe/Berlin:20220206T133000
DTEND;TZID=Europe/Berlin:20220206T153000
LOCATION:Hala ABC\, Purkyňova 116 Nový Jičín
SUMMARY:MS-ZCI-T5D: VAM Havířov-Vol.spolek Ostrava
END:VEVENT
BEGIN:VEVENT
UID:38623039-3431-4035-b764-636463363234
DTSTAMP:20260422T053813Z
DESCRIPTION:1/2 Vol.spolek Ostrava - Palkovice 0:2 (-23\,-21)
DTSTART;TZID=Europe/Berlin:20220306T090000
DTEND;TZID=Europe/Berlin:20220306T110000
LOCATION:Hala SPŠ\, 28. října 1639 Frýdek-Místek - Místek
SUMMARY:MS-ZCI-T6D: Vol.spolek Ostrava-Palkovice
END:VEVENT
BEGIN:VEVENT
UID:65666430-6230-4534-b533-363463356337
DTSTAMP:20260422T053813Z
DESCRIPTION:5/6 Vol.spolek Ostrava - Green Volley Frýdek-Místek\, z.s. C 2:
 0 (23\,25)
DTSTART;TZID=Europe/Berlin:20220306T150000
DTEND;TZID=Europe/Berlin:20220306T170000
LOCATION:Hala SPŠ\, 28. října 1639 Frýdek-Místek - Místek
SUMMARY:MS-ZCI-T6D: Vol.spolek Ostrava-Green Volley Frýdek-Místek\, z.s. C
END:VEVENT
BEGIN:VEVENT
UID:66656263-6532-4431-b637-373835323833
DTSTAMP:20260422T053813Z
DESCRIPTION:3/4 VAM Havířov - Vol.spolek Ostrava 1:2 (21\,-21\,-7)
DTSTART;TZID=Europe/Berlin:20220306T120000
DTEND;TZID=Europe/Berlin:20220306T140000
LOCATION:Hala SPŠ\, 28. října 1639 Frýdek-Místek - Místek
SUMMARY:MS-ZCI-T6D: VAM Havířov-Vol.spolek Ostrava
END:VEVENT
END:VCALENDAR
