BEGIN:VCALENDAR
VERSION:2.0
PRODID:-//Sportovní volejbalový klub Nový Jičín, z. s. B77384//NONSGML kigkonsult.se iCalcreator 2.41.80//
CALSCALE:GREGORIAN
UID:62663063-3634-4662-b134-643561653832
BEGIN:VEVENT
UID:62363235-6136-4135-a461-663039333739
DTSTAMP:20260422T053824Z
DESCRIPTION:1/1 Vlci Nový Jičín B - Blue Ostrava B 0:2 (-19\,-16)
DTSTART;TZID=Europe/Berlin:20211002T090000
DTEND;TZID=Europe/Berlin:20211002T110000
LOCATION:Hala ABC\, Purkyňova 116 Nový Jičín
SUMMARY:MS-ZCI-KB: Vlci Nový Jičín B-Blue Ostrava B
END:VEVENT
BEGIN:VEVENT
UID:33663061-3531-4662-b636-646532336639
DTSTAMP:20260422T053824Z
DESCRIPTION:7/10 Vlci Nový Jičín B - VAM Havířov 2:0 (16\,17)
DTSTART;TZID=Europe/Berlin:20211002T180000
DTEND;TZID=Europe/Berlin:20211002T200000
LOCATION:Hala ABC\, Purkyňova 116 Nový Jičín
SUMMARY:MS-ZCI-KB: Vlci Nový Jičín B-VAM Havířov
END:VEVENT
BEGIN:VEVENT
UID:61663866-3732-4432-b339-343164623434
DTSTAMP:20260422T053824Z
DESCRIPTION:4/6 Happy Opava - Vlci Nový Jičín B 2:0 (17\,13)
DTSTART;TZID=Europe/Berlin:20211002T133000
DTEND;TZID=Europe/Berlin:20211002T153000
LOCATION:Hala ABC\, Purkyňova 116 Nový Jičín
SUMMARY:MS-ZCI-KB: Happy Opava-Vlci Nový Jičín B
END:VEVENT
BEGIN:VEVENT
UID:66316464-3330-4837-b036-666130313265
DTSTAMP:20260422T053824Z
DESCRIPTION:6/9 Kojetín - Vlci Nový Jičín B 2:0 (13\,13)
DTSTART;TZID=Europe/Berlin:20211002T163000
DTEND;TZID=Europe/Berlin:20211002T183000
LOCATION:Hala ABC\, Purkyňova 116 Nový Jičín
SUMMARY:MS-ZCI-KB: Kojetín-Vlci Nový Jičín B
END:VEVENT
BEGIN:VEVENT
UID:65613634-3437-4763-b965-303062386366
DTSTAMP:20260422T053824Z
DESCRIPTION:1/2 Vlci Nový Jičín B - VK Ostrava 'B' 2:0 (13\,10)
DTSTART;TZID=Europe/Berlin:20211017T093000
DTEND;TZID=Europe/Berlin:20211017T113000
LOCATION:Sportovní hala Palkovice\,  Palkovice20
SUMMARY:MS-ZCI-T1C: Vlci Nový Jičín B-VK Ostrava 'B'
END:VEVENT
BEGIN:VEVENT
UID:64656639-6665-4439-b631-636561313034
DTSTAMP:20260422T053824Z
DESCRIPTION:3/6 Vlci Nový Jičín B - Happy Opava 0:2 (-11\,-15)
DTSTART;TZID=Europe/Berlin:20211017T123000
DTEND;TZID=Europe/Berlin:20211017T143000
LOCATION:Sportovní hala Palkovice\,  Palkovice20
SUMMARY:MS-ZCI-T1C: Vlci Nový Jičín B-Happy Opava
END:VEVENT
BEGIN:VEVENT
UID:38323730-6339-4837-a661-316132303036
DTSTAMP:20260422T053824Z
DESCRIPTION:2/4 Palkovice - Vlci Nový Jičín B 2:1 (-18\,21\,9)
DTSTART;TZID=Europe/Berlin:20211017T110000
DTEND;TZID=Europe/Berlin:20211017T130000
LOCATION:Sportovní hala Palkovice\,  Palkovice20
SUMMARY:MS-ZCI-T1C: Palkovice-Vlci Nový Jičín B
END:VEVENT
BEGIN:VEVENT
UID:34343865-3139-4263-b534-363165663336
DTSTAMP:20260422T053824Z
DESCRIPTION:3/5 Vlci Nový Jičín B - Blue Ostrava B 0:2 (-17\,-16)
DTSTART;TZID=Europe/Berlin:20211114T120000
DTEND;TZID=Europe/Berlin:20211114T140000
LOCATION:Sportovní hala Slezského gymnázia v Opavě\, Zámecký okruh 461 Opav
 a - Město
SUMMARY:MS-ZCI-T2C: Vlci Nový Jičín B-Blue Ostrava B
END:VEVENT
BEGIN:VEVENT
UID:35643432-3734-4736-b335-303732623163
DTSTAMP:20260422T053824Z
DESCRIPTION:1/2 Happy Opava - Vlci Nový Jičín B 2:0 (15\,22)
DTSTART;TZID=Europe/Berlin:20211114T090000
DTEND;TZID=Europe/Berlin:20211114T110000
LOCATION:Sportovní hala Slezského gymnázia v Opavě\, Zámecký okruh 461 Opav
 a - Město
SUMMARY:MS-ZCI-T2C: Happy Opava-Vlci Nový Jičín B
END:VEVENT
BEGIN:VEVENT
UID:32323033-6534-4132-a631-326637333466
DTSTAMP:20260422T053824Z
DESCRIPTION:2/3 Vol.spolek Ostrava - Vlci Nový Jičín B 1:2 (16\,-7\,-11)
DTSTART;TZID=Europe/Berlin:20211114T103000
DTEND;TZID=Europe/Berlin:20211114T123000
LOCATION:Sportovní hala Slezského gymnázia v Opavě\, Zámecký okruh 461 Opav
 a - Město
SUMMARY:MS-ZCI-T2C: Vol.spolek Ostrava-Vlci Nový Jičín B
END:VEVENT
BEGIN:VEVENT
UID:61313931-6236-4237-b966-316236323837
DTSTAMP:20260422T053824Z
DESCRIPTION:3/5 Vlci Nový Jičín B - Palkovice 1:2 (24\,-24\,-13)
DTSTART;TZID=Europe/Berlin:20211219T120000
DTEND;TZID=Europe/Berlin:20211219T140000
LOCATION:Hala ABC\, Purkyňova 116 Nový Jičín
SUMMARY:MS-ZCI-T3C: Vlci Nový Jičín B-Palkovice
END:VEVENT
BEGIN:VEVENT
UID:61656238-3664-4737-b432-646439383037
DTSTAMP:20260422T053824Z
DESCRIPTION:1/2 Blue Ostrava B - Vlci Nový Jičín B 2:0 (19\,10)
DTSTART;TZID=Europe/Berlin:20211219T090000
DTEND;TZID=Europe/Berlin:20211219T110000
LOCATION:Hala ABC\, Purkyňova 116 Nový Jičín
SUMMARY:MS-ZCI-T3C: Blue Ostrava B-Vlci Nový Jičín B
END:VEVENT
BEGIN:VEVENT
UID:64643864-3334-4635-a330-373265623261
DTSTAMP:20260422T053824Z
DESCRIPTION:2/3 Olomouc - Vlci Nový Jičín B 0:2 (-10\,-17)
DTSTART;TZID=Europe/Berlin:20211219T103000
DTEND;TZID=Europe/Berlin:20211219T123000
LOCATION:Hala ABC\, Purkyňova 116 Nový Jičín
SUMMARY:MS-ZCI-T3C: Olomouc-Vlci Nový Jičín B
END:VEVENT
BEGIN:VEVENT
UID:37343961-3863-4330-b765-643564663065
DTSTAMP:20260422T053824Z
DESCRIPTION:3/5 Vlci Nový Jičín B - Happy Opava 0:2 (-14\,-18)
DTSTART;TZID=Europe/Berlin:20220109T120000
DTEND;TZID=Europe/Berlin:20220109T140000
LOCATION:Hala ABC\, Purkyňova 116 Nový Jičín
SUMMARY:MS-ZCI-T4C: Vlci Nový Jičín B-Happy Opava
END:VEVENT
BEGIN:VEVENT
UID:65313666-3463-4564-b465-336134616636
DTSTAMP:20260422T053824Z
DESCRIPTION:1/2 Blue Ostrava B - Vlci Nový Jičín B 2:1 (-20\,11\,12)
DTSTART;TZID=Europe/Berlin:20220109T090000
DTEND;TZID=Europe/Berlin:20220109T110000
LOCATION:Hala ABC\, Purkyňova 116 Nový Jičín
SUMMARY:MS-ZCI-T4C: Blue Ostrava B-Vlci Nový Jičín B
END:VEVENT
BEGIN:VEVENT
UID:61333433-3638-4035-a637-393434396638
DTSTAMP:20260422T053824Z
DESCRIPTION:2/3 Vol.spolek Ostrava - Vlci Nový Jičín B 0:2 (-24\,-23)
DTSTART;TZID=Europe/Berlin:20220109T103000
DTEND;TZID=Europe/Berlin:20220109T123000
LOCATION:Hala ABC\, Purkyňova 116 Nový Jičín
SUMMARY:MS-ZCI-T4C: Vol.spolek Ostrava-Vlci Nový Jičín B
END:VEVENT
BEGIN:VEVENT
UID:61316566-3637-4135-a436-666131306662
DTSTAMP:20260422T053824Z
DESCRIPTION:2/3 Vlci Nový Jičín B - VK Ostrava 'B' 2:0 (21\,15)
DTSTART;TZID=Europe/Berlin:20220206T103000
DTEND;TZID=Europe/Berlin:20220206T123000
LOCATION:Hala ABC\, Purkyňova 116 Nový Jičín
SUMMARY:MS-ZCI-T5C: Vlci Nový Jičín B-VK Ostrava 'B'
END:VEVENT
BEGIN:VEVENT
UID:31633237-3161-4165-a434-646163316538
DTSTAMP:20260422T053824Z
DESCRIPTION:1/1 Palkovice - Vlci Nový Jičín B 0:2 (-11\,-12)
DTSTART;TZID=Europe/Berlin:20220206T090000
DTEND;TZID=Europe/Berlin:20220206T110000
LOCATION:Hala ABC\, Purkyňova 116 Nový Jičín
SUMMARY:MS-ZCI-T5C: Palkovice-Vlci Nový Jičín B
END:VEVENT
BEGIN:VEVENT
UID:65326162-3336-4335-b763-633336343562
DTSTAMP:20260422T053824Z
DESCRIPTION:4/6 Blue Ostrava B - Vlci Nový Jičín B 2:0 (23\,23)
DTSTART;TZID=Europe/Berlin:20220206T133000
DTEND;TZID=Europe/Berlin:20220206T153000
LOCATION:Hala ABC\, Purkyňova 116 Nový Jičín
SUMMARY:MS-ZCI-T5C: Blue Ostrava B-Vlci Nový Jičín B
END:VEVENT
BEGIN:VEVENT
UID:36376238-3262-4238-a534-303930303431
DTSTAMP:20260422T053824Z
DESCRIPTION:1/2 Vlci Nový Jičín B - Kojetín 0:2 (-17\,-15)
DTSTART;TZID=Europe/Berlin:20220306T090000
DTEND;TZID=Europe/Berlin:20220306T110000
LOCATION:Hala SPŠ\, 28. října 1639 Frýdek-Místek - Místek
SUMMARY:MS-ZCI-T6B: Vlci Nový Jičín B-Kojetín
END:VEVENT
BEGIN:VEVENT
UID:33343333-3438-4337-b635-313364366235
DTSTAMP:20260422T053824Z
DESCRIPTION:5/6 Vlci Nový Jičín B - Green F-M B 0:2 (-12\,-19)
DTSTART;TZID=Europe/Berlin:20220306T150000
DTEND;TZID=Europe/Berlin:20220306T170000
LOCATION:Hala SPŠ\, 28. října 1639 Frýdek-Místek - Místek
SUMMARY:MS-ZCI-T6B: Vlci Nový Jičín B-Green F-M B
END:VEVENT
BEGIN:VEVENT
UID:63666233-6338-4632-a536-646465646634
DTSTAMP:20260422T053824Z
DESCRIPTION:3/4 VK Ostrava 'A' - Vlci Nový Jičín B 2:0 (23\,9)
DTSTART;TZID=Europe/Berlin:20220306T120000
DTEND;TZID=Europe/Berlin:20220306T140000
LOCATION:Hala SPŠ\, 28. října 1639 Frýdek-Místek - Místek
SUMMARY:MS-ZCI-T6B: VK Ostrava 'A'-Vlci Nový Jičín B
END:VEVENT
END:VCALENDAR
