BEGIN:VCALENDAR
VERSION:2.0
PRODID:-//TJ Sokol Palkovice77386//NONSGML kigkonsult.se iCalcreator 2.41.80//
CALSCALE:GREGORIAN
UID:35653963-3065-4966-a364-616131373263
BEGIN:VEVENT
UID:61316562-3035-4538-a433-336463326234
DTSTAMP:20260422T202250Z
DESCRIPTION:1/2 Palkovice - Nový Jičín 0:2 (-13\,-19)
DTSTART;TZID=Europe/Berlin:20211002T090000
DTEND;TZID=Europe/Berlin:20211002T110000
LOCATION:Hala ABC\, Purkyňova 116 Nový Jičín
SUMMARY:MS-ZCI-KC: Palkovice-Nový Jičín
END:VEVENT
BEGIN:VEVENT
UID:32363230-3364-4664-b632-346431646530
DTSTAMP:20260422T202250Z
DESCRIPTION:4/6 Palkovice - Green F-M B 0:2 (-11\,-12)
DTSTART;TZID=Europe/Berlin:20211002T133000
DTEND;TZID=Europe/Berlin:20211002T153000
LOCATION:Hala ABC\, Purkyňova 116 Nový Jičín
SUMMARY:MS-ZCI-KC: Palkovice-Green F-M B
END:VEVENT
BEGIN:VEVENT
UID:64356562-3562-4338-b432-346430636234
DTSTAMP:20260422T202250Z
DESCRIPTION:2/3 Olomouc - Palkovice X:2
DTSTART;TZID=Europe/Berlin:20211002T103000
DTEND;TZID=Europe/Berlin:20211002T123000
LOCATION:Hala ABC\, Purkyňova 116 Nový Jičín
SUMMARY:MS-ZCI-KC: Olomouc-Palkovice
END:VEVENT
BEGIN:VEVENT
UID:66393563-6337-4662-b833-376431376362
DTSTAMP:20260422T202250Z
DESCRIPTION:5/8 VK Ostrava 'A' - Palkovice 2:0 (12\,12)
DTSTART;TZID=Europe/Berlin:20211002T150000
DTEND;TZID=Europe/Berlin:20211002T170000
LOCATION:Hala ABC\, Purkyňova 116 Nový Jičín
SUMMARY:MS-ZCI-KC: VK Ostrava 'A'-Palkovice
END:VEVENT
BEGIN:VEVENT
UID:33336265-3931-4337-a236-663866613330
DTSTAMP:20260422T202250Z
DESCRIPTION:1/1 Palkovice - Happy Opava 2:0 (19\,16)
DTSTART;TZID=Europe/Berlin:20211017T093000
DTEND;TZID=Europe/Berlin:20211017T113000
LOCATION:Sportovní hala Palkovice\,  Palkovice20
SUMMARY:MS-ZCI-T1C: Palkovice-Happy Opava
END:VEVENT
BEGIN:VEVENT
UID:63323763-3736-4538-a332-643031666364
DTSTAMP:20260422T202250Z
DESCRIPTION:2/4 Palkovice - Vlci Nový Jičín B 2:1 (-18\,21\,9)
DTSTART;TZID=Europe/Berlin:20211017T110000
DTEND;TZID=Europe/Berlin:20211017T130000
LOCATION:Sportovní hala Palkovice\,  Palkovice20
SUMMARY:MS-ZCI-T1C: Palkovice-Vlci Nový Jičín B
END:VEVENT
BEGIN:VEVENT
UID:36366261-3637-4162-a137-383432636432
DTSTAMP:20260422T202250Z
DESCRIPTION:3/5 VK Ostrava 'B' - Palkovice 0:2 (-15\,-10)
DTSTART;TZID=Europe/Berlin:20211017T123000
DTEND;TZID=Europe/Berlin:20211017T143000
LOCATION:Sportovní hala Palkovice\,  Palkovice20
SUMMARY:MS-ZCI-T1C: VK Ostrava 'B'-Palkovice
END:VEVENT
BEGIN:VEVENT
UID:30336639-6233-4265-b039-353963313339
DTSTAMP:20260422T202250Z
DESCRIPTION:5/5 Palkovice - VK Ostrava 'A' 0:2 (-18\,-11)
DTSTART;TZID=Europe/Berlin:20211114T150000
DTEND;TZID=Europe/Berlin:20211114T170000
LOCATION:ZŠ Formana\, Františka Formana 268 Ostrava - Dubina
SUMMARY:MS-ZCI-T2B: Palkovice-VK Ostrava 'A'
END:VEVENT
BEGIN:VEVENT
UID:38373032-3063-4032-a362-366466633766
DTSTAMP:20260422T202250Z
DESCRIPTION:2/2 Green F-M B - Palkovice 2:0 (20\,13)
DTSTART;TZID=Europe/Berlin:20211114T103000
DTEND;TZID=Europe/Berlin:20211114T123000
LOCATION:ZŠ Formana\, Františka Formana 268 Ostrava - Dubina
SUMMARY:MS-ZCI-T2B: Green F-M B-Palkovice
END:VEVENT
BEGIN:VEVENT
UID:30333030-3236-4031-a137-613466393238
DTSTAMP:20260422T202250Z
DESCRIPTION:3/3 Blue Ostrava A - Palkovice 2:0 (15\,18)
DTSTART;TZID=Europe/Berlin:20211114T120000
DTEND;TZID=Europe/Berlin:20211114T140000
LOCATION:ZŠ Formana\, Františka Formana 268 Ostrava - Dubina
SUMMARY:MS-ZCI-T2B: Blue Ostrava A-Palkovice
END:VEVENT
BEGIN:VEVENT
UID:31333633-3136-4439-b238-643463343561
DTSTAMP:20260422T202250Z
DESCRIPTION:1/1 Palkovice - Olomouc 2:0 (17\,13)
DTSTART;TZID=Europe/Berlin:20211219T090000
DTEND;TZID=Europe/Berlin:20211219T110000
LOCATION:Hala ABC\, Purkyňova 116 Nový Jičín
SUMMARY:MS-ZCI-T3C: Palkovice-Olomouc
END:VEVENT
BEGIN:VEVENT
UID:33383034-3064-4634-b564-313965353230
DTSTAMP:20260422T202250Z
DESCRIPTION:2/4 Palkovice - Blue Ostrava B 2:0 (23\,22)
DTSTART;TZID=Europe/Berlin:20211219T103000
DTEND;TZID=Europe/Berlin:20211219T123000
LOCATION:Hala ABC\, Purkyňova 116 Nový Jičín
SUMMARY:MS-ZCI-T3C: Palkovice-Blue Ostrava B
END:VEVENT
BEGIN:VEVENT
UID:34343766-6234-4135-b763-313736323031
DTSTAMP:20260422T202250Z
DESCRIPTION:3/5 Vlci Nový Jičín B - Palkovice 1:2 (24\,-24\,-13)
DTSTART;TZID=Europe/Berlin:20211219T120000
DTEND;TZID=Europe/Berlin:20211219T140000
LOCATION:Hala ABC\, Purkyňova 116 Nový Jičín
SUMMARY:MS-ZCI-T3C: Vlci Nový Jičín B-Palkovice
END:VEVENT
BEGIN:VEVENT
UID:31393538-3265-4338-b532-616561643636
DTSTAMP:20260422T202250Z
DESCRIPTION:2/2 Palkovice - Green F-M B 0:2 (-11\,-21)
DTSTART;TZID=Europe/Berlin:20220109T103000
DTEND;TZID=Europe/Berlin:20220109T123000
LOCATION:ZŠ Formana\, Františka Formana 268 Ostrava - Dubina
SUMMARY:MS-ZCI-T4B: Palkovice-Green F-M B
END:VEVENT
BEGIN:VEVENT
UID:63613937-6635-4030-b166-343736383465
DTSTAMP:20260422T202250Z
DESCRIPTION:6/6 Palkovice - Blue Ostrava A 1:2 (-18\,21\,-11)
DTSTART;TZID=Europe/Berlin:20220109T163000
DTEND;TZID=Europe/Berlin:20220109T183000
LOCATION:ZŠ Formana\, Františka Formana 268 Ostrava - Dubina
SUMMARY:MS-ZCI-T4B: Palkovice-Blue Ostrava A
END:VEVENT
BEGIN:VEVENT
UID:31366665-3462-4237-b138-363834343538
DTSTAMP:20260422T202250Z
DESCRIPTION:4/4 VK Ostrava 'A' - Palkovice 2:0 (20\,17)
DTSTART;TZID=Europe/Berlin:20220109T133000
DTEND;TZID=Europe/Berlin:20220109T153000
LOCATION:ZŠ Formana\, Františka Formana 268 Ostrava - Dubina
SUMMARY:MS-ZCI-T4B: VK Ostrava 'A'-Palkovice
END:VEVENT
BEGIN:VEVENT
UID:38626363-3739-4630-a532-346636656364
DTSTAMP:20260422T202250Z
DESCRIPTION:1/1 Palkovice - Vlci Nový Jičín B 0:2 (-11\,-12)
DTSTART;TZID=Europe/Berlin:20220206T090000
DTEND;TZID=Europe/Berlin:20220206T110000
LOCATION:Hala ABC\, Purkyňova 116 Nový Jičín
SUMMARY:MS-ZCI-T5C: Palkovice-Vlci Nový Jičín B
END:VEVENT
BEGIN:VEVENT
UID:38656563-6338-4037-a165-363661353661
DTSTAMP:20260422T202250Z
DESCRIPTION:2/4 Palkovice - Blue Ostrava B 0:2 (-8\,-8)
DTSTART;TZID=Europe/Berlin:20220206T103000
DTEND;TZID=Europe/Berlin:20220206T123000
LOCATION:Hala ABC\, Purkyňova 116 Nový Jičín
SUMMARY:MS-ZCI-T5C: Palkovice-Blue Ostrava B
END:VEVENT
BEGIN:VEVENT
UID:66666239-3461-4433-a231-643164333632
DTSTAMP:20260422T202250Z
DESCRIPTION:3/5 VK Ostrava 'B' - Palkovice 2:0 (22\,11)
DTSTART;TZID=Europe/Berlin:20220206T120000
DTEND;TZID=Europe/Berlin:20220206T140000
LOCATION:Hala ABC\, Purkyňova 116 Nový Jičín
SUMMARY:MS-ZCI-T5C: VK Ostrava 'B'-Palkovice
END:VEVENT
BEGIN:VEVENT
UID:65626332-3934-4539-b362-663133343738
DTSTAMP:20260422T202250Z
DESCRIPTION:4/5 Palkovice - VAM Havířov 0:2 (-9\,-26)
DTSTART;TZID=Europe/Berlin:20220306T133000
DTEND;TZID=Europe/Berlin:20220306T153000
LOCATION:Hala SPŠ\, 28. října 1639 Frýdek-Místek - Místek
SUMMARY:MS-ZCI-T6D: Palkovice-VAM Havířov
END:VEVENT
BEGIN:VEVENT
UID:33613563-3166-4361-a563-633231363438
DTSTAMP:20260422T202250Z
DESCRIPTION:1/2 Vol.spolek Ostrava - Palkovice 0:2 (-23\,-21)
DTSTART;TZID=Europe/Berlin:20220306T090000
DTEND;TZID=Europe/Berlin:20220306T110000
LOCATION:Hala SPŠ\, 28. října 1639 Frýdek-Místek - Místek
SUMMARY:MS-ZCI-T6D: Vol.spolek Ostrava-Palkovice
END:VEVENT
BEGIN:VEVENT
UID:61623661-3130-4065-a333-663163313436
DTSTAMP:20260422T202250Z
DESCRIPTION:2/3 Green Volley Frýdek-Místek\, z.s. C - Palkovice 2:0 (24\,13
 )
DTSTART;TZID=Europe/Berlin:20220306T103000
DTEND;TZID=Europe/Berlin:20220306T123000
LOCATION:Hala SPŠ\, 28. října 1639 Frýdek-Místek - Místek
SUMMARY:MS-ZCI-T6D: Green Volley Frýdek-Místek\, z.s. C-Palkovice
END:VEVENT
END:VCALENDAR
