BEGIN:VCALENDAR
VERSION:2.0
PRODID:-//Volejbalový klub Ostrava, z.s. B77388//NONSGML kigkonsult.se iCalcreator 2.41.80//
CALSCALE:GREGORIAN
UID:65383530-3636-4534-a565-336334373139
BEGIN:VEVENT
UID:35326338-3065-4265-b232-383039646561
DTSTAMP:20260422T053849Z
DESCRIPTION:4/7 VK Ostrava 'B' - Vol.spolek Ostrava 2:0 (23\,19)
DTSTART;TZID=Europe/Berlin:20211003T133000
DTEND;TZID=Europe/Berlin:20211003T153000
LOCATION:Hala SPŠ\, 28. října 1639 Frýdek-Místek - Místek
SUMMARY:MS-ZCI-KA: VK Ostrava 'B'-Vol.spolek Ostrava
END:VEVENT
BEGIN:VEVENT
UID:31323436-3531-4865-a135-343134343064
DTSTAMP:20260422T053849Z
DESCRIPTION:5/10 VK Ostrava 'B' - Blue Ostrava A 0:2 (-10\,-21)
DTSTART;TZID=Europe/Berlin:20211003T150000
DTEND;TZID=Europe/Berlin:20211003T170000
LOCATION:Hala SPŠ\, 28. října 1639 Frýdek-Místek - Místek
SUMMARY:MS-ZCI-KA: VK Ostrava 'B'-Blue Ostrava A
END:VEVENT
BEGIN:VEVENT
UID:63386438-3962-4537-b236-376461383133
DTSTAMP:20260422T053849Z
DESCRIPTION:2/4 Frýdek-Místek - VK Ostrava 'B' 2:0 (4\,7)
DTSTART;TZID=Europe/Berlin:20211003T103000
DTEND;TZID=Europe/Berlin:20211003T123000
LOCATION:Hala SPŠ\, 28. října 1639 Frýdek-Místek - Místek
SUMMARY:MS-ZCI-KA: Frýdek-Místek-VK Ostrava 'B'
END:VEVENT
BEGIN:VEVENT
UID:35653164-3431-4733-a230-383864373565
DTSTAMP:20260422T053849Z
DESCRIPTION:3/5 Frýdlant n. O. - VK Ostrava 'B' 2:0 (14\,19)
DTSTART;TZID=Europe/Berlin:20211003T120000
DTEND;TZID=Europe/Berlin:20211003T140000
LOCATION:Hala SPŠ\, 28. října 1639 Frýdek-Místek - Místek
SUMMARY:MS-ZCI-KA: Frýdlant n. O.-VK Ostrava 'B'
END:VEVENT
BEGIN:VEVENT
UID:32353837-3330-4365-b365-323462363338
DTSTAMP:20260422T053849Z
DESCRIPTION:3/5 VK Ostrava 'B' - Palkovice 0:2 (-15\,-10)
DTSTART;TZID=Europe/Berlin:20211017T123000
DTEND;TZID=Europe/Berlin:20211017T143000
LOCATION:Sportovní hala Palkovice\,  Palkovice20
SUMMARY:MS-ZCI-T1C: VK Ostrava 'B'-Palkovice
END:VEVENT
BEGIN:VEVENT
UID:30633865-3230-4961-a635-636464363166
DTSTAMP:20260422T053849Z
DESCRIPTION:1/2 Vlci Nový Jičín B - VK Ostrava 'B' 2:0 (13\,10)
DTSTART;TZID=Europe/Berlin:20211017T093000
DTEND;TZID=Europe/Berlin:20211017T113000
LOCATION:Sportovní hala Palkovice\,  Palkovice20
SUMMARY:MS-ZCI-T1C: Vlci Nový Jičín B-VK Ostrava 'B'
END:VEVENT
BEGIN:VEVENT
UID:66346261-3438-4536-a432-373334303037
DTSTAMP:20260422T053849Z
DESCRIPTION:2/3 Happy Opava - VK Ostrava 'B' 2:0 (6\,13)
DTSTART;TZID=Europe/Berlin:20211017T110000
DTEND;TZID=Europe/Berlin:20211017T130000
LOCATION:Sportovní hala Palkovice\,  Palkovice20
SUMMARY:MS-ZCI-T1C: Happy Opava-VK Ostrava 'B'
END:VEVENT
BEGIN:VEVENT
UID:32633439-3237-4062-b761-623262623931
DTSTAMP:20260422T053849Z
DESCRIPTION:1/1 VK Ostrava 'B' - Green Volley Frýdek-Místek\, z.s. C 2:1 (1
 2\,-23\,13)
DTSTART;TZID=Europe/Berlin:20211114T090000
DTEND;TZID=Europe/Berlin:20211114T110000
LOCATION:Hala SPŠ\, 28. října 1639 Frýdek-Místek - Místek
SUMMARY:MS-ZCI-T2D: VK Ostrava 'B'-Green Volley Frýdek-Místek\, z.s. C
END:VEVENT
BEGIN:VEVENT
UID:66643831-3035-4563-b439-653238666435
DTSTAMP:20260422T053849Z
DESCRIPTION:2/4 VK Ostrava 'B' - Olomouc 0:2 (-15\,-24)
DTSTART;TZID=Europe/Berlin:20211114T103000
DTEND;TZID=Europe/Berlin:20211114T123000
LOCATION:Hala SPŠ\, 28. října 1639 Frýdek-Místek - Místek
SUMMARY:MS-ZCI-T2D: VK Ostrava 'B'-Olomouc
END:VEVENT
BEGIN:VEVENT
UID:31663137-6663-4766-b433-633031323864
DTSTAMP:20260422T053849Z
DESCRIPTION:3/5 VAM Havířov - VK Ostrava 'B' 1:2 (-13\,21\,-13)
DTSTART;TZID=Europe/Berlin:20211114T120000
DTEND;TZID=Europe/Berlin:20211114T140000
LOCATION:Hala SPŠ\, 28. října 1639 Frýdek-Místek - Místek
SUMMARY:MS-ZCI-T2D: VAM Havířov-VK Ostrava 'B'
END:VEVENT
BEGIN:VEVENT
UID:64393634-6536-4137-a366-363662316635
DTSTAMP:20260422T053849Z
DESCRIPTION:1/2 VK Ostrava 'B' - VAM Havířov 2:0 (17\,15)
DTSTART;TZID=Europe/Berlin:20211219T090000
DTEND;TZID=Europe/Berlin:20211219T110000
LOCATION:Hala SPŠ\, 28. října 1639 Frýdek-Místek - Místek
SUMMARY:MS-ZCI-T3D: VK Ostrava 'B'-VAM Havířov
END:VEVENT
BEGIN:VEVENT
UID:61643435-3338-4365-b132-626361656131
DTSTAMP:20260422T053849Z
DESCRIPTION:4/6 VK Ostrava 'B' - Green F-M B 2:0 (19\,19)
DTSTART;TZID=Europe/Berlin:20211219T133000
DTEND;TZID=Europe/Berlin:20211219T153000
LOCATION:Hala SPŠ\, 28. října 1639 Frýdek-Místek - Místek
SUMMARY:MS-ZCI-T3D: VK Ostrava 'B'-Green F-M B
END:VEVENT
BEGIN:VEVENT
UID:61616332-3533-4431-a339-343036376265
DTSTAMP:20260422T053849Z
DESCRIPTION:2/4 Vol.spolek Ostrava - VK Ostrava 'B' 2:0 (19\,21)
DTSTART;TZID=Europe/Berlin:20211219T103000
DTEND;TZID=Europe/Berlin:20211219T123000
LOCATION:Hala SPŠ\, 28. října 1639 Frýdek-Místek - Místek
SUMMARY:MS-ZCI-T3D: Vol.spolek Ostrava-VK Ostrava 'B'
END:VEVENT
BEGIN:VEVENT
UID:65666163-3164-4263-b365-373234396231
DTSTAMP:20260422T053849Z
DESCRIPTION:1/2 VK Ostrava 'B' - VAM Havířov 2:0 (20\,13)
DTSTART;TZID=Europe/Berlin:20220109T090000
DTEND;TZID=Europe/Berlin:20220109T110000
LOCATION:Hala SPŠ\, 28. října 1639 Frýdek-Místek - Místek
SUMMARY:MS-ZCI-T4D: VK Ostrava 'B'-VAM Havířov
END:VEVENT
BEGIN:VEVENT
UID:65636466-3636-4361-b962-663734313832
DTSTAMP:20260422T053849Z
DESCRIPTION:3/6 VK Ostrava 'B' - Green Volley Frýdek-Místek\, z.s. C 2:0 (1
 6\,16)
DTSTART;TZID=Europe/Berlin:20220109T120000
DTEND;TZID=Europe/Berlin:20220109T140000
LOCATION:Hala SPŠ\, 28. října 1639 Frýdek-Místek - Místek
SUMMARY:MS-ZCI-T4D: VK Ostrava 'B'-Green Volley Frýdek-Místek\, z.s. C
END:VEVENT
BEGIN:VEVENT
UID:37363265-6463-4633-b637-373537313732
DTSTAMP:20260422T053849Z
DESCRIPTION:2/4 Olomouc - VK Ostrava 'B' 0:2 (-23\,-19)
DTSTART;TZID=Europe/Berlin:20220109T103000
DTEND;TZID=Europe/Berlin:20220109T123000
LOCATION:Hala SPŠ\, 28. října 1639 Frýdek-Místek - Místek
SUMMARY:MS-ZCI-T4D: Olomouc-VK Ostrava 'B'
END:VEVENT
BEGIN:VEVENT
UID:32636135-6565-4464-b435-636465643938
DTSTAMP:20260422T053849Z
DESCRIPTION:3/5 VK Ostrava 'B' - Palkovice 2:0 (22\,11)
DTSTART;TZID=Europe/Berlin:20220206T120000
DTEND;TZID=Europe/Berlin:20220206T140000
LOCATION:Hala ABC\, Purkyňova 116 Nový Jičín
SUMMARY:MS-ZCI-T5C: VK Ostrava 'B'-Palkovice
END:VEVENT
BEGIN:VEVENT
UID:34646532-3363-4635-a563-396331643466
DTSTAMP:20260422T053849Z
DESCRIPTION:1/2 Blue Ostrava B - VK Ostrava 'B' 0:2 (-19\,-24)
DTSTART;TZID=Europe/Berlin:20220206T090000
DTEND;TZID=Europe/Berlin:20220206T110000
LOCATION:Hala ABC\, Purkyňova 116 Nový Jičín
SUMMARY:MS-ZCI-T5C: Blue Ostrava B-VK Ostrava 'B'
END:VEVENT
BEGIN:VEVENT
UID:37623663-6530-4535-b539-336432643132
DTSTAMP:20260422T053849Z
DESCRIPTION:2/3 Vlci Nový Jičín B - VK Ostrava 'B' 2:0 (21\,15)
DTSTART;TZID=Europe/Berlin:20220206T103000
DTEND;TZID=Europe/Berlin:20220206T123000
LOCATION:Hala ABC\, Purkyňova 116 Nový Jičín
SUMMARY:MS-ZCI-T5C: Vlci Nový Jičín B-VK Ostrava 'B'
END:VEVENT
BEGIN:VEVENT
UID:64643332-3264-4632-b338-643233633532
DTSTAMP:20260422T053849Z
DESCRIPTION:3/5 VK Ostrava 'B' - Happy Opava 0:2 (-11\,-16)
DTSTART;TZID=Europe/Berlin:20220306T120000
DTEND;TZID=Europe/Berlin:20220306T140000
LOCATION:Sportovní hala Slezského gymnázia v Opavě\, Zámecký okruh 461 Opav
 a - Město
SUMMARY:MS-ZCI-T6C: VK Ostrava 'B'-Happy Opava
END:VEVENT
BEGIN:VEVENT
UID:31313834-3830-4761-b364-336634333430
DTSTAMP:20260422T053849Z
DESCRIPTION:1/2 Blue Ostrava B - VK Ostrava 'B' 2:0 (18\,13)
DTSTART;TZID=Europe/Berlin:20220306T090000
DTEND;TZID=Europe/Berlin:20220306T110000
LOCATION:Sportovní hala Slezského gymnázia v Opavě\, Zámecký okruh 461 Opav
 a - Město
SUMMARY:MS-ZCI-T6C: Blue Ostrava B-VK Ostrava 'B'
END:VEVENT
BEGIN:VEVENT
UID:36653763-6139-4465-a630-323233623361
DTSTAMP:20260422T053849Z
DESCRIPTION:2/3 Olomouc - VK Ostrava 'B' X:2
DTSTART;TZID=Europe/Berlin:20220306T103000
DTEND;TZID=Europe/Berlin:20220306T123000
LOCATION:Sportovní hala Slezského gymnázia v Opavě\, Zámecký okruh 461 Opav
 a - Město
SUMMARY:MS-ZCI-T6C: Olomouc-VK Ostrava 'B'
END:VEVENT
END:VCALENDAR
