BEGIN:VCALENDAR
VERSION:2.0
PRODID:-//Sportovní klub Slezan Orlová, spolek77403//NONSGML kigkonsult.se iCalcreator 2.41.80//
CALSCALE:GREGORIAN
UID:37643162-6263-4239-b165-653135346332
BEGIN:VEVENT
UID:39333932-6137-4863-b263-313934366238
DTSTAMP:20260422T075419Z
DESCRIPTION:1/1 Sportovní klub Slezan Orlová\, spolek - TJ Sokol F. - Míste
 k 2:0 (6\,15)
DTSTART;TZID=Europe/Berlin:20211003T090000
DTEND;TZID=Europe/Berlin:20211003T110000
LOCATION:Víceúčelová sportovní hala\,  Raškovice18
SUMMARY:MS-ZKY-KC: Sportovní klub Slezan Orlová\, spolek-TJ Sokol F. - Míst
 ek
END:VEVENT
BEGIN:VEVENT
UID:30353339-3632-4161-a638-376331666237
DTSTAMP:20260422T075419Z
DESCRIPTION:3/3 Sportovní klub Slezan Orlová\, spolek - TJ Hlučín 2:0 (5\,1
 5)
DTSTART;TZID=Europe/Berlin:20211003T120000
DTEND;TZID=Europe/Berlin:20211003T140000
LOCATION:Víceúčelová sportovní hala\,  Raškovice18
SUMMARY:MS-ZKY-KC: Sportovní klub Slezan Orlová\, spolek-TJ Hlučín
END:VEVENT
BEGIN:VEVENT
UID:32623136-3335-4734-b436-613838306134
DTSTAMP:20260422T075419Z
DESCRIPTION:4/5 Sportovní klub Slezan Orlová\, spolek - TJ Ostrava 'B' 2:0 
 (11\,20)
DTSTART;TZID=Europe/Berlin:20211003T133000
DTEND;TZID=Europe/Berlin:20211003T153000
LOCATION:Víceúčelová sportovní hala\,  Raškovice18
SUMMARY:MS-ZKY-KC: Sportovní klub Slezan Orlová\, spolek-TJ Ostrava 'B'
END:VEVENT
BEGIN:VEVENT
UID:39396133-3161-4236-b530-303235323366
DTSTAMP:20260422T075419Z
DESCRIPTION:1/1 Sportovní klub Slezan Orlová\, spolek - TJ Ostrava 'B' 2:0 
 (15\,15)
DTSTART;TZID=Europe/Berlin:20211024T090000
DTEND;TZID=Europe/Berlin:20211024T110000
LOCATION:Tělocvičny ZŠ 17.listopadu Kopřivnice\, 17. listopadu 1225 Kopřivn
 ice
SUMMARY:MS-ZKY-T1B: Sportovní klub Slezan Orlová\, spolek-TJ Ostrava 'B'
END:VEVENT
BEGIN:VEVENT
UID:35383331-3034-4737-b161-386666653039
DTSTAMP:20260422T075419Z
DESCRIPTION:2/3 Sportovní klub Slezan Orlová\, spolek - KV Kopřivnice 2:1 (
 13\,-23\,14)
DTSTART;TZID=Europe/Berlin:20211024T103000
DTEND;TZID=Europe/Berlin:20211024T123000
LOCATION:Tělocvičny ZŠ 17.listopadu Kopřivnice\, 17. listopadu 1225 Kopřivn
 ice
SUMMARY:MS-ZKY-T1B: Sportovní klub Slezan Orlová\, spolek-KV Kopřivnice
END:VEVENT
BEGIN:VEVENT
UID:33666239-3265-4436-a331-363663313633
DTSTAMP:20260422T075419Z
DESCRIPTION:3/5 Sportovní klub Slezan Orlová\, spolek - Opava 0:2 (-15\,-18
 )
DTSTART;TZID=Europe/Berlin:20211024T120000
DTEND;TZID=Europe/Berlin:20211024T140000
LOCATION:Tělocvičny ZŠ 17.listopadu Kopřivnice\, 17. listopadu 1225 Kopřivn
 ice
SUMMARY:MS-ZKY-T1B: Sportovní klub Slezan Orlová\, spolek-Opava
END:VEVENT
BEGIN:VEVENT
UID:62353561-3639-4766-b232-646638303632
DTSTAMP:20260422T075419Z
DESCRIPTION:1/2 Sportovní klub Slezan Orlová\, spolek - KV Kopřivnice 2:0 (
 22\,19)\nodloženo\, COVID
DTSTART;TZID=Europe/Berlin:20211114T090000
DTEND;TZID=Europe/Berlin:20211114T110000
LOCATION:Víceúčelová sportovní hala\,  Raškovice18
SUMMARY:MS-ZKY-T2B: Sportovní klub Slezan Orlová\, spolek-KV Kopřivnice
END:VEVENT
BEGIN:VEVENT
UID:35663834-6432-4339-a333-636234376339
DTSTAMP:20260422T075419Z
DESCRIPTION:2/4 Sportovní klub Slezan Orlová\, spolek - VK Raškovice 2:0 (1
 5\,21)\nodloženo\, COVID
DTSTART;TZID=Europe/Berlin:20211114T103000
DTEND;TZID=Europe/Berlin:20211114T123000
LOCATION:Víceúčelová sportovní hala\,  Raškovice18
SUMMARY:MS-ZKY-T2B: Sportovní klub Slezan Orlová\, spolek-VK Raškovice
END:VEVENT
BEGIN:VEVENT
UID:37646138-3839-4236-b261-613966326162
DTSTAMP:20260422T075419Z
DESCRIPTION:3/5 ŠSK Bílovec - Sportovní klub Slezan Orlová\, spolek 2:0 (17
 \,9)\nodloženo\, COVID
DTSTART;TZID=Europe/Berlin:20211114T120000
DTEND;TZID=Europe/Berlin:20211114T140000
LOCATION:Víceúčelová sportovní hala\,  Raškovice18
SUMMARY:MS-ZKY-T2B: ŠSK Bílovec-Sportovní klub Slezan Orlová\, spolek
END:VEVENT
BEGIN:VEVENT
UID:39353265-6266-4266-a437-616532326666
DTSTAMP:20260422T075419Z
DESCRIPTION:1/1 Opava - Sportovní klub Slezan Orlová\, spolek 2:1 (12\,-21\
 ,4)
DTSTART;TZID=Europe/Berlin:20211212T090000
DTEND;TZID=Europe/Berlin:20211212T110000
LOCATION:Sportovní hala Gymnázium Orlová\, Masarykova třída 1313 Orlová - L
 utyně
SUMMARY:MS-ZKY-T3A: Opava-Sportovní klub Slezan Orlová\, spolek
END:VEVENT
BEGIN:VEVENT
UID:36373862-6632-4238-a330-373832626266
DTSTAMP:20260422T075419Z
DESCRIPTION:2/4 Frýdek-Místek - Sportovní klub Slezan Orlová\, spolek 2:0 (
 21\,16)
DTSTART;TZID=Europe/Berlin:20211212T103000
DTEND;TZID=Europe/Berlin:20211212T123000
LOCATION:Sportovní hala Gymnázium Orlová\, Masarykova třída 1313 Orlová - L
 utyně
SUMMARY:MS-ZKY-T3A: Frýdek-Místek-Sportovní klub Slezan Orlová\, spolek
END:VEVENT
BEGIN:VEVENT
UID:38393633-3036-4462-a130-303338396561
DTSTAMP:20260422T075419Z
DESCRIPTION:3/6 Ostrava - Sportovní klub Slezan Orlová\, spolek 2:0 (17\,20
 )
DTSTART;TZID=Europe/Berlin:20211212T120000
DTEND;TZID=Europe/Berlin:20211212T140000
LOCATION:Sportovní hala Gymnázium Orlová\, Masarykova třída 1313 Orlová - L
 utyně
SUMMARY:MS-ZKY-T3A: Ostrava-Sportovní klub Slezan Orlová\, spolek
END:VEVENT
BEGIN:VEVENT
UID:66306439-3364-4365-a130-326335333936
DTSTAMP:20260422T075419Z
DESCRIPTION:1/1 Sportovní klub Slezan Orlová\, spolek - TJ Frenštát pod Rad
 hoštěm\, spolek 2:0 (20\,12)
DTSTART;TZID=Europe/Berlin:20220116T090000
DTEND;TZID=Europe/Berlin:20220116T110000
LOCATION:Tělocvična ZŠ Záhuní\, Frenštát\, Záhuní 408 Frenštát pod Radhoště
 m
SUMMARY:MS-ZKY-T4B: Sportovní klub Slezan Orlová\, spolek-TJ Frenštát pod R
 adhoštěm\, spolek
END:VEVENT
BEGIN:VEVENT
UID:36303064-3036-4131-b639-356137656333
DTSTAMP:20260422T075419Z
DESCRIPTION:2/3 Sportovní klub Slezan Orlová\, spolek - TJ Ostrava 'B' 2:1 
 (-20\,21\,8)
DTSTART;TZID=Europe/Berlin:20220116T103000
DTEND;TZID=Europe/Berlin:20220116T123000
LOCATION:Tělocvična ZŠ Záhuní\, Frenštát\, Záhuní 408 Frenštát pod Radhoště
 m
SUMMARY:MS-ZKY-T4B: Sportovní klub Slezan Orlová\, spolek-TJ Ostrava 'B'
END:VEVENT
BEGIN:VEVENT
UID:36363663-6461-4461-a132-343435356334
DTSTAMP:20260422T075419Z
DESCRIPTION:3/5 Sportovní klub Slezan Orlová\, spolek - ŠSK Bílovec 2:1 (-2
 1\,23\,11)
DTSTART;TZID=Europe/Berlin:20220116T120000
DTEND;TZID=Europe/Berlin:20220116T140000
LOCATION:Tělocvična ZŠ Záhuní\, Frenštát\, Záhuní 408 Frenštát pod Radhoště
 m
SUMMARY:MS-ZKY-T4B: Sportovní klub Slezan Orlová\, spolek-ŠSK Bílovec
END:VEVENT
BEGIN:VEVENT
UID:61393139-3666-4163-b636-373238646334
DTSTAMP:20260422T075419Z
DESCRIPTION:1/1 Frýdek-Místek - Sportovní klub Slezan Orlová\, spolek 2:0 (
 13\,11)
DTSTART;TZID=Europe/Berlin:20220213T090000
DTEND;TZID=Europe/Berlin:20220213T110000
LOCATION:Sportovní hala Gymnázium Orlová\, Masarykova třída 1313 Orlová - L
 utyně
SUMMARY:MS-ZKY-T5A: Frýdek-Místek-Sportovní klub Slezan Orlová\, spolek
END:VEVENT
BEGIN:VEVENT
UID:66393736-3833-4230-b766-626132336462
DTSTAMP:20260422T075419Z
DESCRIPTION:2/4 Opava - Sportovní klub Slezan Orlová\, spolek 2:0 (19\,13)
DTSTART;TZID=Europe/Berlin:20220213T103000
DTEND;TZID=Europe/Berlin:20220213T123000
LOCATION:Sportovní hala Gymnázium Orlová\, Masarykova třída 1313 Orlová - L
 utyně
SUMMARY:MS-ZKY-T5A: Opava-Sportovní klub Slezan Orlová\, spolek
END:VEVENT
BEGIN:VEVENT
UID:66613330-6234-4961-a136-623761353766
DTSTAMP:20260422T075419Z
DESCRIPTION:3/6 Ostrava - Sportovní klub Slezan Orlová\, spolek 2:0 (15\,19
 )
DTSTART;TZID=Europe/Berlin:20220213T120000
DTEND;TZID=Europe/Berlin:20220213T140000
LOCATION:Sportovní hala Gymnázium Orlová\, Masarykova třída 1313 Orlová - L
 utyně
SUMMARY:MS-ZKY-T5A: Ostrava-Sportovní klub Slezan Orlová\, spolek
END:VEVENT
BEGIN:VEVENT
UID:36383465-3163-4266-b632-313036313439
DTSTAMP:20260422T075419Z
DESCRIPTION:1/1 Sportovní klub Slezan Orlová\, spolek - Volejbalový klub Ky
 lešovice\, z.s. 2:1 (14\,-22\,11)
DTSTART;TZID=Europe/Berlin:20220313T090000
DTEND;TZID=Europe/Berlin:20220313T110000
LOCATION:tělocvična u ZŠ Dobrá\,  Dobrá860
SUMMARY:MS-ZKY-T6B: Sportovní klub Slezan Orlová\, spolek-Volejbalový klub 
 Kylešovice\, z.s.
END:VEVENT
BEGIN:VEVENT
UID:61393937-6363-4431-a335-383132376432
DTSTAMP:20260422T075419Z
DESCRIPTION:2/3 Sportovní klub Slezan Orlová\, spolek - TJ Frenštát pod Rad
 hoštěm\, spolek 2:0 (22\,15)
DTSTART;TZID=Europe/Berlin:20220313T103000
DTEND;TZID=Europe/Berlin:20220313T123000
LOCATION:tělocvična u ZŠ Dobrá\,  Dobrá860
SUMMARY:MS-ZKY-T6B: Sportovní klub Slezan Orlová\, spolek-TJ Frenštát pod R
 adhoštěm\, spolek
END:VEVENT
BEGIN:VEVENT
UID:37653533-6335-4265-b232-303831313639
DTSTAMP:20260422T075419Z
DESCRIPTION:3/5 Sportovní klub Slezan Orlová\, spolek - VK Raškovice 2:0 (8
 \,21)
DTSTART;TZID=Europe/Berlin:20220313T120000
DTEND;TZID=Europe/Berlin:20220313T140000
LOCATION:tělocvična u ZŠ Dobrá\,  Dobrá860
SUMMARY:MS-ZKY-T6B: Sportovní klub Slezan Orlová\, spolek-VK Raškovice
END:VEVENT
END:VCALENDAR
