BEGIN:VCALENDAR
VERSION:2.0
PRODID:-//VK Polanka nad Odrou, z.s. "B"77405//NONSGML kigkonsult.se iCalcreator 2.41.80//
CALSCALE:GREGORIAN
UID:65653339-6165-4365-b063-323631643661
BEGIN:VEVENT
UID:37333066-3132-4362-b237-313336346632
DTSTAMP:20260422T085134Z
DESCRIPTION:1/1 Opava - VK Polanka nad Odrou\, z.s.'B' 2:0 (8\,12)
DTSTART;TZID=Europe/Berlin:20211003T090000
DTEND;TZID=Europe/Berlin:20211003T110000
LOCATION:Hala ZŠ Komenského\, Komenského 701 Bílovec
SUMMARY:MS-ZKY-KD: Opava-VK Polanka nad Odrou\, z.s.'B'
END:VEVENT
BEGIN:VEVENT
UID:61396530-3036-4437-a333-396137356636
DTSTAMP:20260422T085134Z
DESCRIPTION:2/4 KV Kopřivnice - VK Polanka nad Odrou\, z.s.'B' 2:0 (11\,12)
DTSTART;TZID=Europe/Berlin:20211003T103000
DTEND;TZID=Europe/Berlin:20211003T123000
LOCATION:Hala ZŠ Komenského\, Komenského 701 Bílovec
SUMMARY:MS-ZKY-KD: KV Kopřivnice-VK Polanka nad Odrou\, z.s.'B'
END:VEVENT
BEGIN:VEVENT
UID:37613639-6366-4534-b432-396635366638
DTSTAMP:20260422T085134Z
DESCRIPTION:4/6 SVK Nový Jičín 'C' - VK Polanka nad Odrou\, z.s.'B' 2:0 (15
 \,24)
DTSTART;TZID=Europe/Berlin:20211003T133000
DTEND;TZID=Europe/Berlin:20211003T153000
LOCATION:Hala ZŠ Komenského\, Komenského 701 Bílovec
SUMMARY:MS-ZKY-KD: SVK Nový Jičín 'C'-VK Polanka nad Odrou\, z.s.'B'
END:VEVENT
BEGIN:VEVENT
UID:65666337-3566-4736-b535-386339336233
DTSTAMP:20260422T085134Z
DESCRIPTION:1/1 VK Polanka nad Odrou\, z.s.'B' - Tělovýchovná jednota Sokol
  Stará Bělá\, z.s. 2:0 (6\,7)
DTSTART;TZID=Europe/Berlin:20211024T090000
DTEND;TZID=Europe/Berlin:20211024T110000
LOCATION:Sportovní hala\, Heleny Salichové 1275 Ostrava - Polanka nad Odrou
SUMMARY:MS-ZKY-T1F: VK Polanka nad Odrou\, z.s.'B'-Tělovýchovná jednota Sok
 ol Stará Bělá\, z.s.
END:VEVENT
BEGIN:VEVENT
UID:34643434-3564-4536-b637-343032343462
DTSTAMP:20260422T085134Z
DESCRIPTION:2/3 VK Polanka nad Odrou\, z.s.'B' - VK Polanka nad Odrou\, z.s
 . 'A' 0:2 (-16\,-17)
DTSTART;TZID=Europe/Berlin:20211024T103000
DTEND;TZID=Europe/Berlin:20211024T123000
LOCATION:Sportovní hala\, Heleny Salichové 1275 Ostrava - Polanka nad Odrou
SUMMARY:MS-ZKY-T1F: VK Polanka nad Odrou\, z.s.'B'-VK Polanka nad Odrou\, z
 .s. 'A'
END:VEVENT
BEGIN:VEVENT
UID:61356264-3666-4363-a535-393764306233
DTSTAMP:20260422T085134Z
DESCRIPTION:3/5 VK Polanka nad Odrou\, z.s.'B' - VO Slezská Orlice\, z.s. 1
 :2 (-18\,23\,-3)
DTSTART;TZID=Europe/Berlin:20211024T120000
DTEND;TZID=Europe/Berlin:20211024T140000
LOCATION:Sportovní hala\, Heleny Salichové 1275 Ostrava - Polanka nad Odrou
SUMMARY:MS-ZKY-T1F: VK Polanka nad Odrou\, z.s.'B'-VO Slezská Orlice\, z.s.
END:VEVENT
BEGIN:VEVENT
UID:32343730-6461-4938-b362-616130363835
DTSTAMP:20260422T085134Z
DESCRIPTION:3/6 VK Polanka nad Odrou\, z.s.'B' - Tělovýchovná jednota Sokol
  Stará Bělá\, z.s. 2:0 (13\,11)
DTSTART;TZID=Europe/Berlin:20211114T120000
DTEND;TZID=Europe/Berlin:20211114T140000
LOCATION:Sportovní hala\, Tyršova 1668 Hlučín
SUMMARY:MS-ZKY-T2F: VK Polanka nad Odrou\, z.s.'B'-Tělovýchovná jednota Sok
 ol Stará Bělá\, z.s.
END:VEVENT
BEGIN:VEVENT
UID:66396266-6263-4339-b630-383432623865
DTSTAMP:20260422T085134Z
DESCRIPTION:1/2 VO Slezská Orlice\, z.s. - VK Polanka nad Odrou\, z.s.'B' 2
 :1 (17\,-17\,12)
DTSTART;TZID=Europe/Berlin:20211114T090000
DTEND;TZID=Europe/Berlin:20211114T110000
LOCATION:Sportovní hala\, Tyršova 1668 Hlučín
SUMMARY:MS-ZKY-T2F: VO Slezská Orlice\, z.s.-VK Polanka nad Odrou\, z.s.'B'
END:VEVENT
BEGIN:VEVENT
UID:34656235-6635-4037-b335-666536366335
DTSTAMP:20260422T085134Z
DESCRIPTION:2/3 TJ Hlučín - VK Polanka nad Odrou\, z.s.'B' 0:2 (-4\,-13)
DTSTART;TZID=Europe/Berlin:20211114T103000
DTEND;TZID=Europe/Berlin:20211114T123000
LOCATION:Sportovní hala\, Tyršova 1668 Hlučín
SUMMARY:MS-ZKY-T2F: TJ Hlučín-VK Polanka nad Odrou\, z.s.'B'
END:VEVENT
BEGIN:VEVENT
UID:62316164-6433-4434-b137-313164313835
DTSTAMP:20260422T085134Z
DESCRIPTION:1/2 VK Polanka nad Odrou\, z.s.'B' - TJ Hlučín 2:0 (23\,15)
DTSTART;TZID=Europe/Berlin:20211212T090000
DTEND;TZID=Europe/Berlin:20211212T110000
LOCATION:Sportovní hala\, Heleny Salichové 1275 Ostrava - Polanka nad Odrou
SUMMARY:MS-ZKY-T3F: VK Polanka nad Odrou\, z.s.'B'-TJ Hlučín
END:VEVENT
BEGIN:VEVENT
UID:63626539-6536-4465-b335-366539393433
DTSTAMP:20260422T085134Z
DESCRIPTION:2/4 VK Polanka nad Odrou\, z.s.'B' - Tělovýchovná jednota Sokol
  Stará Bělá\, z.s. 2:0 (10\,14)
DTSTART;TZID=Europe/Berlin:20211212T103000
DTEND;TZID=Europe/Berlin:20211212T123000
LOCATION:Sportovní hala\, Heleny Salichové 1275 Ostrava - Polanka nad Odrou
SUMMARY:MS-ZKY-T3F: VK Polanka nad Odrou\, z.s.'B'-Tělovýchovná jednota Sok
 ol Stará Bělá\, z.s.
END:VEVENT
BEGIN:VEVENT
UID:37313631-6634-4662-b966-346266633638
DTSTAMP:20260422T085134Z
DESCRIPTION:3/5 VK Polanka nad Odrou\, z.s. 'A' - VK Polanka nad Odrou\, z.
 s.'B' 2:1 (11\,-15\,7)
DTSTART;TZID=Europe/Berlin:20211212T120000
DTEND;TZID=Europe/Berlin:20211212T140000
LOCATION:Sportovní hala\, Heleny Salichové 1275 Ostrava - Polanka nad Odrou
SUMMARY:MS-ZKY-T3F: VK Polanka nad Odrou\, z.s. 'A'-VK Polanka nad Odrou\, 
 z.s.'B'
END:VEVENT
BEGIN:VEVENT
UID:37643232-3534-4535-a664-316564353562
DTSTAMP:20260422T085134Z
DESCRIPTION:1/2 VK Polanka nad Odrou\, z.s.'B' - Tělovýchovná jednota Sokol
  Stará Bělá\, z.s. 2:0 (8\,10)
DTSTART;TZID=Europe/Berlin:20220116T090000
DTEND;TZID=Europe/Berlin:20220116T110000
LOCATION:ZŠ Janáčkovo náměstí 17\, Janáčkovo náměstí 1970 Krnov - Pod Bezru
 čovým vrchem
SUMMARY:MS-ZKY-T4F: VK Polanka nad Odrou\, z.s.'B'-Tělovýchovná jednota Sok
 ol Stará Bělá\, z.s.
END:VEVENT
BEGIN:VEVENT
UID:32646331-3731-4131-a665-393837663462
DTSTAMP:20260422T085134Z
DESCRIPTION:2/4 VK Polanka nad Odrou\, z.s.'B' - TJ Hlučín 2:0 (23\,8)
DTSTART;TZID=Europe/Berlin:20220116T103000
DTEND;TZID=Europe/Berlin:20220116T123000
LOCATION:ZŠ Janáčkovo náměstí 17\, Janáčkovo náměstí 1970 Krnov - Pod Bezru
 čovým vrchem
SUMMARY:MS-ZKY-T4F: VK Polanka nad Odrou\, z.s.'B'-TJ Hlučín
END:VEVENT
BEGIN:VEVENT
UID:36663964-6336-4363-a636-663430653731
DTSTAMP:20260422T085134Z
DESCRIPTION:3/5 VO Slezská Orlice\, z.s. - VK Polanka nad Odrou\, z.s.'B' 2
 :0 (23\,18)
DTSTART;TZID=Europe/Berlin:20220116T120000
DTEND;TZID=Europe/Berlin:20220116T140000
LOCATION:ZŠ Janáčkovo náměstí 17\, Janáčkovo náměstí 1970 Krnov - Pod Bezru
 čovým vrchem
SUMMARY:MS-ZKY-T4F: VO Slezská Orlice\, z.s.-VK Polanka nad Odrou\, z.s.'B'
END:VEVENT
BEGIN:VEVENT
UID:37646634-3534-4166-b363-363937343865
DTSTAMP:20260422T085134Z
DESCRIPTION:1/2 VK Polanka nad Odrou\, z.s.'B' - Tělovýchovná jednota Sokol
  Stará Bělá\, z.s. 2:0 (24\,13)
DTSTART;TZID=Europe/Berlin:20220213T090000
DTEND;TZID=Europe/Berlin:20220213T110000
LOCATION:Sportovní hala Nová Bělá\, Krmelínská 750 Ostrava - Nová Bělá
SUMMARY:MS-ZKY-T5F: VK Polanka nad Odrou\, z.s.'B'-Tělovýchovná jednota Sok
 ol Stará Bělá\, z.s.
END:VEVENT
BEGIN:VEVENT
UID:64396562-6263-4361-a634-333538303032
DTSTAMP:20260422T085134Z
DESCRIPTION:2/4 VK Polanka nad Odrou\, z.s.'B' - TJ Hlučín 2:0 (17\,11)
DTSTART;TZID=Europe/Berlin:20220213T103000
DTEND;TZID=Europe/Berlin:20220213T123000
LOCATION:Sportovní hala Nová Bělá\, Krmelínská 750 Ostrava - Nová Bělá
SUMMARY:MS-ZKY-T5F: VK Polanka nad Odrou\, z.s.'B'-TJ Hlučín
END:VEVENT
BEGIN:VEVENT
UID:38356438-3332-4864-b337-336338356638
DTSTAMP:20260422T085134Z
DESCRIPTION:3/5 VK Polanka nad Odrou\, z.s. 'A' - VK Polanka nad Odrou\, z.
 s.'B' 2:1 (19\,-17\,11)
DTSTART;TZID=Europe/Berlin:20220213T120000
DTEND;TZID=Europe/Berlin:20220213T140000
LOCATION:Sportovní hala Nová Bělá\, Krmelínská 750 Ostrava - Nová Bělá
SUMMARY:MS-ZKY-T5F: VK Polanka nad Odrou\, z.s. 'A'-VK Polanka nad Odrou\, 
 z.s.'B'
END:VEVENT
BEGIN:VEVENT
UID:63663864-3930-4666-b166-633535643463
DTSTAMP:20260422T085134Z
DESCRIPTION:1/2 VK Polanka nad Odrou\, z.s.'B' - Tělovýchovná jednota Sokol
  Stará Bělá\, z.s. 2:0 (10\,17)
DTSTART;TZID=Europe/Berlin:20220313T090000
DTEND;TZID=Europe/Berlin:20220313T110000
LOCATION:Sportovní hala\, Heleny Salichové 1275 Ostrava - Polanka nad Odrou
SUMMARY:MS-ZKY-T6F: VK Polanka nad Odrou\, z.s.'B'-Tělovýchovná jednota Sok
 ol Stará Bělá\, z.s.
END:VEVENT
BEGIN:VEVENT
UID:62616436-3635-4563-a330-663963633339
DTSTAMP:20260422T085134Z
DESCRIPTION:2/4 VK Polanka nad Odrou\, z.s.'B' - TJ Hlučín 2:0 (10\,8)
DTSTART;TZID=Europe/Berlin:20220313T103000
DTEND;TZID=Europe/Berlin:20220313T123000
LOCATION:Sportovní hala\, Heleny Salichové 1275 Ostrava - Polanka nad Odrou
SUMMARY:MS-ZKY-T6F: VK Polanka nad Odrou\, z.s.'B'-TJ Hlučín
END:VEVENT
BEGIN:VEVENT
UID:63626436-3365-4631-b036-623664633637
DTSTAMP:20260422T085134Z
DESCRIPTION:3/5 Volejbalová akademie mládeže Havířov\, z.s. - VK Polanka na
 d Odrou\, z.s.'B' 2:1 (-22\,17\,11)
DTSTART;TZID=Europe/Berlin:20220313T120000
DTEND;TZID=Europe/Berlin:20220313T140000
LOCATION:Sportovní hala\, Heleny Salichové 1275 Ostrava - Polanka nad Odrou
SUMMARY:MS-ZKY-T6F: Volejbalová akademie mládeže Havířov\, z.s.-VK Polanka 
 nad Odrou\, z.s.'B'
END:VEVENT
END:VCALENDAR
