BEGIN:VCALENDAR
VERSION:2.0
PRODID:-//TJ Ostrava77412//NONSGML kigkonsult.se iCalcreator 2.41.80//
CALSCALE:GREGORIAN
UID:30653231-6530-4065-b635-383531643433
BEGIN:VEVENT
UID:37623161-3630-4436-a565-636639303331
DTSTAMP:20260421T183714Z
DESCRIPTION:1/3 Ostrava - Nový Jičín 2:1 (20\,-14\,7)
DTSTART;TZID=Europe/Berlin:20210918T090000
DTEND;TZID=Europe/Berlin:20210918T110000
LOCATION:Hala mládeže\, Gajdošova 1893 Ostrava - Moravská Ostrava
SUMMARY:CP-ZKY-G: Ostrava-Nový Jičín
END:VEVENT
BEGIN:VEVENT
UID:62393161-6337-4464-b535-616265616363
DTSTAMP:20260421T183714Z
DESCRIPTION:4/8 Ostrava - Břeclav 2:1 (13\,-24\,9)
DTSTART;TZID=Europe/Berlin:20210918T130000
DTEND;TZID=Europe/Berlin:20210918T150000
LOCATION:Hala mládeže\, Gajdošova 1893 Ostrava - Moravská Ostrava
SUMMARY:CP-ZKY-G: Ostrava-Břeclav
END:VEVENT
BEGIN:VEVENT
UID:36373465-3762-4430-b536-373831336334
DTSTAMP:20260421T183714Z
DESCRIPTION:9/20 Ostrava - VK Valašské Meziříčí 2:0 (20\,12)
DTSTART;TZID=Europe/Berlin:20210919T083000
DTEND;TZID=Europe/Berlin:20210919T103000
LOCATION:Hala mládeže\, Gajdošova 1893 Ostrava - Moravská Ostrava
SUMMARY:CP-ZKY-G: Ostrava-VK Valašské Meziříčí
END:VEVENT
BEGIN:VEVENT
UID:66663861-3833-4165-a530-336664316334
DTSTAMP:20260421T183714Z
DESCRIPTION:10/21 Ostrava - ŠSK Bílovec 2:0 (19\,21)
DTSTART;TZID=Europe/Berlin:20210919T100000
DTEND;TZID=Europe/Berlin:20210919T120000
LOCATION:Hala mládeže\, Gajdošova 1893 Ostrava - Moravská Ostrava
SUMMARY:CP-ZKY-G: Ostrava-ŠSK Bílovec
END:VEVENT
BEGIN:VEVENT
UID:30613366-6665-4565-b565-363063643139
DTSTAMP:20260421T183714Z
DESCRIPTION:5/10 Zlín - Ostrava 0:2 (-13\,-20)
DTSTART;TZID=Europe/Berlin:20210918T141500
DTEND;TZID=Europe/Berlin:20210918T161500
LOCATION:ZŠ Okružní Zlín\, Okružní 4685 Zlín
SUMMARY:CP-ZKY-G: Zlín-Ostrava
END:VEVENT
BEGIN:VEVENT
UID:34346130-3937-4363-a531-376365323062
DTSTAMP:20260421T183714Z
DESCRIPTION:7/14 VK Vejrostova - Ostrava 0:2 (-11\,-8)
DTSTART;TZID=Europe/Berlin:20210918T163000
DTEND;TZID=Europe/Berlin:20210918T183000
LOCATION:ZŠ Vejrostova\, Vejrostova 1066 Brno - Bystrc
SUMMARY:CP-ZKY-G: VK Vejrostova-Ostrava
END:VEVENT
BEGIN:VEVENT
UID:66633433-3435-4565-a465-393435643635
DTSTAMP:20260421T183714Z
DESCRIPTION:12/26 VK UP Olomouc A - Ostrava 2:1 (-23\,24\,9)
DTSTART;TZID=Europe/Berlin:20210919T121500
DTEND;TZID=Europe/Berlin:20210919T141500
LOCATION:Čajkaréna\, Čajkovského 68 Olomouc - Nová Ulice
SUMMARY:CP-ZKY-G: VK UP Olomouc A-Ostrava
END:VEVENT
BEGIN:VEVENT
UID:35653731-3430-4961-b533-366263343565
DTSTAMP:20260421T183714Z
DESCRIPTION:1/1 Ostrava - VK Raškovice 2:0 (13\,14)
DTSTART;TZID=Europe/Berlin:20211003T090000
DTEND;TZID=Europe/Berlin:20211003T110000
LOCATION:Víceúčelová sportovní hala\,  Raškovice18
SUMMARY:MS-ZKY-KB: Ostrava-VK Raškovice
END:VEVENT
BEGIN:VEVENT
UID:33336134-3937-4232-a539-656432336233
DTSTAMP:20260421T183714Z
DESCRIPTION:2/3 Ostrava - TJ Frenštát pod Radhoštěm\, spolek 2:0 (3\,6)
DTSTART;TZID=Europe/Berlin:20211003T103000
DTEND;TZID=Europe/Berlin:20211003T123000
LOCATION:Víceúčelová sportovní hala\,  Raškovice18
SUMMARY:MS-ZKY-KB: Ostrava-TJ Frenštát pod Radhoštěm\, spolek
END:VEVENT
BEGIN:VEVENT
UID:33356566-3730-4133-a233-393530363033
DTSTAMP:20260421T183714Z
DESCRIPTION:3/5 Ostrava - TJ Sokol Frýdek - Místek 'B' 2:0 (8\,14)
DTSTART;TZID=Europe/Berlin:20211003T120000
DTEND;TZID=Europe/Berlin:20211003T140000
LOCATION:Víceúčelová sportovní hala\,  Raškovice18
SUMMARY:MS-ZKY-KB: Ostrava-TJ Sokol Frýdek - Místek 'B'
END:VEVENT
BEGIN:VEVENT
UID:37393830-3631-4635-a538-623663313366
DTSTAMP:20260421T183714Z
DESCRIPTION:4/7 Ostrava - TJ Turnov 'B' 2:0 (16\,8)
DTSTART;TZID=Europe/Berlin:20211016T123000
DTEND;TZID=Europe/Berlin:20211016T143000
LOCATION:Hala mládeže\, Gajdošova 1893 Ostrava - Moravská Ostrava
SUMMARY:CP-ZKY-V1A: Ostrava-TJ Turnov 'B'
END:VEVENT
BEGIN:VEVENT
UID:35623964-3161-4538-b533-646666326564
DTSTAMP:20260421T183714Z
DESCRIPTION:10/18 Ostrava - KP Brno 0:2 (-12\,-14)
DTSTART;TZID=Europe/Berlin:20211017T100000
DTEND;TZID=Europe/Berlin:20211017T120000
LOCATION:Hala mládeže\, Gajdošova 1893 Ostrava - Moravská Ostrava
SUMMARY:CP-ZKY-V1A: Ostrava-KP Brno
END:VEVENT
BEGIN:VEVENT
UID:38643166-6133-4061-b237-386532646331
DTSTAMP:20260421T183714Z
DESCRIPTION:13/28 Ostrava - Hradec Králové 2:0 (11\,19)
DTSTART;TZID=Europe/Berlin:20211017T133000
DTEND;TZID=Europe/Berlin:20211017T153000
LOCATION:Hala mládeže\, Gajdošova 1893 Ostrava - Moravská Ostrava
SUMMARY:CP-ZKY-V1A: Ostrava-Hradec Králové
END:VEVENT
BEGIN:VEVENT
UID:34353736-6565-4337-b733-616563313731
DTSTAMP:20260421T183714Z
DESCRIPTION:1/1 Lanškroun - Ostrava 1:2 (17\,-21\,-4)
DTSTART;TZID=Europe/Berlin:20211016T090000
DTEND;TZID=Europe/Berlin:20211016T110000
LOCATION:SOŠ a SOU Lanškroun\, Sokolská 288 Lanškroun - Ostrovské Předměstí
SUMMARY:CP-ZKY-V1A: Lanškroun-Ostrava
END:VEVENT
BEGIN:VEVENT
UID:37643930-3838-4662-b030-313034366664
DTSTAMP:20260421T183714Z
DESCRIPTION:5/10 Zlín - Ostrava 1:2 (23\,-13\,-10)
DTSTART;TZID=Europe/Berlin:20211016T140000
DTEND;TZID=Europe/Berlin:20211016T160000
LOCATION:ZŠ Okružní Zlín\, Okružní 4685 Zlín
SUMMARY:CP-ZKY-V1A: Zlín-Ostrava
END:VEVENT
BEGIN:VEVENT
UID:33393264-3765-4637-b432-303839343339
DTSTAMP:20260421T183714Z
DESCRIPTION:8/15 TJ Sokol F. - Místek - Ostrava 1:2 (-17\,24\,-9)
DTSTART;TZID=Europe/Berlin:20211016T173000
DTEND;TZID=Europe/Berlin:20211016T193000
LOCATION:ZŠ Jiřího z Poděbrad Frýdek-Místek\, Jiřího z Poděbrad 3109 Frýdek
 -Místek - Frýdek
SUMMARY:CP-ZKY-V1A: TJ Sokol F. - Místek-Ostrava
END:VEVENT
BEGIN:VEVENT
UID:66393539-3438-4139-b431-303537326466
DTSTAMP:20260421T183714Z
DESCRIPTION:12/24 Havlíčkův Brod - Ostrava 0:2 (-22\,-21)
DTSTART;TZID=Europe/Berlin:20211017T123000
DTEND;TZID=Europe/Berlin:20211017T143000
LOCATION:ZŠ Nuselská H. Brod\, Nuselská 3240 Havlíčkův Brod
SUMMARY:CP-ZKY-V1A: Havlíčkův Brod-Ostrava
END:VEVENT
BEGIN:VEVENT
UID:64323734-6534-4437-a366-343937616434
DTSTAMP:20260421T183714Z
DESCRIPTION:1/2 Ostrava - Nový Jičín 2:0 (16\,10)
DTSTART;TZID=Europe/Berlin:20211024T090000
DTEND;TZID=Europe/Berlin:20211024T110000
LOCATION:Hala ABC\, Purkyňova 116 Nový Jičín
SUMMARY:MS-ZKY-T1A: Ostrava-Nový Jičín
END:VEVENT
BEGIN:VEVENT
UID:37643531-3230-4564-b964-396432333030
DTSTAMP:20260421T183714Z
DESCRIPTION:2/4 Ostrava - ŠSK Bílovec 2:0 (20\,15)
DTSTART;TZID=Europe/Berlin:20211024T103000
DTEND;TZID=Europe/Berlin:20211024T123000
LOCATION:Hala ABC\, Purkyňova 116 Nový Jičín
SUMMARY:MS-ZKY-T1A: Ostrava-ŠSK Bílovec
END:VEVENT
BEGIN:VEVENT
UID:38363966-3333-4162-a261-623836363064
DTSTAMP:20260421T183714Z
DESCRIPTION:3/5 Frýdek-Místek - Ostrava 0:2 (-22\,-18)
DTSTART;TZID=Europe/Berlin:20211024T120000
DTEND;TZID=Europe/Berlin:20211024T140000
LOCATION:Hala ABC\, Purkyňova 116 Nový Jičín
SUMMARY:MS-ZKY-T1A: Frýdek-Místek-Ostrava
END:VEVENT
BEGIN:VEVENT
UID:36636365-3930-4536-b930-373737393331
DTSTAMP:20260421T183714Z
DESCRIPTION:3/6 Opava - Ostrava 0:2 (-25\,-15)\nSPŠS
DTSTART;TZID=Europe/Berlin:20211120T113000
DTEND;TZID=Europe/Berlin:20211120T133000
LOCATION:Sportovní hala Slezského gymnázia v Opavě\, Zámecký okruh 461 Opav
 a - Město
SUMMARY:CP-ZKY-V2A: Opava-Ostrava
END:VEVENT
BEGIN:VEVENT
UID:38633265-3939-4437-b536-643336613862
DTSTAMP:20260421T183714Z
DESCRIPTION:4/8 KP Brno - Ostrava 1:2 (19\,-21\,-11)\nSPŠS
DTSTART;TZID=Europe/Berlin:20211120T124500
DTEND;TZID=Europe/Berlin:20211120T144500
LOCATION:Sportovní gymnázium Ludvíka Daňka\, Botanická 63 Brno - Ponava
SUMMARY:CP-ZKY-V2A: KP Brno-Ostrava
END:VEVENT
BEGIN:VEVENT
UID:36373961-6536-4565-a263-356337306333
DTSTAMP:20260421T183714Z
DESCRIPTION:7/13 Hronov - Ostrava 0:2 (-20\,-19)\nSZŠ
DTSTART;TZID=Europe/Berlin:20211120T163000
DTEND;TZID=Europe/Berlin:20211120T183000
LOCATION:ZŠ Hronov\, Palackého 162 Hronov
SUMMARY:CP-ZKY-V2A: Hronov-Ostrava
END:VEVENT
BEGIN:VEVENT
UID:31343830-6361-4337-b436-313464326661
DTSTAMP:20260421T183714Z
DESCRIPTION:8/15 Havlíčkův Brod - Ostrava 0:2 (-15\,-9)\nSZŠ
DTSTART;TZID=Europe/Berlin:20211120T174500
DTEND;TZID=Europe/Berlin:20211120T194500
LOCATION:ZŠ Nuselská H. Brod\, Nuselská 3240 Havlíčkův Brod
SUMMARY:CP-ZKY-V2A: Havlíčkův Brod-Ostrava
END:VEVENT
BEGIN:VEVENT
UID:36353431-6239-4833-a530-363332623565
DTSTAMP:20260421T183714Z
DESCRIPTION:10/20 TJ Sokol F. - Místek - Ostrava 1:2 (18\,-14\,-8)\nSPŠS
DTSTART;TZID=Europe/Berlin:20211121T094500
DTEND;TZID=Europe/Berlin:20211121T114500
LOCATION:ZŠ Jiřího z Poděbrad Frýdek-Místek\, Jiřího z Poděbrad 3109 Frýdek
 -Místek - Frýdek
SUMMARY:CP-ZKY-V2A: TJ Sokol F. - Místek-Ostrava
END:VEVENT
BEGIN:VEVENT
UID:65636135-3932-4565-a538-303835623839
DTSTAMP:20260421T183714Z
DESCRIPTION:12/24 Lanškroun - Ostrava 2:0 (22\,13)\nSPŠS
DTSTART;TZID=Europe/Berlin:20211121T121500
DTEND;TZID=Europe/Berlin:20211121T141500
LOCATION:SOŠ a SOU Lanškroun\, Sokolská 288 Lanškroun - Ostrovské Předměstí
SUMMARY:CP-ZKY-V2A: Lanškroun-Ostrava
END:VEVENT
BEGIN:VEVENT
UID:35373230-3632-4932-a231-623439326434
DTSTAMP:20260421T183714Z
DESCRIPTION:14/28 Hradec Králové - Ostrava 0:2 (-12\,-22)\nSPŠS
DTSTART;TZID=Europe/Berlin:20211121T144500
DTEND;TZID=Europe/Berlin:20211121T164500
LOCATION:TJ Slavia Hradec Králové\, Víta Nejedlého 1216 Hradec Králové
SUMMARY:CP-ZKY-V2A: Hradec Králové-Ostrava
END:VEVENT
BEGIN:VEVENT
UID:61343937-3836-4136-b735-646463326635
DTSTAMP:20260421T183714Z
DESCRIPTION:1/1 Ostrava - Opava 1:2 (-13\,18\,-4)
DTSTART;TZID=Europe/Berlin:20211114T090000
DTEND;TZID=Europe/Berlin:20211114T110000
LOCATION:ZŠ 1.máje 1700 Frýdek-Místek\, 1. máje 1700 Frýdek-Místek - Místek
SUMMARY:MS-ZKY-T2A: Ostrava-Opava
END:VEVENT
BEGIN:VEVENT
UID:61656566-3635-4064-b862-366436386235
DTSTAMP:20260421T183714Z
DESCRIPTION:2/3 Ostrava - Nový Jičín 2:0 (13\,17)
DTSTART;TZID=Europe/Berlin:20211114T103000
DTEND;TZID=Europe/Berlin:20211114T123000
LOCATION:ZŠ 1.máje 1700 Frýdek-Místek\, 1. máje 1700 Frýdek-Místek - Místek
SUMMARY:MS-ZKY-T2A: Ostrava-Nový Jičín
END:VEVENT
BEGIN:VEVENT
UID:65663538-6333-4363-a337-396134313666
DTSTAMP:20260421T183714Z
DESCRIPTION:3/5 Ostrava - Frýdek-Místek 1:2 (23\,-20\,-10)
DTSTART;TZID=Europe/Berlin:20211114T120000
DTEND;TZID=Europe/Berlin:20211114T140000
LOCATION:ZŠ 1.máje 1700 Frýdek-Místek\, 1. máje 1700 Frýdek-Místek - Místek
SUMMARY:MS-ZKY-T2A: Ostrava-Frýdek-Místek
END:VEVENT
BEGIN:VEVENT
UID:61613533-6165-4237-b235-313232313531
DTSTAMP:20260421T183714Z
DESCRIPTION:4/8 Ostrava - Hlincovka 0:2 (-20\,-23)\nBotanická 63
DTSTART;TZID=Europe/Berlin:20220219T124500
DTEND;TZID=Europe/Berlin:20220219T144500
LOCATION:Hala mládeže\, Gajdošova 1893 Ostrava - Moravská Ostrava
SUMMARY:CP-ZKY-F1A: Ostrava-Hlincovka
END:VEVENT
BEGIN:VEVENT
UID:62666361-6239-4538-a137-303161393439
DTSTAMP:20260421T183714Z
DESCRIPTION:10/20 Ostrava - Mikulova 0:2 (-28\,-20)\nBotanická 63
DTSTART;TZID=Europe/Berlin:20220220T101500
DTEND;TZID=Europe/Berlin:20220220T121500
LOCATION:Hala mládeže\, Gajdošova 1893 Ostrava - Moravská Ostrava
SUMMARY:CP-ZKY-F1A: Ostrava-Mikulova
END:VEVENT
BEGIN:VEVENT
UID:39626135-3464-4531-b163-666532383931
DTSTAMP:20260421T183714Z
DESCRIPTION:14/27 Ostrava - Lanškroun 0:2 (-5\,-23)\nBotanická 63
DTSTART;TZID=Europe/Berlin:20220220T151500
DTEND;TZID=Europe/Berlin:20220220T171500
LOCATION:Hala mládeže\, Gajdošova 1893 Ostrava - Moravská Ostrava
SUMMARY:CP-ZKY-F1A: Ostrava-Lanškroun
END:VEVENT
BEGIN:VEVENT
UID:62383231-6436-4563-b131-343932353661
DTSTAMP:20260421T183714Z
DESCRIPTION:2/4 Havlíčkův Brod - Ostrava 0:2 (-14\,-23)\nBotanická 63
DTSTART;TZID=Europe/Berlin:20220219T101500
DTEND;TZID=Europe/Berlin:20220219T121500
LOCATION:ZŠ Nuselská H. Brod\, Nuselská 3240 Havlíčkův Brod
SUMMARY:CP-ZKY-F1A: Havlíčkův Brod-Ostrava
END:VEVENT
BEGIN:VEVENT
UID:64356536-6234-4966-a631-643536346662
DTSTAMP:20260421T183714Z
DESCRIPTION:6/12 Kralupy - Ostrava 1:2 (-19\,22\,-6)\nBotanická 63
DTSTART;TZID=Europe/Berlin:20220219T151500
DTEND;TZID=Europe/Berlin:20220219T171500
LOCATION:TJ KRALUPY\, z.s.\, Gen. Klapálka 1029 Kralupy nad Vltavou
SUMMARY:CP-ZKY-F1A: Kralupy-Ostrava
END:VEVENT
BEGIN:VEVENT
UID:33653339-6361-4136-b037-383363663366
DTSTAMP:20260421T183714Z
DESCRIPTION:7/13 KP Brno - Ostrava 2:1 (18\,-18\,11)\nBotanická 63
DTSTART;TZID=Europe/Berlin:20220219T163000
DTEND;TZID=Europe/Berlin:20220219T183000
LOCATION:Sportovní gymnázium Ludvíka Daňka\, Botanická 63 Brno - Ponava
SUMMARY:CP-ZKY-F1A: KP Brno-Ostrava
END:VEVENT
BEGIN:VEVENT
UID:38626630-6161-4664-b433-373262663339
DTSTAMP:20260421T183714Z
DESCRIPTION:12/24 Mělník - Ostrava 0:2 (-17\,-11)\nBotanická 63
DTSTART;TZID=Europe/Berlin:20220220T124500
DTEND;TZID=Europe/Berlin:20220220T144500
LOCATION:Tělocvična ZŠ J. Matiegky Pražská 2817 Mělník
SUMMARY:CP-ZKY-F1A: Mělník-Ostrava
END:VEVENT
BEGIN:VEVENT
UID:30396331-3335-4562-b239-333766653665
DTSTAMP:20260421T183714Z
DESCRIPTION:3/6 Ostrava - Sportovní klub Slezan Orlová\, spolek 2:0 (17\,20
 )
DTSTART;TZID=Europe/Berlin:20211212T120000
DTEND;TZID=Europe/Berlin:20211212T140000
LOCATION:Sportovní hala Gymnázium Orlová\, Masarykova třída 1313 Orlová - L
 utyně
SUMMARY:MS-ZKY-T3A: Ostrava-Sportovní klub Slezan Orlová\, spolek
END:VEVENT
BEGIN:VEVENT
UID:61343463-6665-4263-b834-613066633263
DTSTAMP:20260421T183714Z
DESCRIPTION:1/2 Frýdek-Místek - Ostrava 1:2 (-18\,16\,-12)
DTSTART;TZID=Europe/Berlin:20211212T090000
DTEND;TZID=Europe/Berlin:20211212T110000
LOCATION:Sportovní hala Gymnázium Orlová\, Masarykova třída 1313 Orlová - L
 utyně
SUMMARY:MS-ZKY-T3A: Frýdek-Místek-Ostrava
END:VEVENT
BEGIN:VEVENT
UID:36393363-6238-4937-b832-623366646366
DTSTAMP:20260421T183714Z
DESCRIPTION:2/3 Opava - Ostrava 2:0 (22\,15)
DTSTART;TZID=Europe/Berlin:20211212T103000
DTEND;TZID=Europe/Berlin:20211212T123000
LOCATION:Sportovní hala Gymnázium Orlová\, Masarykova třída 1313 Orlová - L
 utyně
SUMMARY:MS-ZKY-T3A: Opava-Ostrava
END:VEVENT
BEGIN:VEVENT
UID:62393261-3334-4266-a333-353433306563
DTSTAMP:20260421T183714Z
DESCRIPTION:1/2 Ostrava - Frýdek-Místek 1:2 (-23\,16\,-11)
DTSTART;TZID=Europe/Berlin:20220116T090000
DTEND;TZID=Europe/Berlin:20220116T110000
LOCATION:Sportovní hala Slezského gymnázia v Opavě\, Zámecký okruh 461 Opav
 a - Město
SUMMARY:MS-ZKY-T4A: Ostrava-Frýdek-Místek
END:VEVENT
BEGIN:VEVENT
UID:64623566-6266-4337-b864-346139356662
DTSTAMP:20260421T183714Z
DESCRIPTION:2/4 Ostrava - Nový Jičín 2:0 (17\,15)
DTSTART;TZID=Europe/Berlin:20220116T103000
DTEND;TZID=Europe/Berlin:20220116T123000
LOCATION:Sportovní hala Slezského gymnázia v Opavě\, Zámecký okruh 461 Opav
 a - Město
SUMMARY:MS-ZKY-T4A: Ostrava-Nový Jičín
END:VEVENT
BEGIN:VEVENT
UID:66613064-3637-4666-b165-343661376465
DTSTAMP:20260421T183714Z
DESCRIPTION:3/5 Opava - Ostrava 2:1 (19\,-19\,12)
DTSTART;TZID=Europe/Berlin:20220116T120000
DTEND;TZID=Europe/Berlin:20220116T140000
LOCATION:Sportovní hala Slezského gymnázia v Opavě\, Zámecký okruh 461 Opav
 a - Město
SUMMARY:MS-ZKY-T4A: Opava-Ostrava
END:VEVENT
BEGIN:VEVENT
UID:62613062-6237-4466-b135-346663333465
DTSTAMP:20260421T183714Z
DESCRIPTION:3/6 Ostrava - Sportovní klub Slezan Orlová\, spolek 2:0 (15\,19
 )
DTSTART;TZID=Europe/Berlin:20220213T120000
DTEND;TZID=Europe/Berlin:20220213T140000
LOCATION:Sportovní hala Gymnázium Orlová\, Masarykova třída 1313 Orlová - L
 utyně
SUMMARY:MS-ZKY-T5A: Ostrava-Sportovní klub Slezan Orlová\, spolek
END:VEVENT
BEGIN:VEVENT
UID:33363538-3636-4130-a664-633832323939
DTSTAMP:20260421T183714Z
DESCRIPTION:1/2 Opava - Ostrava 2:0 (20\,16)
DTSTART;TZID=Europe/Berlin:20220213T090000
DTEND;TZID=Europe/Berlin:20220213T110000
LOCATION:Sportovní hala Gymnázium Orlová\, Masarykova třída 1313 Orlová - L
 utyně
SUMMARY:MS-ZKY-T5A: Opava-Ostrava
END:VEVENT
BEGIN:VEVENT
UID:32646433-3834-4365-b264-396635383437
DTSTAMP:20260421T183714Z
DESCRIPTION:2/3 Frýdek-Místek - Ostrava 2:1 (16\,-22\,10)
DTSTART;TZID=Europe/Berlin:20220213T103000
DTEND;TZID=Europe/Berlin:20220213T123000
LOCATION:Sportovní hala Gymnázium Orlová\, Masarykova třída 1313 Orlová - L
 utyně
SUMMARY:MS-ZKY-T5A: Frýdek-Místek-Ostrava
END:VEVENT
BEGIN:VEVENT
UID:62633139-3838-4337-b764-623434353731
DTSTAMP:20260421T183714Z
DESCRIPTION:3/5 Ostrava - Kralupy 0:2 (-20\,-17)
DTSTART;TZID=Europe/Berlin:20220319T114000
DTEND;TZID=Europe/Berlin:20220319T134000
LOCATION:Hala mládeže\, Gajdošova 1893 Ostrava - Moravská Ostrava
SUMMARY:CP-ZKY-F2A: Ostrava-Kralupy
END:VEVENT
BEGIN:VEVENT
UID:34323832-3833-4134-b266-363831616463
DTSTAMP:20260421T183714Z
DESCRIPTION:6/13 Ostrava - Mikulova 2:1 (-15\,27\,14)
DTSTART;TZID=Europe/Berlin:20220319T154000
DTEND;TZID=Europe/Berlin:20220319T174000
LOCATION:Hala mládeže\, Gajdošova 1893 Ostrava - Moravská Ostrava
SUMMARY:CP-ZKY-F2A: Ostrava-Mikulova
END:VEVENT
BEGIN:VEVENT
UID:63366666-3739-4232-b830-333735623434
DTSTAMP:20260421T183714Z
DESCRIPTION:10/23 Ostrava - TJ Sokol F. - Místek 2:1 (10\,-16\,8)
DTSTART;TZID=Europe/Berlin:20220320T114000
DTEND;TZID=Europe/Berlin:20220320T134000
LOCATION:Hala mládeže\, Gajdošova 1893 Ostrava - Moravská Ostrava
SUMMARY:CP-ZKY-F2A: Ostrava-TJ Sokol F. - Místek
END:VEVENT
BEGIN:VEVENT
UID:63633238-6130-4131-b365-333930383163
DTSTAMP:20260421T183714Z
DESCRIPTION:1/1 Tábor - Ostrava 2:1 (16\,-20\,7)
DTSTART;TZID=Europe/Berlin:20220319T090000
DTEND;TZID=Europe/Berlin:20220319T110000
LOCATION:Tělocvična ZŠ Husova\, Husova 1570 Tábor
SUMMARY:CP-ZKY-F2A: Tábor-Ostrava
END:VEVENT
BEGIN:VEVENT
UID:35346136-3535-4138-b730-346232303538
DTSTAMP:20260421T183714Z
DESCRIPTION:7/16 Lanškroun - Ostrava 2:0 (20\,21)
DTSTART;TZID=Europe/Berlin:20220319T170000
DTEND;TZID=Europe/Berlin:20220319T190000
LOCATION:SOŠ a SOU Lanškroun\, Sokolská 288 Lanškroun - Ostrovské Předměstí
SUMMARY:CP-ZKY-F2A: Lanškroun-Ostrava
END:VEVENT
BEGIN:VEVENT
UID:32396164-3638-4866-b964-613735663735
DTSTAMP:20260421T183714Z
DESCRIPTION:8/17 Hlincovka - Ostrava 2:0 (21\,21)
DTSTART;TZID=Europe/Berlin:20220320T090000
DTEND;TZID=Europe/Berlin:20220320T110000
LOCATION:Sportovní hala Rudolfov\, Adamovská 511 Rudolfov
SUMMARY:CP-ZKY-F2A: Hlincovka-Ostrava
END:VEVENT
BEGIN:VEVENT
UID:31366163-6464-4035-a232-366235346335
DTSTAMP:20260421T183714Z
DESCRIPTION:11/26 KP Brno - Ostrava 2:0 (22\,18)
DTSTART;TZID=Europe/Berlin:20220320T130000
DTEND;TZID=Europe/Berlin:20220320T150000
LOCATION:Sportovní gymnázium Ludvíka Daňka\, Botanická 63 Brno - Ponava
SUMMARY:CP-ZKY-F2A: KP Brno-Ostrava
END:VEVENT
BEGIN:VEVENT
UID:30663132-3562-4232-b764-663761336637
DTSTAMP:20260421T183714Z
DESCRIPTION:3/6 Ostrava - ŠSK Bílovec 1:2 (11\,-20\,-7)
DTSTART;TZID=Europe/Berlin:20220313T120000
DTEND;TZID=Europe/Berlin:20220313T140000
LOCATION:ZŠ 1.máje 1700 Frýdek-Místek\, 1. máje 1700 Frýdek-Místek - Místek
SUMMARY:MS-ZKY-T6A: Ostrava-ŠSK Bílovec
END:VEVENT
BEGIN:VEVENT
UID:35323961-3231-4134-a664-306661663462
DTSTAMP:20260421T183714Z
DESCRIPTION:1/2 Opava - Ostrava 0:2 (-16\,-17)
DTSTART;TZID=Europe/Berlin:20220313T090000
DTEND;TZID=Europe/Berlin:20220313T110000
LOCATION:ZŠ 1.máje 1700 Frýdek-Místek\, 1. máje 1700 Frýdek-Místek - Místek
SUMMARY:MS-ZKY-T6A: Opava-Ostrava
END:VEVENT
BEGIN:VEVENT
UID:39613562-3963-4061-b035-653839353038
DTSTAMP:20260421T183714Z
DESCRIPTION:2/3 Frýdek-Místek - Ostrava 2:0 (14\,19)
DTSTART;TZID=Europe/Berlin:20220313T103000
DTEND;TZID=Europe/Berlin:20220313T123000
LOCATION:ZŠ 1.máje 1700 Frýdek-Místek\, 1. máje 1700 Frýdek-Místek - Místek
SUMMARY:MS-ZKY-T6A: Frýdek-Místek-Ostrava
END:VEVENT
BEGIN:VEVENT
UID:35383762-6162-4637-b561-393637663561
DTSTAMP:20260421T183714Z
DESCRIPTION:1/1 Ostrava - Znojmo 2:0 (11\,12)
DTSTART;TZID=Europe/Berlin:20220430T110000
DTEND;TZID=Europe/Berlin:20220430T130000
LOCATION:Hala míčových sportů\, Varenská 3098 Ostrava - Moravská Ostrava
SUMMARY:MCR-ZKY-B: Ostrava-Znojmo
END:VEVENT
BEGIN:VEVENT
UID:30363237-6362-4536-a465-663637643563
DTSTAMP:20260421T183714Z
DESCRIPTION:3/8 Ostrava - Příbram 2:0 (13\,18)
DTSTART;TZID=Europe/Berlin:20220430T134000
DTEND;TZID=Europe/Berlin:20220430T154000
LOCATION:Hala míčových sportů\, Varenská 3098 Ostrava - Moravská Ostrava
SUMMARY:MCR-ZKY-B: Ostrava-Příbram
END:VEVENT
BEGIN:VEVENT
UID:30653764-6538-4139-a339-323936396163
DTSTAMP:20260421T183714Z
DESCRIPTION:4/9 Ostrava - Pardubice 2:0 (22\,4)
DTSTART;TZID=Europe/Berlin:20220430T150000
DTEND;TZID=Europe/Berlin:20220430T170000
LOCATION:Hala míčových sportů\, Varenská 3098 Ostrava - Moravská Ostrava
SUMMARY:MCR-ZKY-B: Ostrava-Pardubice
END:VEVENT
BEGIN:VEVENT
UID:30336435-6432-4636-b531-663165616366
DTSTAMP:20260421T183714Z
DESCRIPTION:8/22 Ostrava - Havlíčkův Brod 1:2 (23\,-23\,-11)
DTSTART;TZID=Europe/Berlin:20220501T112000
DTEND;TZID=Europe/Berlin:20220501T132000
LOCATION:Hala míčových sportů\, Varenská 3098 Ostrava - Moravská Ostrava
SUMMARY:MCR-ZKY-B: Ostrava-Havlíčkův Brod
END:VEVENT
BEGIN:VEVENT
UID:38653664-3032-4965-b961-643533346666
DTSTAMP:20260421T183714Z
DESCRIPTION:6/15 Hronov - Ostrava 1:2 (-9\,23\,-7)
DTSTART;TZID=Europe/Berlin:20220430T174000
DTEND;TZID=Europe/Berlin:20220430T194000
LOCATION:Hala míčových sportů\, Varenská 3098 Ostrava - Moravská Ostrava
SUMMARY:MCR-ZKY-B: Hronov-Ostrava
END:VEVENT
BEGIN:VEVENT
UID:34353933-3639-4531-a238-636132656437
DTSTAMP:20260421T183714Z
DESCRIPTION:9/24 Zlín - Ostrava 0:2 (-14\,-17)
DTSTART;TZID=Europe/Berlin:20220501T124000
DTEND;TZID=Europe/Berlin:20220501T144000
LOCATION:Hala míčových sportů\, Varenská 3098 Ostrava - Moravská Ostrava
SUMMARY:MCR-ZKY-B: Zlín-Ostrava
END:VEVENT
BEGIN:VEVENT
UID:63623139-3030-4532-b031-633030643839
DTSTAMP:20260421T183714Z
DESCRIPTION:10/27 Prostějov - Ostrava 2:0 (22\,21)
DTSTART;TZID=Europe/Berlin:20220501T140000
DTEND;TZID=Europe/Berlin:20220501T160000
LOCATION:Hala míčových sportů\, Varenská 3098 Ostrava - Moravská Ostrava
SUMMARY:MCR-ZKY-B: Prostějov-Ostrava
END:VEVENT
BEGIN:VEVENT
UID:38343337-3930-4361-b630-363730303162
DTSTAMP:20260421T183714Z
DESCRIPTION:1/2 Ostrava - Tábor 1:2 (-19\,16\,-17)
DTSTART;TZID=Europe/Berlin:20220520T112000
DTEND;TZID=Europe/Berlin:20220520T132000
LOCATION:Hala ZŠ Komenského\, Komenského 701 Bílovec
SUMMARY:MCR-ZKY-FB: Ostrava-Tábor
END:VEVENT
BEGIN:VEVENT
UID:63633032-3765-4866-b061-323633613564
DTSTAMP:20260421T183714Z
DESCRIPTION:3/5 Ostrava - Karlovy Vary 2:1 (-19\,21\,7)
DTSTART;TZID=Europe/Berlin:20220520T181000
DTEND;TZID=Europe/Berlin:20220520T201000
LOCATION:Hala ZŠ Komenského\, Komenského 701 Bílovec
SUMMARY:MCR-ZKY-FB: Ostrava-Karlovy Vary
END:VEVENT
BEGIN:VEVENT
UID:63323237-3861-4638-b135-383366303865
DTSTAMP:20260421T183714Z
DESCRIPTION:2/4 Lanškroun - Ostrava 1:2 (23\,-12\,-14)
DTSTART;TZID=Europe/Berlin:20220520T153000
DTEND;TZID=Europe/Berlin:20220520T173000
LOCATION:Hala ZŠ Komenského\, Komenského 701 Bílovec
SUMMARY:MCR-ZKY-FB: Lanškroun-Ostrava
END:VEVENT
BEGIN:VEVENT
UID:38316336-6230-4361-b739-363235666662
DTSTAMP:20260421T183714Z
DESCRIPTION:1/1 Ostrava - Kralupy 2:0 (24\,21)\nB1 - D3
DTSTART;TZID=Europe/Berlin:20220521T113000
DTEND;TZID=Europe/Berlin:20220521T133000
LOCATION:Hala ZŠ Komenského\, Komenského 701 Bílovec
SUMMARY:MCR-ZKY-FF: Ostrava-Kralupy
END:VEVENT
BEGIN:VEVENT
UID:37303662-3239-4539-b334-653837356164
DTSTAMP:20260421T183714Z
DESCRIPTION:3/7 Ostrava - Hlincovka 2:0 (21\,17)\nB1 - D1
DTSTART;TZID=Europe/Berlin:20220521T173000
DTEND;TZID=Europe/Berlin:20220521T193000
LOCATION:Hala ZŠ Komenského\, Komenského 701 Bílovec
SUMMARY:MCR-ZKY-FF: Ostrava-Hlincovka
END:VEVENT
BEGIN:VEVENT
UID:33653230-6630-4535-a135-346531383839
DTSTAMP:20260421T183714Z
DESCRIPTION:2/5 Frýdek-Místek - Ostrava 0:2 (-18\,-21)\nD2 - B1
DTSTART;TZID=Europe/Berlin:20220521T143000
DTEND;TZID=Europe/Berlin:20220521T163000
LOCATION:Hala ZŠ Komenského\, Komenského 701 Bílovec
SUMMARY:MCR-ZKY-FF: Frýdek-Místek-Ostrava
END:VEVENT
BEGIN:VEVENT
UID:64303839-3331-4661-a139-643532616639
DTSTAMP:20260421T183714Z
DESCRIPTION:1/6 Ostrava - Mikulova 2:0 (23\,14)\nF1 - E2 (Semifinále 2)
DTSTART;TZID=Europe/Berlin:20220522T095000
DTEND;TZID=Europe/Berlin:20220522T115000
LOCATION:Hala mládeže\, Gajdošova 1893 Ostrava - Moravská Ostrava
SUMMARY:MCR-ZKY-FI: Ostrava-Mikulova
END:VEVENT
BEGIN:VEVENT
UID:36353265-6330-4464-b862-626333323038
DTSTAMP:20260421T183714Z
DESCRIPTION:2/12 Ostrava - Lanškroun 0:2 (-23\,-19)\nFinále
DTSTART;TZID=Europe/Berlin:20220522T133000
DTEND;TZID=Europe/Berlin:20220522T153000
LOCATION:Hala mládeže\, Gajdošova 1893 Ostrava - Moravská Ostrava
SUMMARY:MCR-ZKY-FI: Ostrava-Lanškroun
END:VEVENT
END:VCALENDAR
