BEGIN:VCALENDAR
VERSION:2.0
PRODID:-//VK Karviná, z.s.77413//NONSGML kigkonsult.se iCalcreator 2.41.80//
CALSCALE:GREGORIAN
UID:34363562-3534-4262-b935-313361353232
BEGIN:VEVENT
UID:63383233-3264-4138-a666-396638366639
DTSTAMP:20260422T053828Z
DESCRIPTION:1/1 ŠSK Bílovec - VK Karviná\, z.s. 2:0 (11\,7)
DTSTART;TZID=Europe/Berlin:20211003T090000
DTEND;TZID=Europe/Berlin:20211003T110000
LOCATION:Hala ZŠ Komenského\, Komenského 701 Bílovec
SUMMARY:MS-ZKY-KF: ŠSK Bílovec-VK Karviná\, z.s.
END:VEVENT
BEGIN:VEVENT
UID:35373734-3565-4564-b130-343531306466
DTSTAMP:20260422T053828Z
DESCRIPTION:3/4 SVK Nový Jičín 'B' - VK Karviná\, z.s. 2:0 (20\,19)
DTSTART;TZID=Europe/Berlin:20211003T120000
DTEND;TZID=Europe/Berlin:20211003T140000
LOCATION:Hala ZŠ Komenského\, Komenského 701 Bílovec
SUMMARY:MS-ZKY-KF: SVK Nový Jičín 'B'-VK Karviná\, z.s.
END:VEVENT
BEGIN:VEVENT
UID:32666638-3666-4434-a239-636338383130
DTSTAMP:20260422T053828Z
DESCRIPTION:4/6 VK Polanka nad Odrou\, z.s. 'A' - VK Karviná\, z.s. 0:2 (-1
 7\,-22)
DTSTART;TZID=Europe/Berlin:20211003T133000
DTEND;TZID=Europe/Berlin:20211003T153000
LOCATION:Hala ZŠ Komenského\, Komenského 701 Bílovec
SUMMARY:MS-ZKY-KF: VK Polanka nad Odrou\, z.s. 'A'-VK Karviná\, z.s.
END:VEVENT
BEGIN:VEVENT
UID:31626661-3862-4333-b039-333031383534
DTSTAMP:20260422T053828Z
DESCRIPTION:3/6 VK Karviná\, z.s. - VKB Frýdlant n.O. 2:0 (15\,12)
DTSTART;TZID=Europe/Berlin:20211024T120000
DTEND;TZID=Europe/Berlin:20211024T140000
LOCATION:Tělocvična ZŠ Záhuní\, Frenštát\, Záhuní 408 Frenštát pod Radhoště
 m
SUMMARY:MS-ZKY-T1D: VK Karviná\, z.s.-VKB Frýdlant n.O.
END:VEVENT
BEGIN:VEVENT
UID:34306665-6433-4332-a530-666230383061
DTSTAMP:20260422T053828Z
DESCRIPTION:1/2 TJ Frenštát pod Radhoštěm\, spolek - VK Karviná\, z.s. 2:0 
 (22\,22)
DTSTART;TZID=Europe/Berlin:20211024T090000
DTEND;TZID=Europe/Berlin:20211024T110000
LOCATION:Tělocvična ZŠ Záhuní\, Frenštát\, Záhuní 408 Frenštát pod Radhoště
 m
SUMMARY:MS-ZKY-T1D: TJ Frenštát pod Radhoštěm\, spolek-VK Karviná\, z.s.
END:VEVENT
BEGIN:VEVENT
UID:33336135-3464-4332-b064-633835313961
DTSTAMP:20260422T053828Z
DESCRIPTION:2/3 Volejbalový klub Kylešovice\, z.s. - VK Karviná\, z.s. 2:1 
 (-23\,20\,6)
DTSTART;TZID=Europe/Berlin:20211024T103000
DTEND;TZID=Europe/Berlin:20211024T123000
LOCATION:Tělocvična ZŠ Záhuní\, Frenštát\, Záhuní 408 Frenštát pod Radhoště
 m
SUMMARY:MS-ZKY-T1D: Volejbalový klub Kylešovice\, z.s.-VK Karviná\, z.s.
END:VEVENT
BEGIN:VEVENT
UID:36383964-3361-4032-b436-363539653836
DTSTAMP:20260422T053828Z
DESCRIPTION:3/6 VK Karviná\, z.s. - TJ Sokol Frýdek - Místek 'B' 0:2 (-18\,
 -12)
DTSTART;TZID=Europe/Berlin:20211114T120000
DTEND;TZID=Europe/Berlin:20211114T140000
LOCATION:tělocvična 11.ZŠ Frýdek-Místek\, Jiřího z Poděbrad 3109 Frýdek-Mís
 tek - Frýdek
SUMMARY:MS-ZKY-T2D: VK Karviná\, z.s.-TJ Sokol Frýdek - Místek 'B'
END:VEVENT
BEGIN:VEVENT
UID:38376536-6238-4235-a431-613964666663
DTSTAMP:20260422T053828Z
DESCRIPTION:1/2 Volejbalový klub Kylešovice\, z.s. - VK Karviná\, z.s. 2:0 
 (18\,25)
DTSTART;TZID=Europe/Berlin:20211114T090000
DTEND;TZID=Europe/Berlin:20211114T110000
LOCATION:tělocvična 11.ZŠ Frýdek-Místek\, Jiřího z Poděbrad 3109 Frýdek-Mís
 tek - Frýdek
SUMMARY:MS-ZKY-T2D: Volejbalový klub Kylešovice\, z.s.-VK Karviná\, z.s.
END:VEVENT
BEGIN:VEVENT
UID:34336530-6631-4432-b463-633862633763
DTSTAMP:20260422T053828Z
DESCRIPTION:2/3 Volejbalová akademie mládeže Havířov\, z.s. - VK Karviná\, 
 z.s. 0:2 (-19\,-17)
DTSTART;TZID=Europe/Berlin:20211114T103000
DTEND;TZID=Europe/Berlin:20211114T123000
LOCATION:tělocvična 11.ZŠ Frýdek-Místek\, Jiřího z Poděbrad 3109 Frýdek-Mís
 tek - Frýdek
SUMMARY:MS-ZKY-T2D: Volejbalová akademie mládeže Havířov\, z.s.-VK Karviná\
 , z.s.
END:VEVENT
BEGIN:VEVENT
UID:34633439-3236-4061-b566-366662353436
DTSTAMP:20260422T053828Z
DESCRIPTION:3/6 VK Karviná\, z.s. - VKB Frýdlant n.O. 2:0 (18\,20)
DTSTART;TZID=Europe/Berlin:20211212T120000
DTEND;TZID=Europe/Berlin:20211212T140000
LOCATION:Sportovní hala Slezského gymnázia v Opavě\, Zámecký okruh 461 Opav
 a - Město
SUMMARY:MS-ZKY-T3D: VK Karviná\, z.s.-VKB Frýdlant n.O.
END:VEVENT
BEGIN:VEVENT
UID:31323732-6632-4434-b333-663534616665
DTSTAMP:20260422T053828Z
DESCRIPTION:1/2 Volejbalový klub Kylešovice\, z.s. - VK Karviná\, z.s. 2:0 
 (9\,13)
DTSTART;TZID=Europe/Berlin:20211212T090000
DTEND;TZID=Europe/Berlin:20211212T110000
LOCATION:Sportovní hala Slezského gymnázia v Opavě\, Zámecký okruh 461 Opav
 a - Město
SUMMARY:MS-ZKY-T3D: Volejbalový klub Kylešovice\, z.s.-VK Karviná\, z.s.
END:VEVENT
BEGIN:VEVENT
UID:32616264-6636-4461-a633-363931633563
DTSTAMP:20260422T053828Z
DESCRIPTION:2/3 SVK Nový Jičín 'B' - VK Karviná\, z.s. 2:0 (8\,22)
DTSTART;TZID=Europe/Berlin:20211212T103000
DTEND;TZID=Europe/Berlin:20211212T123000
LOCATION:Sportovní hala Slezského gymnázia v Opavě\, Zámecký okruh 461 Opav
 a - Město
SUMMARY:MS-ZKY-T3D: SVK Nový Jičín 'B'-VK Karviná\, z.s.
END:VEVENT
BEGIN:VEVENT
UID:63386465-6339-4537-a665-646464313865
DTSTAMP:20260422T053828Z
DESCRIPTION:5/5 VK Karviná\, z.s. - SVK Nový Jičín 'C'Kylnarová Lucie\nzruš
 eno pro COVID
DTSTART;TZID=Europe/Berlin:20220116T150000
DTEND;TZID=Europe/Berlin:20220116T170000
LOCATION:Střední pedagogická a zdravotní škola \, Jiráskova 840 Krnov - Pod
  Bezručovým vrchem
SUMMARY:MS-ZKY-T4D: VK Karviná\, z.s.-SVK Nový Jičín 'C'
END:VEVENT
BEGIN:VEVENT
UID:36636139-6266-4732-b737-386363646435
DTSTAMP:20260422T053828Z
DESCRIPTION:1/1 TJ Krnov - VK Karviná\, z.s. 1:2 (17\,-14\,-6)
DTSTART;TZID=Europe/Berlin:20220116T090000
DTEND;TZID=Europe/Berlin:20220116T110000
LOCATION:Střední pedagogická a zdravotní škola \, Jiráskova 840 Krnov - Pod
  Bezručovým vrchem
SUMMARY:MS-ZKY-T4D: TJ Krnov-VK Karviná\, z.s.
END:VEVENT
BEGIN:VEVENT
UID:38373263-6330-4239-b333-363661333932
DTSTAMP:20260422T053828Z
DESCRIPTION:4/4 SVK Nový Jičín 'B' - VK Karviná\, z.s. 2:0 (17\,18)
DTSTART;TZID=Europe/Berlin:20220116T133000
DTEND;TZID=Europe/Berlin:20220116T153000
LOCATION:Střední pedagogická a zdravotní škola \, Jiráskova 840 Krnov - Pod
  Bezručovým vrchem
SUMMARY:MS-ZKY-T4D: SVK Nový Jičín 'B'-VK Karviná\, z.s.
END:VEVENT
BEGIN:VEVENT
UID:37656465-3839-4331-a466-633562636132
DTSTAMP:20260422T053828Z
DESCRIPTION:1/2 VK Karviná\, z.s. - TJ Krnov 2:0 (19\,19)
DTSTART;TZID=Europe/Berlin:20220213T090000
DTEND;TZID=Europe/Berlin:20220213T110000
LOCATION:tělocvična 11.ZŠ Frýdek-Místek\, Jiřího z Poděbrad 3109 Frýdek-Mís
 tek - Frýdek
SUMMARY:MS-ZKY-T5D: VK Karviná\, z.s.-TJ Krnov
END:VEVENT
BEGIN:VEVENT
UID:64653136-6565-4664-b430-303439663862
DTSTAMP:20260422T053828Z
DESCRIPTION:2/4 VK Karviná\, z.s. - TJ Sokol F. - Místek 2:1 (-25\,18\,4)
DTSTART;TZID=Europe/Berlin:20220213T103000
DTEND;TZID=Europe/Berlin:20220213T123000
LOCATION:tělocvična 11.ZŠ Frýdek-Místek\, Jiřího z Poděbrad 3109 Frýdek-Mís
 tek - Frýdek
SUMMARY:MS-ZKY-T5D: VK Karviná\, z.s.-TJ Sokol F. - Místek
END:VEVENT
BEGIN:VEVENT
UID:32316664-3464-4530-b463-643533633564
DTSTAMP:20260422T053828Z
DESCRIPTION:3/5 TJ Sokol Frýdek - Místek 'B' - VK Karviná\, z.s. 2:0 (15\,2
 3)
DTSTART;TZID=Europe/Berlin:20220213T120000
DTEND;TZID=Europe/Berlin:20220213T140000
LOCATION:tělocvična 11.ZŠ Frýdek-Místek\, Jiřího z Poděbrad 3109 Frýdek-Mís
 tek - Frýdek
SUMMARY:MS-ZKY-T5D: TJ Sokol Frýdek - Místek 'B'-VK Karviná\, z.s.
END:VEVENT
BEGIN:VEVENT
UID:37643830-6561-4736-b533-306536316439
DTSTAMP:20260422T053828Z
DESCRIPTION:2/2 VK Karviná\, z.s. - TJ Sokol F. - Místek 2:0 (19\,12)
DTSTART;TZID=Europe/Berlin:20220313T103000
DTEND;TZID=Europe/Berlin:20220313T123000
LOCATION:Hala ABC\, Purkyňova 116 Nový Jičín
SUMMARY:MS-ZKY-T6D: VK Karviná\, z.s.-TJ Sokol F. - Místek
END:VEVENT
BEGIN:VEVENT
UID:38323833-6264-4538-a535-613439336436
DTSTAMP:20260422T053828Z
DESCRIPTION:3/4 VK Karviná\, z.s. - SVK Nový Jičín 'C' 2:1 (-15\,15\,5)
DTSTART;TZID=Europe/Berlin:20220313T120000
DTEND;TZID=Europe/Berlin:20220313T140000
LOCATION:Hala ABC\, Purkyňova 116 Nový Jičín
SUMMARY:MS-ZKY-T6D: VK Karviná\, z.s.-SVK Nový Jičín 'C'
END:VEVENT
BEGIN:VEVENT
UID:62623262-3532-4562-b338-396363336230
DTSTAMP:20260422T053828Z
DESCRIPTION:4/5 KV Kopřivnice - VK Karviná\, z.s. 2:0 (21\,23)
DTSTART;TZID=Europe/Berlin:20220313T133000
DTEND;TZID=Europe/Berlin:20220313T153000
LOCATION:Hala ABC\, Purkyňova 116 Nový Jičín
SUMMARY:MS-ZKY-T6D: KV Kopřivnice-VK Karviná\, z.s.
END:VEVENT
END:VCALENDAR
