BEGIN:VCALENDAR
VERSION:2.0
PRODID:-//SK Hlincovka77460//NONSGML kigkonsult.se iCalcreator 2.41.80//
CALSCALE:GREGORIAN
UID:30313530-3134-4963-a230-376131383063
BEGIN:VEVENT
UID:38636135-6238-4562-a433-366135303766
DTSTAMP:20260423T111504Z
DESCRIPTION:2/11 Hlincovka - SK-V 41 Tábor z.s. 3:0 (11\,13\,15)
DTSTART;TZID=Europe/Berlin:20211008T183000
DTEND;TZID=Europe/Berlin:20211008T203000
LOCATION:Sportovní hala Rudolfov\, Adamovská 511 Rudolfov
SUMMARY:JC-Z-1: Hlincovka-SK-V 41 Tábor z.s.
END:VEVENT
BEGIN:VEVENT
UID:34643737-3039-4539-b436-313830336363
DTSTAMP:20260423T111504Z
DESCRIPTION:4/22 Hlincovka - TJ Slovan J. Hradec\, z.s. 3:0 (18\,0\,0)
DTSTART;TZID=Europe/Berlin:20211022T183000
DTEND;TZID=Europe/Berlin:20211022T203000
LOCATION:Sportovní hala Rudolfov\, Adamovská 511 Rudolfov
SUMMARY:JC-Z-1: Hlincovka-TJ Slovan J. Hradec\, z.s.
END:VEVENT
BEGIN:VEVENT
UID:64386264-6333-4538-a339-333463653534
DTSTAMP:20260423T111504Z
DESCRIPTION:6/33 Hlincovka - TĚLOVÝCHOVNÁ JEDNOTA LOKOMOTIVA z.s. 3:0 (13\,
 19\,17)
DTSTART;TZID=Europe/Berlin:20211105T183000
DTEND;TZID=Europe/Berlin:20211105T203000
LOCATION:Sportovní hala Rudolfov\, Adamovská 511 Rudolfov
SUMMARY:JC-Z-1: Hlincovka-TĚLOVÝCHOVNÁ JEDNOTA LOKOMOTIVA z.s.
END:VEVENT
BEGIN:VEVENT
UID:62613031-6635-4462-a430-363633306263
DTSTAMP:20260423T111504Z
DESCRIPTION:8/44 Hlincovka - TJ Meteor České Budějovice z.s. 3:1 (17\,-21\,
 19\,20)
DTSTART;TZID=Europe/Berlin:20211118T180000
DTEND;TZID=Europe/Berlin:20211118T200000
LOCATION:Sportovní hala Rudolfov\, Adamovská 511 Rudolfov
SUMMARY:JC-Z-1: Hlincovka-TJ Meteor České Budějovice z.s.
END:VEVENT
BEGIN:VEVENT
UID:32646533-6637-4165-b134-303633326666
DTSTAMP:20260423T111504Z
DESCRIPTION:11/66 Hlincovka - Slavia JU ČB 3:2 (18\,16\,-23\,-22\,10)
DTSTART;TZID=Europe/Berlin:20211210T183000
DTEND;TZID=Europe/Berlin:20211210T203000
LOCATION:Sportovní hala Rudolfov\, Adamovská 511 Rudolfov
SUMMARY:JC-Z-1: Hlincovka-Slavia JU ČB
END:VEVENT
BEGIN:VEVENT
UID:62396639-6138-4638-b138-323266366435
DTSTAMP:20260423T111504Z
DESCRIPTION:12/68 Hlincovka - Volejbalový sportovní klub Český Krumlov z.s.
  3:0 (18\,21\,21)
DTSTART;TZID=Europe/Berlin:20220120T180000
DTEND;TZID=Europe/Berlin:20220120T200000
LOCATION:Sportovní hala Rudolfov\, Adamovská 511 Rudolfov
SUMMARY:JC-Z-1: Hlincovka-Volejbalový sportovní klub Český Krumlov z.s.
END:VEVENT
BEGIN:VEVENT
UID:63613539-6264-4635-a362-303563343631
DTSTAMP:20260423T111504Z
DESCRIPTION:14/81 Hlincovka - TJ ČZ Strakonice\, spolek 3:0 (19\,15\,16)
DTSTART;TZID=Europe/Berlin:20220203T180000
DTEND;TZID=Europe/Berlin:20220203T200000
LOCATION:Sportovní hala Rudolfov\, Adamovská 511 Rudolfov
SUMMARY:JC-Z-1: Hlincovka-TJ ČZ Strakonice\, spolek
END:VEVENT
BEGIN:VEVENT
UID:32303565-3364-4364-b336-643165323435
DTSTAMP:20260423T111504Z
DESCRIPTION:16/94 Hlincovka - SK TŘEBÍN\, z.s. 3:0 (18\,11\,19)
DTSTART;TZID=Europe/Berlin:20220217T180000
DTEND;TZID=Europe/Berlin:20220217T200000
LOCATION:Sportovní hala Rudolfov\, Adamovská 511 Rudolfov
SUMMARY:JC-Z-1: Hlincovka-SK TŘEBÍN\, z.s.
END:VEVENT
BEGIN:VEVENT
UID:30663865-3730-4561-b338-303237356235
DTSTAMP:20260423T111504Z
DESCRIPTION:18/107 Hlincovka - SK TŘEBÍN JKY 3:0 (7\,11\,20)
DTSTART;TZID=Europe/Berlin:20220324T180000
DTEND;TZID=Europe/Berlin:20220324T200000
LOCATION:Sportovní hala Rudolfov\, Adamovská 511 Rudolfov
SUMMARY:JC-Z-1: Hlincovka-SK TŘEBÍN JKY
END:VEVENT
BEGIN:VEVENT
UID:65636661-3931-4438-a138-373635396437
DTSTAMP:20260423T111504Z
DESCRIPTION:20/120 Hlincovka - SK Otava Písek\, z.s. 3:0 (16\,11\,19)
DTSTART;TZID=Europe/Berlin:20220317T180000
DTEND;TZID=Europe/Berlin:20220317T200000
LOCATION:Sportovní hala Rudolfov\, Adamovská 511 Rudolfov
SUMMARY:JC-Z-1: Hlincovka-SK Otava Písek\, z.s.
END:VEVENT
BEGIN:VEVENT
UID:66343664-6166-4338-a664-643134343239
DTSTAMP:20260423T111504Z
DESCRIPTION:1/2 Volejbalový sportovní klub Český Krumlov z.s. - Hlincovka 0
 :3 (-11\,-24\,-19)
DTSTART;TZID=Europe/Berlin:20210927T200000
DTEND;TZID=Europe/Berlin:20210927T220000
LOCATION:ZŠ Za Nádražím Český Krumlov\, Za Nádražím 222 Český Krumlov - Nád
 ražní Předměstí
SUMMARY:JC-Z-1: Volejbalový sportovní klub Český Krumlov z.s.-Hlincovka
END:VEVENT
BEGIN:VEVENT
UID:37363962-6633-4164-b164-373131323366
DTSTAMP:20260423T111504Z
DESCRIPTION:3/15 TJ ČZ Strakonice\, spolek - Hlincovka 1:3 (-13\,22\,-16\,-
 15)
DTSTART;TZID=Europe/Berlin:20211013T203000
DTEND;TZID=Europe/Berlin:20211013T223000
LOCATION:Hala TJ ČZ Strakonice\, Máchova 108 Strakonice - Strakonice I
SUMMARY:JC-Z-1: TJ ČZ Strakonice\, spolek-Hlincovka
END:VEVENT
BEGIN:VEVENT
UID:32636230-3837-4730-b366-636230383439
DTSTAMP:20260423T111504Z
DESCRIPTION:5/28 SK TŘEBÍN\, z.s. - Hlincovka 0:3 (-12\,-11\,-22)
DTSTART;TZID=Europe/Berlin:20211126T181500
DTEND;TZID=Europe/Berlin:20211126T201500
LOCATION:ZŠ Máj I\, M. Chlajna 1319 České Budějovice - České Budějovice 2
SUMMARY:JC-Z-1: SK TŘEBÍN\, z.s.-Hlincovka
END:VEVENT
BEGIN:VEVENT
UID:64653436-3862-4532-a632-353036633633
DTSTAMP:20260423T111504Z
DESCRIPTION:7/41 SK TŘEBÍN JKY - Hlincovka 0:3 (-12\,-13\,-16)
DTSTART;TZID=Europe/Berlin:20211108T183000
DTEND;TZID=Europe/Berlin:20211108T203000
LOCATION:ZŠ Máj I\, M. Chlajna 1319 České Budějovice - České Budějovice 2
SUMMARY:JC-Z-1: SK TŘEBÍN JKY-Hlincovka
END:VEVENT
BEGIN:VEVENT
UID:66323438-3231-4164-b931-653531396461
DTSTAMP:20260423T111504Z
DESCRIPTION:9/54 SK Otava Písek\, z.s. - Hlincovka 0:3 (-23\,-12\,-24)
DTSTART;TZID=Europe/Berlin:20211122T210000
DTEND;TZID=Europe/Berlin:20211122T230000
LOCATION:Střední lesnická škola\, Lesnická 55 Písek - Václavské Předměstí
SUMMARY:JC-Z-1: SK Otava Písek\, z.s.-Hlincovka
END:VEVENT
BEGIN:VEVENT
UID:66363465-6335-4562-b836-323031613062
DTSTAMP:20260423T111504Z
DESCRIPTION:13/77 SK-V 41 Tábor z.s. - Hlincovka 0:3 (-21\,-24\,-18)
DTSTART;TZID=Europe/Berlin:20220127T193000
DTEND;TZID=Europe/Berlin:20220127T213000
LOCATION:Sportovní hala Kvapilova\, Kvapilova 2419 Tábor
SUMMARY:JC-Z-1: SK-V 41 Tábor z.s.-Hlincovka
END:VEVENT
BEGIN:VEVENT
UID:34363364-6665-4631-b738-376531303336
DTSTAMP:20260423T111504Z
DESCRIPTION:15/88 TJ Slovan J. Hradec\, z.s. - Hlincovka 0:3 (-14\,-16\,-22
 )
DTSTART;TZID=Europe/Berlin:20220210T200000
DTEND;TZID=Europe/Berlin:20220210T220000
LOCATION:Sportovní hala J. Hradec\, U Stadionu 1137 Jindřichův Hradec - Jin
 dřichův Hradec II
SUMMARY:JC-Z-1: TJ Slovan J. Hradec\, z.s.-Hlincovka
END:VEVENT
BEGIN:VEVENT
UID:64363437-6461-4339-a362-636539643833
DTSTAMP:20260423T111504Z
DESCRIPTION:17/99 TĚLOVÝCHOVNÁ JEDNOTA LOKOMOTIVA z.s. - Hlincovka 0:3 (-20
 \,-17\,-19)
DTSTART;TZID=Europe/Berlin:20220223T202000
DTEND;TZID=Europe/Berlin:20220223T222000
LOCATION:TĚLOVÝCHOVNÁ JEDNOTA LOKOMOTIVA z. s.\, Třebízského 1044 České Bud
 ějovice - České Budějovice 5
SUMMARY:JC-Z-1: TĚLOVÝCHOVNÁ JEDNOTA LOKOMOTIVA z.s.-Hlincovka
END:VEVENT
BEGIN:VEVENT
UID:36666465-6430-4531-b936-313337373661
DTSTAMP:20260423T111504Z
DESCRIPTION:19/110 TJ Meteor České Budějovice z.s. - Hlincovka 3:2 (21\,13\
 ,-24\,-22\,9)
DTSTART;TZID=Europe/Berlin:20220307T202000
DTEND;TZID=Europe/Berlin:20220307T222000
LOCATION:TĚLOVÝCHOVNÁ JEDNOTA LOKOMOTIVA z. s.\, Třebízského 1044 České Bud
 ějovice - České Budějovice 5
SUMMARY:JC-Z-1: TJ Meteor České Budějovice z.s.-Hlincovka
END:VEVENT
BEGIN:VEVENT
UID:66313332-6636-4136-b039-626239633037
DTSTAMP:20260423T111504Z
DESCRIPTION:22/132 Slavia JU ČB - Hlincovka 3:0 (18\,18\,22)
DTSTART;TZID=Europe/Berlin:20220331T202000
DTEND;TZID=Europe/Berlin:20220331T222000
LOCATION:ZŠ a ZUŠ Bezdrevská 3\, Bezdrevská 1036 České Budějovice - České B
 udějovice 2
SUMMARY:JC-Z-1: Slavia JU ČB-Hlincovka
END:VEVENT
BEGIN:VEVENT
UID:39663632-3038-4261-b966-323131323838
DTSTAMP:20260423T111504Z
DESCRIPTION:2/3 Hlincovka - ČZU Praha 3:0 (23\,20\,21)
DTSTART;TZID=Europe/Berlin:20220423T160000
DTEND;TZID=Europe/Berlin:20220423T180000
LOCATION:ZŠ Hluboká\, Karla Čapka 800 Hluboká nad Vltavou
SUMMARY:2-Z-KA: Hlincovka-ČZU Praha
END:VEVENT
BEGIN:VEVENT
UID:66353931-3264-4637-b562-393730393462
DTSTAMP:20260423T111504Z
DESCRIPTION:1/1 České Budějovice - Hlincovka 1:3 (-13\,21\,-17\,-16)
DTSTART;TZID=Europe/Berlin:20220423T100000
DTEND;TZID=Europe/Berlin:20220423T120000
LOCATION:ZŠ Hluboká\, Karla Čapka 800 Hluboká nad Vltavou
SUMMARY:2-Z-KA: České Budějovice-Hlincovka
END:VEVENT
BEGIN:VEVENT
UID:64396566-3230-4561-b237-643766666630
DTSTAMP:20260423T111504Z
DESCRIPTION:3/5 Nové Veselí - Hlincovka 1:3 (-19\,-13\,17\,-13)\nSH JU\, Na
  Sádkách 305\, Č. Budějovice
DTSTART;TZID=Europe/Berlin:20220424T100000
DTEND;TZID=Europe/Berlin:20220424T120000
LOCATION:ZŠ Hluboká\, Karla Čapka 800 Hluboká nad Vltavou
SUMMARY:2-Z-KA: Nové Veselí-Hlincovka
END:VEVENT
END:VCALENDAR
