BEGIN:VCALENDAR
VERSION:2.0
PRODID:-//TJ Lokomotiva České Budějovice77501//NONSGML kigkonsult.se iCalcreator 2.41.80//
CALSCALE:GREGORIAN
UID:30333730-3134-4232-b166-303637666165
BEGIN:VEVENT
UID:31353964-6337-4466-a334-666162653536
DTSTAMP:20260425T173109Z
DESCRIPTION:1/2 České Budějovice - Tělocvičná jednota Sokol Křemže 3:0 (18\
 ,23\,19)
DTSTART;TZID=Europe/Berlin:20210920T202000
DTEND;TZID=Europe/Berlin:20210920T222000
LOCATION:TĚLOVÝCHOVNÁ JEDNOTA LOKOMOTIVA z. s.\, Třebízského 1044 České Bud
 ějovice - České Budějovice 5
SUMMARY:JC-M-1: České Budějovice-Tělocvičná jednota Sokol Křemže
END:VEVENT
BEGIN:VEVENT
UID:36393536-3335-4262-b239-633531363437
DTSTAMP:20260425T173109Z
DESCRIPTION:4/16 České Budějovice - VSK Č. Krumlov z.s. 3:0 (20\,15\,10)
DTSTART;TZID=Europe/Berlin:20211018T202000
DTEND;TZID=Europe/Berlin:20211018T222000
LOCATION:ZŠ Oskara Nedbala České Budějovice\, O. Nedbala 882 České Budějovi
 ce - České Budějovice 2
SUMMARY:JC-M-1: České Budějovice-VSK Č. Krumlov z.s.
END:VEVENT
BEGIN:VEVENT
UID:64346563-3166-4464-b335-363561353266
DTSTAMP:20260425T173109Z
DESCRIPTION:6/23 České Budějovice - VSK Slavia JU ČB 3:0 (31\,20\,23)
DTSTART;TZID=Europe/Berlin:20211101T202000
DTEND;TZID=Europe/Berlin:20211101T222000
LOCATION:ZŠ Oskara Nedbala České Budějovice\, O. Nedbala 882 České Budějovi
 ce - České Budějovice 2
SUMMARY:JC-M-1: České Budějovice-VSK Slavia JU ČB
END:VEVENT
BEGIN:VEVENT
UID:35313766-6136-4461-b433-643262346330
DTSTAMP:20260425T173109Z
DESCRIPTION:9/36 České Budějovice - SK Čentro z.s. 3:0 (9\,16\,22)
DTSTART;TZID=Europe/Berlin:20220110T202000
DTEND;TZID=Europe/Berlin:20220110T222000
LOCATION:ZŠ Oskara Nedbala České Budějovice\, O. Nedbala 882 České Budějovi
 ce - České Budějovice 2
SUMMARY:JC-M-1: České Budějovice-SK Čentro z.s.
END:VEVENT
BEGIN:VEVENT
UID:33326631-6437-4966-b632-336135663765
DTSTAMP:20260425T173109Z
DESCRIPTION:12/46 České Budějovice - PiVoMan 3:0 (16\,14\,19)
DTSTART;TZID=Europe/Berlin:20220207T202000
DTEND;TZID=Europe/Berlin:20220207T222000
LOCATION:ZŠ Oskara Nedbala České Budějovice\, O. Nedbala 882 České Budějovi
 ce - České Budějovice 2
SUMMARY:JC-M-1: České Budějovice-PiVoMan
END:VEVENT
BEGIN:VEVENT
UID:65666137-3636-4861-b062-636661633033
DTSTAMP:20260425T173109Z
DESCRIPTION:14/55 České Budějovice - TJ Sokol Písek 3:0 (20\,21\,19)
DTSTART;TZID=Europe/Berlin:20220221T202000
DTEND;TZID=Europe/Berlin:20220221T222000
LOCATION:ZŠ Oskara Nedbala České Budějovice\, O. Nedbala 882 České Budějovi
 ce - České Budějovice 2
SUMMARY:JC-M-1: České Budějovice-TJ Sokol Písek
END:VEVENT
BEGIN:VEVENT
UID:62393830-3462-4437-b732-623636613338
DTSTAMP:20260425T173109Z
DESCRIPTION:2/8 SK Čentro z.s. - České Budějovice 0:3 (-16\,-18\,-20)
DTSTART;TZID=Europe/Berlin:20211007T202000
DTEND;TZID=Europe/Berlin:20211007T222000
LOCATION:TĚLOVÝCHOVNÁ JEDNOTA LOKOMOTIVA z. s.\, Třebízského 1044 České Bud
 ějovice - České Budějovice 5
SUMMARY:JC-M-1: SK Čentro z.s.-České Budějovice
END:VEVENT
BEGIN:VEVENT
UID:32373361-3964-4364-b930-626139356534
DTSTAMP:20260425T173109Z
DESCRIPTION:5/18 PiVoMan - České Budějovice 0:3 (-16\,-17\,-19)
DTSTART;TZID=Europe/Berlin:20211111T202000
DTEND;TZID=Europe/Berlin:20211111T222000
LOCATION:TĚLOVÝCHOVNÁ JEDNOTA LOKOMOTIVA z. s.\, Třebízského 1044 České Bud
 ějovice - České Budějovice 5
SUMMARY:JC-M-1: PiVoMan-České Budějovice
END:VEVENT
BEGIN:VEVENT
UID:36653166-3638-4461-a262-643432393264
DTSTAMP:20260425T173109Z
DESCRIPTION:7/27 TJ Sokol Písek - České Budějovice 0:3 (-22\,-21\,-15)
DTSTART;TZID=Europe/Berlin:20211125T200000
DTEND;TZID=Europe/Berlin:20211125T220000
LOCATION:Sportovní hala Sokol Písek\, Tyršova 395 Písek - Budějovické Předm
 ěstí
SUMMARY:JC-M-1: TJ Sokol Písek-České Budějovice
END:VEVENT
BEGIN:VEVENT
UID:37363762-3036-4138-b062-303764663561
DTSTAMP:20260425T173109Z
DESCRIPTION:8/30 Tělocvičná jednota Sokol Křemže - České Budějovice 0:3 (-2
 0\,-13\,-16)
DTSTART;TZID=Europe/Berlin:20211115T200000
DTEND;TZID=Europe/Berlin:20211115T220000
LOCATION:ZŠ Za Nádražím Český Krumlov\, Za Nádražím 222 Český Krumlov - Nád
 ražní Předměstí
SUMMARY:JC-M-1: Tělocvičná jednota Sokol Křemže-České Budějovice
END:VEVENT
BEGIN:VEVENT
UID:65376538-3131-4163-b464-313731353463
DTSTAMP:20260425T173109Z
DESCRIPTION:11/44 VSK Č. Krumlov z.s. - České Budějovice 0:3 (-21\,-19\,-23
 )
DTSTART;TZID=Europe/Berlin:20220317T200000
DTEND;TZID=Europe/Berlin:20220317T220000
LOCATION:ZŠ Za Nádražím Český Krumlov\, Za Nádražím 222 Český Krumlov - Nád
 ražní Předměstí
SUMMARY:JC-M-1: VSK Č. Krumlov z.s.-České Budějovice
END:VEVENT
BEGIN:VEVENT
UID:62343663-3066-4430-b839-326236333939
DTSTAMP:20260425T173109Z
DESCRIPTION:13/51 VSK Slavia JU ČB - České Budějovice 0:3 (-22\,-14\,-23)
DTSTART;TZID=Europe/Berlin:20220215T202000
DTEND;TZID=Europe/Berlin:20220215T222000
LOCATION:Sportovní hala Jihočeské univerzity\, Na Sádkách 305 České Budějov
 ice - České Budějovice 2
SUMMARY:JC-M-1: VSK Slavia JU ČB-České Budějovice
END:VEVENT
BEGIN:VEVENT
UID:31623162-6639-4466-b532-373936326331
DTSTAMP:20260425T173109Z
DESCRIPTION:3/6 České Budějovice - ProsekPítr Vítězslav./Kotrč Miroslav
DTSTART;TZID=Europe/Berlin:20220424T120000
DTEND;TZID=Europe/Berlin:20220424T140000
LOCATION:SH SK Prosek\, Lovosická 559 Praha - Letňany
SUMMARY:2-M-KB: České Budějovice-Prosek
END:VEVENT
BEGIN:VEVENT
UID:36353333-3539-4435-b038-643034343664
DTSTAMP:20260425T173109Z
DESCRIPTION:1/2 Sokolov - České Budějovice 0:3 (-17\,-23\,-23)
DTSTART;TZID=Europe/Berlin:20220423T120000
DTEND;TZID=Europe/Berlin:20220423T140000
LOCATION:SH SK Prosek\, Lovosická 559 Praha - Letňany
SUMMARY:2-M-KB: Sokolov-České Budějovice
END:VEVENT
BEGIN:VEVENT
UID:30336230-6562-4262-b863-313135653064
DTSTAMP:20260425T173109Z
DESCRIPTION:2/3 Chvaletice - České Budějovice 0:3 (-19\,-23\,-9)
DTSTART;TZID=Europe/Berlin:20220423T160000
DTEND;TZID=Europe/Berlin:20220423T180000
LOCATION:SH SK Prosek\, Lovosická 559 Praha - Letňany
SUMMARY:2-M-KB: Chvaletice-České Budějovice
END:VEVENT
END:VCALENDAR
