BEGIN:VCALENDAR
VERSION:2.0
PRODID:-//VSK Slavia JU České Budějovice, z.s.77504//NONSGML kigkonsult.se iCalcreator 2.41.80//
CALSCALE:GREGORIAN
UID:34343334-6465-4038-b133-336265316636
BEGIN:VEVENT
UID:37646331-3661-4538-a332-623332653765
DTSTAMP:20260425T232020Z
DESCRIPTION:3/12 VSK Slavia JU ČB - TJ Sokol Písek 3:0 (20\,17\,20)
DTSTART;TZID=Europe/Berlin:20211012T202000
DTEND;TZID=Europe/Berlin:20211012T222000
LOCATION:Sportovní hala Jihočeské univerzity\, Na Sádkách 305 České Budějov
 ice - České Budějovice 2
SUMMARY:JC-M-1: VSK Slavia JU ČB-TJ Sokol Písek
END:VEVENT
BEGIN:VEVENT
UID:32666336-3132-4865-b538-396333346634
DTSTAMP:20260425T232020Z
DESCRIPTION:5/19 VSK Slavia JU ČB - SK Čentro z.s. 3:0 (19\,15\,22)
DTSTART;TZID=Europe/Berlin:20211026T202000
DTEND;TZID=Europe/Berlin:20211026T222000
LOCATION:Sportovní hala Jihočeské univerzity\, Na Sádkách 305 České Budějov
 ice - České Budějovice 2
SUMMARY:JC-M-1: VSK Slavia JU ČB-SK Čentro z.s.
END:VEVENT
BEGIN:VEVENT
UID:63653166-6330-4236-a166-663738353265
DTSTAMP:20260425T232020Z
DESCRIPTION:7/26 VSK Slavia JU ČB - VSK Č. Krumlov z.s. 3:0 (22\,10\,18)
DTSTART;TZID=Europe/Berlin:20211109T202000
DTEND;TZID=Europe/Berlin:20211109T222000
LOCATION:Sportovní hala Jihočeské univerzity\, Na Sádkách 305 České Budějov
 ice - České Budějovice 2
SUMMARY:JC-M-1: VSK Slavia JU ČB-VSK Č. Krumlov z.s.
END:VEVENT
BEGIN:VEVENT
UID:36643139-3638-4837-b162-396339633137
DTSTAMP:20260425T232020Z
DESCRIPTION:8/32 VSK Slavia JU ČB - PiVoMan 3:0 (18\,23\,23)
DTSTART;TZID=Europe/Berlin:20211116T202000
DTEND;TZID=Europe/Berlin:20211116T222000
LOCATION:Sportovní hala Jihočeské univerzity\, Na Sádkách 305 České Budějov
 ice - České Budějovice 2
SUMMARY:JC-M-1: VSK Slavia JU ČB-PiVoMan
END:VEVENT
BEGIN:VEVENT
UID:61363138-6133-4466-b238-336465616136
DTSTAMP:20260425T232020Z
DESCRIPTION:11/42 VSK Slavia JU ČB - Tělocvičná jednota Sokol Křemže 3:0 (2
 0\,19\,29)
DTSTART;TZID=Europe/Berlin:20220201T202000
DTEND;TZID=Europe/Berlin:20220201T222000
LOCATION:Sportovní hala Jihočeské univerzity\, Na Sádkách 305 České Budějov
 ice - České Budějovice 2
SUMMARY:JC-M-1: VSK Slavia JU ČB-Tělocvičná jednota Sokol Křemže
END:VEVENT
BEGIN:VEVENT
UID:62373161-6437-4161-b365-356336656235
DTSTAMP:20260425T232020Z
DESCRIPTION:13/51 VSK Slavia JU ČB - České Budějovice 0:3 (-22\,-14\,-23)
DTSTART;TZID=Europe/Berlin:20220215T202000
DTEND;TZID=Europe/Berlin:20220215T222000
LOCATION:Sportovní hala Jihočeské univerzity\, Na Sádkách 305 České Budějov
 ice - České Budějovice 2
SUMMARY:JC-M-1: VSK Slavia JU ČB-České Budějovice
END:VEVENT
BEGIN:VEVENT
UID:37373733-3261-4931-b336-653136663962
DTSTAMP:20260425T232020Z
DESCRIPTION:1/4 PiVoMan - VSK Slavia JU ČB 1:3 (-9\,-15\,20\,-18)
DTSTART;TZID=Europe/Berlin:20210930T202000
DTEND;TZID=Europe/Berlin:20210930T222000
LOCATION:TĚLOVÝCHOVNÁ JEDNOTA LOKOMOTIVA z. s.\, Třebízského 1044 České Bud
 ějovice - České Budějovice 5
SUMMARY:JC-M-1: PiVoMan-VSK Slavia JU ČB
END:VEVENT
BEGIN:VEVENT
UID:31313838-3139-4162-b531-623863346132
DTSTAMP:20260425T232020Z
DESCRIPTION:4/14 Tělocvičná jednota Sokol Křemže - VSK Slavia JU ČB 0:3 (-1
 8\,-26\,-22)
DTSTART;TZID=Europe/Berlin:20211018T200000
DTEND;TZID=Europe/Berlin:20211018T220000
LOCATION:ZŠ Za Nádražím Český Krumlov\, Za Nádražím 222 Český Krumlov - Nád
 ražní Předměstí
SUMMARY:JC-M-1: Tělocvičná jednota Sokol Křemže-VSK Slavia JU ČB
END:VEVENT
BEGIN:VEVENT
UID:61353266-3439-4132-a635-376465353163
DTSTAMP:20260425T232020Z
DESCRIPTION:6/23 České Budějovice - VSK Slavia JU ČB 3:0 (31\,20\,23)
DTSTART;TZID=Europe/Berlin:20211101T202000
DTEND;TZID=Europe/Berlin:20211101T222000
LOCATION:ZŠ Oskara Nedbala České Budějovice\, O. Nedbala 882 České Budějovi
 ce - České Budějovice 2
SUMMARY:JC-M-1: České Budějovice-VSK Slavia JU ČB
END:VEVENT
BEGIN:VEVENT
UID:33353364-6465-4161-a635-346337306430
DTSTAMP:20260425T232020Z
DESCRIPTION:10/40 TJ Sokol Písek - VSK Slavia JU ČB 0:3 (-25\,-21\,-22)
DTSTART;TZID=Europe/Berlin:20220310T200000
DTEND;TZID=Europe/Berlin:20220310T220000
LOCATION:Sportovní hala Sokol Písek\, Tyršova 395 Písek - Budějovické Předm
 ěstí
SUMMARY:JC-M-1: TJ Sokol Písek-VSK Slavia JU ČB
END:VEVENT
BEGIN:VEVENT
UID:30613064-3639-4635-b032-633764303433
DTSTAMP:20260425T232020Z
DESCRIPTION:12/47 SK Čentro z.s. - VSK Slavia JU ČB 0:3 (-15\,-4\,-22)
DTSTART;TZID=Europe/Berlin:20220210T202000
DTEND;TZID=Europe/Berlin:20220210T222000
LOCATION:TĚLOVÝCHOVNÁ JEDNOTA LOKOMOTIVA z. s.\, Třebízského 1044 České Bud
 ějovice - České Budějovice 5
SUMMARY:JC-M-1: SK Čentro z.s.-VSK Slavia JU ČB
END:VEVENT
BEGIN:VEVENT
UID:66363833-6261-4333-b333-643730663930
DTSTAMP:20260425T232020Z
DESCRIPTION:14/54 VSK Č. Krumlov z.s. - VSK Slavia JU ČB 1:3 (-15\,-25\,20\
 ,-22)
DTSTART;TZID=Europe/Berlin:20220224T200000
DTEND;TZID=Europe/Berlin:20220224T220000
LOCATION:ZŠ Za Nádražím Český Krumlov\, Za Nádražím 222 Český Krumlov - Nád
 ražní Předměstí
SUMMARY:JC-M-1: VSK Č. Krumlov z.s.-VSK Slavia JU ČB
END:VEVENT
END:VCALENDAR
