BEGIN:VCALENDAR
VERSION:2.0
PRODID:-//SK Kojetín 2016, z.s.77579//NONSGML kigkonsult.se iCalcreator 2.41.80//
CALSCALE:GREGORIAN
UID:66356366-6133-4362-b666-383235643331
BEGIN:VEVENT
UID:62643061-3737-4333-a139-383163316437
DTSTAMP:20260422T224306Z
DESCRIPTION:3/8 Kojetín - OP Prostějov 0:3 (-17\,-16\,-16)
DTSTART;TZID=Europe/Berlin:20211010T110000
DTEND;TZID=Europe/Berlin:20211010T130000
LOCATION:Městská sportovní hala\, Hanusíkova 1476 Kojetín - Kojetín I-Město
SUMMARY:OLK-JKY: Kojetín-OP Prostějov
END:VEVENT
BEGIN:VEVENT
UID:63343962-3338-4664-a430-326434373032
DTSTAMP:20260422T224306Z
DESCRIPTION:4/11 Kojetín - OP Prostějov 0:3 (-12\,-10\,-12)
DTSTART;TZID=Europe/Berlin:20211010T150000
DTEND;TZID=Europe/Berlin:20211010T170000
LOCATION:Městská sportovní hala\, Hanusíkova 1476 Kojetín - Kojetín I-Město
SUMMARY:OLK-JKY: Kojetín-OP Prostějov
END:VEVENT
BEGIN:VEVENT
UID:33653430-6166-4832-a662-343239353835
DTSTAMP:20260422T224306Z
DESCRIPTION:9/27 Kojetín - Šumperk 3:0 (21\,22\,18)
DTSTART;TZID=Europe/Berlin:20220109T110000
DTEND;TZID=Europe/Berlin:20220109T130000
LOCATION:Městská sportovní hala\, Hanusíkova 1476 Kojetín - Kojetín I-Město
SUMMARY:OLK-JKY: Kojetín-Šumperk
END:VEVENT
BEGIN:VEVENT
UID:36643532-6132-4637-b438-343538323130
DTSTAMP:20260422T224306Z
DESCRIPTION:10/30 Kojetín - Šumperk 0:3 (-11\,-25\,-19)
DTSTART;TZID=Europe/Berlin:20220109T150000
DTEND;TZID=Europe/Berlin:20220109T170000
LOCATION:Městská sportovní hala\, Hanusíkova 1476 Kojetín - Kojetín I-Město
SUMMARY:OLK-JKY: Kojetín-Šumperk
END:VEVENT
BEGIN:VEVENT
UID:39386665-3865-4439-a566-363434313262
DTSTAMP:20260422T224306Z
DESCRIPTION:11/32 Kojetín - Olomouc 0:3 (-13\,-13\,-18)
DTSTART;TZID=Europe/Berlin:20211211T110000
DTEND;TZID=Europe/Berlin:20211211T130000
LOCATION:Městská sportovní hala\, Hanusíkova 1476 Kojetín - Kojetín I-Město
SUMMARY:OLK-JKY: Kojetín-Olomouc
END:VEVENT
BEGIN:VEVENT
UID:65353163-6262-4138-b730-613734653762
DTSTAMP:20260422T224306Z
DESCRIPTION:12/35 Kojetín - Olomouc 0:3 (-16\,-14\,-12)
DTSTART;TZID=Europe/Berlin:20211211T150000
DTEND;TZID=Europe/Berlin:20211211T170000
LOCATION:Městská sportovní hala\, Hanusíkova 1476 Kojetín - Kojetín I-Město
SUMMARY:OLK-JKY: Kojetín-Olomouc
END:VEVENT
BEGIN:VEVENT
UID:66373133-3838-4130-b164-353635323761
DTSTAMP:20260422T224306Z
DESCRIPTION:15/45 Kojetín - VK Prostějov 0:3 (-14\,-17\,-16)
DTSTART;TZID=Europe/Berlin:20220213T110000
DTEND;TZID=Europe/Berlin:20220213T130000
LOCATION:Městská sportovní hala\, Hanusíkova 1476 Kojetín - Kojetín I-Město
SUMMARY:OLK-JKY: Kojetín-VK Prostějov
END:VEVENT
BEGIN:VEVENT
UID:35336562-3335-4638-b164-303663633632
DTSTAMP:20260422T224306Z
DESCRIPTION:16/48 Kojetín - VK Prostějov 1:3 (-17\,12\,-17\,-22)
DTSTART;TZID=Europe/Berlin:20220213T150000
DTEND;TZID=Europe/Berlin:20220213T170000
LOCATION:Městská sportovní hala\, Hanusíkova 1476 Kojetín - Kojetín I-Město
SUMMARY:OLK-JKY: Kojetín-VK Prostějov
END:VEVENT
BEGIN:VEVENT
UID:37356530-6531-4439-a636-356135626232
DTSTAMP:20260422T224306Z
DESCRIPTION:17/49 Kojetín - Přerov 3:0 (23\,12\,8)
DTSTART;TZID=Europe/Berlin:20220226T090000
DTEND;TZID=Europe/Berlin:20220226T110000
LOCATION:Městská sportovní hala\, Hanusíkova 1476 Kojetín - Kojetín I-Město
SUMMARY:OLK-JKY: Kojetín-Přerov
END:VEVENT
BEGIN:VEVENT
UID:35393138-6662-4335-b533-306163336266
DTSTAMP:20260422T224306Z
DESCRIPTION:18/52 Kojetín - Přerov 3:0 (10\,15\,14)
DTSTART;TZID=Europe/Berlin:20220226T130000
DTEND;TZID=Europe/Berlin:20220226T150000
LOCATION:Městská sportovní hala\, Hanusíkova 1476 Kojetín - Kojetín I-Město
SUMMARY:OLK-JKY: Kojetín-Přerov
END:VEVENT
BEGIN:VEVENT
UID:39653432-6634-4463-b536-316637363863
DTSTAMP:20260422T224306Z
DESCRIPTION:1/2 Olomouc - Kojetín 3:1 (16\,17\,-22\,14)
DTSTART;TZID=Europe/Berlin:20210925T093000
DTEND;TZID=Europe/Berlin:20210925T113000
LOCATION:VOŠ a SPŠE Olomouc\, Božetěchova 755 Olomouc - Hodolany
SUMMARY:OLK-JKY: Olomouc-Kojetín
END:VEVENT
BEGIN:VEVENT
UID:36626334-3430-4630-a663-393438323933
DTSTAMP:20260422T224306Z
DESCRIPTION:2/5 Olomouc - Kojetín 3:1 (8\,-17\,6\,17)
DTSTART;TZID=Europe/Berlin:20210925T120000
DTEND;TZID=Europe/Berlin:20210925T140000
LOCATION:VOŠ a SPŠE Olomouc\, Božetěchova 755 Olomouc - Hodolany
SUMMARY:OLK-JKY: Olomouc-Kojetín
END:VEVENT
BEGIN:VEVENT
UID:35646562-3033-4962-b830-303565303361
DTSTAMP:20260422T224306Z
DESCRIPTION:5/15 VK Prostějov - Kojetín 3:0 (21\,12\,19)
DTSTART;TZID=Europe/Berlin:20220129T100000
DTEND;TZID=Europe/Berlin:20220129T120000
LOCATION:Letní hala u zimního stadionu\, Kostelecká 3113 Prostějov
SUMMARY:OLK-JKY: VK Prostějov-Kojetín
END:VEVENT
BEGIN:VEVENT
UID:36656430-3261-4561-b535-343138353434
DTSTAMP:20260422T224306Z
DESCRIPTION:6/18 VK Prostějov - Kojetín 3:0 (10\,19\,9)
DTSTART;TZID=Europe/Berlin:20220129T140000
DTEND;TZID=Europe/Berlin:20220129T160000
LOCATION:Letní hala u zimního stadionu\, Kostelecká 3113 Prostějov
SUMMARY:OLK-JKY: VK Prostějov-Kojetín
END:VEVENT
BEGIN:VEVENT
UID:65376233-6566-4831-b335-386230616539
DTSTAMP:20260422T224306Z
DESCRIPTION:7/19 Přerov - Kojetín 1:3 (-18\,27\,-20\,-16)
DTSTART;TZID=Europe/Berlin:20211113T100000
DTEND;TZID=Europe/Berlin:20211113T120000
LOCATION:Tělocvična ZŠ\, Velká Dlážka 914 Přerov - Přerov I-Město
SUMMARY:OLK-JKY: Přerov-Kojetín
END:VEVENT
BEGIN:VEVENT
UID:34333337-3230-4439-a565-616131366233
DTSTAMP:20260422T224306Z
DESCRIPTION:8/22 Přerov - Kojetín 0:3 (-14\,-15\,-21)
DTSTART;TZID=Europe/Berlin:20211113T140000
DTEND;TZID=Europe/Berlin:20211113T160000
LOCATION:Tělocvična ZŠ\, Velká Dlážka 914 Přerov - Přerov I-Město
SUMMARY:OLK-JKY: Přerov-Kojetín
END:VEVENT
BEGIN:VEVENT
UID:31383338-6463-4431-a462-376430316231
DTSTAMP:20260422T224306Z
DESCRIPTION:13/38 OP Prostějov - Kojetín 3:0 (5\,25\,12)
DTSTART;TZID=Europe/Berlin:20220123T100000
DTEND;TZID=Europe/Berlin:20220123T120000
LOCATION:Letní hala u zimního stadionu\, Kostelecká 3113 Prostějov
SUMMARY:OLK-JKY: OP Prostějov-Kojetín
END:VEVENT
BEGIN:VEVENT
UID:34363836-6662-4331-a366-633638633137
DTSTAMP:20260422T224306Z
DESCRIPTION:14/41 OP Prostějov - Kojetín 3:1 (16\,26\,-23\,23)
DTSTART;TZID=Europe/Berlin:20220123T140000
DTEND;TZID=Europe/Berlin:20220123T160000
LOCATION:Letní hala u zimního stadionu\, Kostelecká 3113 Prostějov
SUMMARY:OLK-JKY: OP Prostějov-Kojetín
END:VEVENT
BEGIN:VEVENT
UID:37306134-6563-4262-b063-656565346332
DTSTAMP:20260422T224306Z
DESCRIPTION:19/57 Šumperk - Kojetín 3:1 (26\,-18\,17\,25)
DTSTART;TZID=Europe/Berlin:20220312T100000
DTEND;TZID=Europe/Berlin:20220312T120000
LOCATION:3. ZŠ Šumperk\, 8. května 870 Šumperk
SUMMARY:OLK-JKY: Šumperk-Kojetín
END:VEVENT
BEGIN:VEVENT
UID:31353662-3335-4534-a536-643636613030
DTSTAMP:20260422T224306Z
DESCRIPTION:20/60 Šumperk - Kojetín 3:0 (20\,10\,20)
DTSTART;TZID=Europe/Berlin:20220312T140000
DTEND;TZID=Europe/Berlin:20220312T160000
LOCATION:3. ZŠ Šumperk\, 8. května 870 Šumperk
SUMMARY:OLK-JKY: Šumperk-Kojetín
END:VEVENT
END:VCALENDAR
