BEGIN:VCALENDAR
VERSION:2.0
PRODID:-//TJ Sokol Bohuňovice, z.s.77618//NONSGML kigkonsult.se iCalcreator 2.41.80//
CALSCALE:GREGORIAN
UID:38666665-3562-4262-a631-326136323139
BEGIN:VEVENT
UID:37313932-6139-4530-b638-313139383264
DTSTAMP:20260422T122442Z
DESCRIPTION:1/8 Bohuňovice - Šternberk 2:1 (-19\,17\,13)\nKurt A
DTSTART;TZID=Europe/Berlin:20211002T110000
DTEND;TZID=Europe/Berlin:20211002T130000
LOCATION:Městská sportovní hala\, Petřivalského 2884 Přerov - Přerov I-Měst
 o
SUMMARY:OLK-ZKY-KC: Bohuňovice-Šternberk
END:VEVENT
BEGIN:VEVENT
UID:62623638-3533-4534-a234-373633356666
DTSTAMP:20260422T122442Z
DESCRIPTION:1/9 Prostějov - Bohuňovice 2:0 (10\,8)\nKurt B
DTSTART;TZID=Europe/Berlin:20211002T120000
DTEND;TZID=Europe/Berlin:20211002T140000
LOCATION:Městská sportovní hala\, Petřivalského 2884 Přerov - Přerov I-Měst
 o
SUMMARY:OLK-ZKY-KC: Prostějov-Bohuňovice
END:VEVENT
BEGIN:VEVENT
UID:36303033-3866-4030-b830-366161633466
DTSTAMP:20260422T122442Z
DESCRIPTION:1/14 Přerov B - Bohuňovice 0:2 (-20\,-12)\nKurt B
DTSTART;TZID=Europe/Berlin:20211002T130000
DTEND;TZID=Europe/Berlin:20211002T150000
LOCATION:Městská sportovní hala\, Petřivalského 2884 Přerov - Přerov I-Měst
 o
SUMMARY:OLK-ZKY-FB: Přerov B-Bohuňovice
END:VEVENT
BEGIN:VEVENT
UID:32666466-6334-4239-a537-623964373931
DTSTAMP:20260422T122442Z
DESCRIPTION:1/2 Bohuňovice - Prostějov 0:2 (-7\,-11)\nKurt B
DTSTART;TZID=Europe/Berlin:20211023T090000
DTEND;TZID=Europe/Berlin:20211023T110000
LOCATION:Národní sportovní centrum\, Za velodromem 4187 Prostějov
SUMMARY:OLK-ZKY-1A: Bohuňovice-Prostějov
END:VEVENT
BEGIN:VEVENT
UID:63656232-3434-4839-b263-323232303937
DTSTAMP:20260422T122442Z
DESCRIPTION:1/5 Bohuňovice - Přerov 0:2 (-13\,-11)\nKurt A
DTSTART;TZID=Europe/Berlin:20211023T130000
DTEND;TZID=Europe/Berlin:20211023T150000
LOCATION:Národní sportovní centrum\, Za velodromem 4187 Prostějov
SUMMARY:OLK-ZKY-1A: Bohuňovice-Přerov
END:VEVENT
BEGIN:VEVENT
UID:37313261-3633-4137-b062-656334316465
DTSTAMP:20260422T122442Z
DESCRIPTION:1/4 VK UP Olomouc A - Bohuňovice 2:0 (16\,16)\nKurt A
DTSTART;TZID=Europe/Berlin:20211023T110000
DTEND;TZID=Europe/Berlin:20211023T130000
LOCATION:Národní sportovní centrum\, Za velodromem 4187 Prostějov
SUMMARY:OLK-ZKY-1A: VK UP Olomouc A-Bohuňovice
END:VEVENT
BEGIN:VEVENT
UID:64333939-3733-4864-b831-626561373238
DTSTAMP:20260422T122442Z
DESCRIPTION:2/3 Bohuňovice - Šternberk 0:2 (-18\,-11)
DTSTART;TZID=Europe/Berlin:20211106T110000
DTEND;TZID=Europe/Berlin:20211106T130000
LOCATION:tělocvična\, U Stadionu 849 Uničov
SUMMARY:OLK-ZKY-2B: Bohuňovice-Šternberk
END:VEVENT
BEGIN:VEVENT
UID:62313434-3632-4736-a335-623031306534
DTSTAMP:20260422T122442Z
DESCRIPTION:2/2 Bohuňovice - Přerov B 0:2 (-18\,-25)
DTSTART;TZID=Europe/Berlin:20211106T100000
DTEND;TZID=Europe/Berlin:20211106T120000
LOCATION:tělocvična\, U Stadionu 849 Uničov
SUMMARY:OLK-ZKY-2B: Bohuňovice-Přerov B
END:VEVENT
BEGIN:VEVENT
UID:61653030-6135-4565-a532-633764313931
DTSTAMP:20260422T122442Z
DESCRIPTION:2/6 Uničov - Bohuňovice 2:1 (-14\,26\,7)
DTSTART;TZID=Europe/Berlin:20211106T140000
DTEND;TZID=Europe/Berlin:20211106T160000
LOCATION:tělocvična\, U Stadionu 849 Uničov
SUMMARY:OLK-ZKY-2B: Uničov-Bohuňovice
END:VEVENT
BEGIN:VEVENT
UID:64376162-3430-4761-a363-363236306635
DTSTAMP:20260422T122442Z
DESCRIPTION:3/1 Bohuňovice - Česká Třebová 2:0 (12\,20)
DTSTART;TZID=Europe/Berlin:20211204T090000
DTEND;TZID=Europe/Berlin:20211204T110000
LOCATION:VDA u Billy\, Habrmanova 2096 Česká Třebová
SUMMARY:OLK-ZKY-3C: Bohuňovice-Česká Třebová
END:VEVENT
BEGIN:VEVENT
UID:65353032-3831-4938-b166-353537616136
DTSTAMP:20260422T122442Z
DESCRIPTION:3/4 Bohuňovice - VAM Olomouc 0:2 (-12\,-24)
DTSTART;TZID=Europe/Berlin:20211204T120000
DTEND;TZID=Europe/Berlin:20211204T140000
LOCATION:VDA u Billy\, Habrmanova 2096 Česká Třebová
SUMMARY:OLK-ZKY-3C: Bohuňovice-VAM Olomouc
END:VEVENT
BEGIN:VEVENT
UID:37663238-6537-4733-b064-616665616664
DTSTAMP:20260422T122442Z
DESCRIPTION:3/5 Prostějov B - Bohuňovice 2:1 (-20\,23\,14)
DTSTART;TZID=Europe/Berlin:20211204T130000
DTEND;TZID=Europe/Berlin:20211204T150000
LOCATION:VDA u Billy\, Habrmanova 2096 Česká Třebová
SUMMARY:OLK-ZKY-3C: Prostějov B-Bohuňovice
END:VEVENT
BEGIN:VEVENT
UID:31386330-3537-4665-b138-373566306437
DTSTAMP:20260422T122442Z
DESCRIPTION:4/1 Bohuňovice - Šternberk 2:0 (12\,25)
DTSTART;TZID=Europe/Berlin:20211218T083000
DTEND;TZID=Europe/Berlin:20211218T103000
LOCATION:Hala ZŠ Dr. Hrubého\, Dr. Hrubého 319 Šternberk
SUMMARY:OLK-ZKY-4C: Bohuňovice-Šternberk
END:VEVENT
BEGIN:VEVENT
UID:65663266-3138-4764-b263-376133633734
DTSTAMP:20260422T122442Z
DESCRIPTION:4/5 VAM Olomouc - Bohuňovice 0:2 (-13\,-11)
DTSTART;TZID=Europe/Berlin:20211218T123000
DTEND;TZID=Europe/Berlin:20211218T143000
LOCATION:Hala ZŠ Dr. Hrubého\, Dr. Hrubého 319 Šternberk
SUMMARY:OLK-ZKY-4C: VAM Olomouc-Bohuňovice
END:VEVENT
BEGIN:VEVENT
UID:39373539-6463-4635-b631-633838313235
DTSTAMP:20260422T122442Z
DESCRIPTION:4/3 Česká Třebová - Bohuňovice 0:2 (-21\,-14)
DTSTART;TZID=Europe/Berlin:20211218T103000
DTEND;TZID=Europe/Berlin:20211218T123000
LOCATION:Hala ZŠ Dr. Hrubého\, Dr. Hrubého 319 Šternberk
SUMMARY:OLK-ZKY-4C: Česká Třebová-Bohuňovice
END:VEVENT
BEGIN:VEVENT
UID:31353663-6231-4937-b366-393364336532
DTSTAMP:20260422T122442Z
DESCRIPTION:5/3 Bohuňovice - Prostějov B 2:1 (4\,-21\,12)\nkurt B
DTSTART;TZID=Europe/Berlin:20220115T110000
DTEND;TZID=Europe/Berlin:20220115T130000
LOCATION:Městská sportovní hala\, Petřivalského 2884 Přerov - Přerov I-Měst
 o
SUMMARY:OLK-ZKY-5B: Bohuňovice-Prostějov B
END:VEVENT
BEGIN:VEVENT
UID:66633238-3432-4631-b263-383938616232
DTSTAMP:20260422T122442Z
DESCRIPTION:5/1 Uničov - Bohuňovice 0:2 (-13\,-15)\nkurt B
DTSTART;TZID=Europe/Berlin:20220115T090000
DTEND;TZID=Europe/Berlin:20220115T110000
LOCATION:Městská sportovní hala\, Petřivalského 2884 Přerov - Přerov I-Měst
 o
SUMMARY:OLK-ZKY-5B: Uničov-Bohuňovice
END:VEVENT
BEGIN:VEVENT
UID:61323639-6662-4264-b230-663762343932
DTSTAMP:20260422T122442Z
DESCRIPTION:5/5 Přerov B - Bohuňovice 2:0 (17\,20)\nkurt A
DTSTART;TZID=Europe/Berlin:20220115T130000
DTEND;TZID=Europe/Berlin:20220115T150000
LOCATION:Městská sportovní hala\, Petřivalského 2884 Přerov - Přerov I-Měst
 o
SUMMARY:OLK-ZKY-5B: Přerov B-Bohuňovice
END:VEVENT
BEGIN:VEVENT
UID:62333334-6164-4861-b136-653864616338
DTSTAMP:20260422T122442Z
DESCRIPTION:6/1 Bohuňovice - Uničov 1:2 (21\,-19\,-8)
DTSTART;TZID=Europe/Berlin:20220212T090000
DTEND;TZID=Europe/Berlin:20220212T110000
LOCATION:tělocvična\, U Stadionu 849 Uničov
SUMMARY:OLK-ZKY-6B: Bohuňovice-Uničov
END:VEVENT
BEGIN:VEVENT
UID:34316138-3731-4930-a537-393637326364
DTSTAMP:20260422T122442Z
DESCRIPTION:6/5 Bohuňovice - VK UP Olomouc B 2:0 (10\,16)
DTSTART;TZID=Europe/Berlin:20220212T130000
DTEND;TZID=Europe/Berlin:20220212T150000
LOCATION:tělocvična\, U Stadionu 849 Uničov
SUMMARY:OLK-ZKY-6B: Bohuňovice-VK UP Olomouc B
END:VEVENT
BEGIN:VEVENT
UID:38353661-6430-4938-b538-613733323332
DTSTAMP:20260422T122442Z
DESCRIPTION:6/4 Šumperk - Bohuňovice 0:2 (-18\,-24)
DTSTART;TZID=Europe/Berlin:20220212T120000
DTEND;TZID=Europe/Berlin:20220212T140000
LOCATION:tělocvična\, U Stadionu 849 Uničov
SUMMARY:OLK-ZKY-6B: Šumperk-Bohuňovice
END:VEVENT
BEGIN:VEVENT
UID:65633832-6663-4230-b131-363838396635
DTSTAMP:20260422T122442Z
DESCRIPTION:2/1 Bohuňovice - Šternberk 1:2 (12\,-23\,-12)\nKurt B
DTSTART;TZID=Europe/Berlin:20220409T110000
DTEND;TZID=Europe/Berlin:20220409T130000
LOCATION:Sportovní hala\, Gymnazijní 257 Uničov
SUMMARY:OLK-ZKY-P2B: Bohuňovice-Šternberk
END:VEVENT
BEGIN:VEVENT
UID:37336263-3464-4661-a635-666437306531
DTSTAMP:20260422T122442Z
DESCRIPTION:2/4 Bohuňovice - Uničov 0:2 (-13\,-22)\nKurt A
DTSTART;TZID=Europe/Berlin:20220409T120000
DTEND;TZID=Europe/Berlin:20220409T140000
LOCATION:Sportovní hala\, Gymnazijní 257 Uničov
SUMMARY:OLK-ZKY-P2B: Bohuňovice-Uničov
END:VEVENT
BEGIN:VEVENT
UID:34373034-3966-4239-a135-376132623732
DTSTAMP:20260422T122442Z
DESCRIPTION:2/6 Česká Třebová - Bohuňovice 0:2 (-19\,-7)\nKurt B
DTSTART;TZID=Europe/Berlin:20220409T130000
DTEND;TZID=Europe/Berlin:20220409T150000
LOCATION:Sportovní hala\, Gymnazijní 257 Uničov
SUMMARY:OLK-ZKY-P2B: Česká Třebová-Bohuňovice
END:VEVENT
BEGIN:VEVENT
UID:31373239-3130-4364-b230-373135353565
DTSTAMP:20260422T122442Z
DESCRIPTION:3/2 Bohuňovice - Uničov 1:2 (-18\,18\,-3)
DTSTART;TZID=Europe/Berlin:20220507T100000
DTEND;TZID=Europe/Berlin:20220507T120000
LOCATION:Letní tělocvična\, Za velodromem 4205 Prostějov
SUMMARY:OLK-ZKY-P3A: Bohuňovice-Uničov
END:VEVENT
BEGIN:VEVENT
UID:32366137-6165-4939-b332-303866626238
DTSTAMP:20260422T122442Z
DESCRIPTION:3/3 VK UP Olomouc A - Bohuňovice 2:0 (8\,22)
DTSTART;TZID=Europe/Berlin:20220507T110000
DTEND;TZID=Europe/Berlin:20220507T130000
LOCATION:Letní tělocvična\, Za velodromem 4205 Prostějov
SUMMARY:OLK-ZKY-P3A: VK UP Olomouc A-Bohuňovice
END:VEVENT
BEGIN:VEVENT
UID:35363562-6537-4331-b433-393933363138
DTSTAMP:20260422T122442Z
DESCRIPTION:3/6 Prostějov - Bohuňovice 2:0 (6\,20)
DTSTART;TZID=Europe/Berlin:20220507T140000
DTEND;TZID=Europe/Berlin:20220507T160000
LOCATION:Letní tělocvična\, Za velodromem 4205 Prostějov
SUMMARY:OLK-ZKY-P3A: Prostějov-Bohuňovice
END:VEVENT
BEGIN:VEVENT
UID:30386633-6336-4837-a434-313061376464
DTSTAMP:20260422T122442Z
DESCRIPTION:4/2 Bohuňovice - Šternberk 2:1 (-25\,21\,10)
DTSTART;TZID=Europe/Berlin:20220528T090000
DTEND;TZID=Europe/Berlin:20220528T110000
LOCATION:Národní sportovní centrum\, Za velodromem 4187 Prostějov
SUMMARY:OLK-ZKY-P4B: Bohuňovice-Šternberk
END:VEVENT
BEGIN:VEVENT
UID:37373866-6630-4362-b130-316335353562
DTSTAMP:20260422T122442Z
DESCRIPTION:4/5 Bohuňovice - VK UP Olomouc A 0:2 (-14\,-16)
DTSTART;TZID=Europe/Berlin:20220528T110000
DTEND;TZID=Europe/Berlin:20220528T130000
LOCATION:Národní sportovní centrum\, Za velodromem 4187 Prostějov
SUMMARY:OLK-ZKY-P4B: Bohuňovice-VK UP Olomouc A
END:VEVENT
BEGIN:VEVENT
UID:65313932-3562-4331-b030-613938396336
DTSTAMP:20260422T122442Z
DESCRIPTION:4/4 VAM Olomouc - Bohuňovice 1:2 (25\,-24\,-15)
DTSTART;TZID=Europe/Berlin:20220528T100000
DTEND;TZID=Europe/Berlin:20220528T120000
LOCATION:Národní sportovní centrum\, Za velodromem 4187 Prostějov
SUMMARY:OLK-ZKY-P4B: VAM Olomouc-Bohuňovice
END:VEVENT
END:VCALENDAR
