BEGIN:VCALENDAR
VERSION:2.0
PRODID:-//TJ Sokol Třebechovice pod Orebem77716//NONSGML kigkonsult.se iCalcreator 2.41.80//
CALSCALE:GREGORIAN
UID:34356465-6638-4365-a166-643862653937
BEGIN:VEVENT
UID:61643766-6638-4636-b065-323863643932
DTSTAMP:20260423T083208Z
DESCRIPTION:5/15 Třebechovice - Nechanice 3:0 (4\,12\,14)
DTSTART;TZID=Europe/Berlin:20211024T100000
DTEND;TZID=Europe/Berlin:20211024T120000
LOCATION:Sokolovna\, Heldovo náměstí 574 Třebechovice pod Orebem
SUMMARY:HK-JKY: Třebechovice-Nechanice
END:VEVENT
BEGIN:VEVENT
UID:32303037-6566-4261-a263-393932656365
DTSTAMP:20260423T083208Z
DESCRIPTION:6/18 Třebechovice - Nechanice 3:0 (16\,7\,16)
DTSTART;TZID=Europe/Berlin:20211024T130000
DTEND;TZID=Europe/Berlin:20211024T150000
LOCATION:Sokolovna\, Heldovo náměstí 574 Třebechovice pod Orebem
SUMMARY:HK-JKY: Třebechovice-Nechanice
END:VEVENT
BEGIN:VEVENT
UID:65633562-3966-4639-b161-623134613664
DTSTAMP:20260423T083208Z
DESCRIPTION:9/26 Třebechovice - Hradec Králové B 0:3 (-14\,-11\,-25)
DTSTART;TZID=Europe/Berlin:20211128T100000
DTEND;TZID=Europe/Berlin:20211128T120000
LOCATION:Sokolovna\, Heldovo náměstí 574 Třebechovice pod Orebem
SUMMARY:HK-JKY: Třebechovice-Hradec Králové B
END:VEVENT
BEGIN:VEVENT
UID:65393332-3438-4637-a563-333462653336
DTSTAMP:20260423T083208Z
DESCRIPTION:10/29 Třebechovice - Hradec Králové B 0:3 (-18\,-12\,-24)
DTSTART;TZID=Europe/Berlin:20211128T130000
DTEND;TZID=Europe/Berlin:20211128T150000
LOCATION:Sokolovna\, Heldovo náměstí 574 Třebechovice pod Orebem
SUMMARY:HK-JKY: Třebechovice-Hradec Králové B
END:VEVENT
BEGIN:VEVENT
UID:33393162-3733-4234-b461-386263356162
DTSTAMP:20260423T083208Z
DESCRIPTION:11/33 Třebechovice - Trutnov 1:3 (-22\,24\,-17\,-15)
DTSTART;TZID=Europe/Berlin:20211212T100000
DTEND;TZID=Europe/Berlin:20211212T120000
LOCATION:Sokolovna\, Heldovo náměstí 574 Třebechovice pod Orebem
SUMMARY:HK-JKY: Třebechovice-Trutnov
END:VEVENT
BEGIN:VEVENT
UID:30383064-3137-4430-b739-343364333536
DTSTAMP:20260423T083208Z
DESCRIPTION:12/36 Třebechovice - Trutnov 3:0 (35\,16\,22)
DTSTART;TZID=Europe/Berlin:20211212T130000
DTEND;TZID=Europe/Berlin:20211212T150000
LOCATION:Sokolovna\, Heldovo náměstí 574 Třebechovice pod Orebem
SUMMARY:HK-JKY: Třebechovice-Trutnov
END:VEVENT
BEGIN:VEVENT
UID:38333032-3131-4137-a139-333732633639
DTSTAMP:20260423T083208Z
DESCRIPTION:13/37 Třebechovice - Č.Kostelec 3:2 (-21\,13\,15\,-21\,11)
DTSTART;TZID=Europe/Berlin:20220116T100000
DTEND;TZID=Europe/Berlin:20220116T120000
LOCATION:Sokolovna\, Heldovo náměstí 574 Třebechovice pod Orebem
SUMMARY:HK-JKY: Třebechovice-Č.Kostelec
END:VEVENT
BEGIN:VEVENT
UID:61643931-3464-4532-b762-306465346235
DTSTAMP:20260423T083208Z
DESCRIPTION:14/40 Třebechovice - Č.Kostelec 1:3 (-20\,21\,-24\,-16)
DTSTART;TZID=Europe/Berlin:20220116T130000
DTEND;TZID=Europe/Berlin:20220116T150000
LOCATION:Sokolovna\, Heldovo náměstí 574 Třebechovice pod Orebem
SUMMARY:HK-JKY: Třebechovice-Č.Kostelec
END:VEVENT
BEGIN:VEVENT
UID:36666430-3735-4238-a437-373536383765
DTSTAMP:20260423T083208Z
DESCRIPTION:17/50 Třebechovice - Jičín 0:3 (-24\,-16\,-21)
DTSTART;TZID=Europe/Berlin:20220226T100000
DTEND;TZID=Europe/Berlin:20220226T120000
LOCATION:Sokolovna\, Heldovo náměstí 574 Třebechovice pod Orebem
SUMMARY:HK-JKY: Třebechovice-Jičín
END:VEVENT
BEGIN:VEVENT
UID:65646639-6532-4165-b661-393263376364
DTSTAMP:20260423T083208Z
DESCRIPTION:18/53 Třebechovice - Jičín 0:3 (-18\,-22\,-20)
DTSTART;TZID=Europe/Berlin:20220226T130000
DTEND;TZID=Europe/Berlin:20220226T150000
LOCATION:Sokolovna\, Heldovo náměstí 574 Třebechovice pod Orebem
SUMMARY:HK-JKY: Třebechovice-Jičín
END:VEVENT
BEGIN:VEVENT
UID:33663032-3062-4565-b331-383736356439
DTSTAMP:20260423T083208Z
DESCRIPTION:1/3 Trutnov - Třebechovice 3:1 (11\,20\,-16\,23)
DTSTART;TZID=Europe/Berlin:20211003T100000
DTEND;TZID=Europe/Berlin:20211003T120000
LOCATION:Základní škola. Trutnov\, V Domcích 488\, V Domcích 488 Trutnov - 
 Horní Předměstí
SUMMARY:HK-JKY: Trutnov-Třebechovice
END:VEVENT
BEGIN:VEVENT
UID:66326230-3938-4439-a434-356465393137
DTSTAMP:20260423T083208Z
DESCRIPTION:2/6 Trutnov - Třebechovice 3:1 (21\,-21\,6\,15)
DTSTART;TZID=Europe/Berlin:20211003T130000
DTEND;TZID=Europe/Berlin:20211003T150000
LOCATION:Základní škola. Trutnov\, V Domcích 488\, V Domcích 488 Trutnov - 
 Horní Předměstí
SUMMARY:HK-JKY: Trutnov-Třebechovice
END:VEVENT
BEGIN:VEVENT
UID:38393531-6437-4563-b038-653665313234
DTSTAMP:20260423T083208Z
DESCRIPTION:3/7 Č.Kostelec - Třebechovice 0:3 (-19\,-16\,-8)
DTSTART;TZID=Europe/Berlin:20211010T100000
DTEND;TZID=Europe/Berlin:20211010T120000
LOCATION:Sportovní hala\, Palackého 1234 Červený Kostelec
SUMMARY:HK-JKY: Č.Kostelec-Třebechovice
END:VEVENT
BEGIN:VEVENT
UID:65323338-3536-4435-b833-346266326463
DTSTAMP:20260423T083208Z
DESCRIPTION:4/10 Č.Kostelec - Třebechovice 1:3 (-19\,-13\,23\,-13)
DTSTART;TZID=Europe/Berlin:20211010T130000
DTEND;TZID=Europe/Berlin:20211010T150000
LOCATION:Sportovní hala\, Palackého 1234 Červený Kostelec
SUMMARY:HK-JKY: Č.Kostelec-Třebechovice
END:VEVENT
BEGIN:VEVENT
UID:39346130-3162-4935-a563-353637623834
DTSTAMP:20260423T083208Z
DESCRIPTION:7/20 Jičín - Třebechovice 3:0 (22\,17\,18)
DTSTART;TZID=Europe/Berlin:20211107T100000
DTEND;TZID=Europe/Berlin:20211107T120000
LOCATION:Hala 3. základní školy Jičín\, Poděbradova 18 Jičín - Nové Město
SUMMARY:HK-JKY: Jičín-Třebechovice
END:VEVENT
BEGIN:VEVENT
UID:33653331-3530-4832-b434-326264376235
DTSTAMP:20260423T083208Z
DESCRIPTION:8/23 Jičín - Třebechovice 3:1 (-25\,22\,12\,14)
DTSTART;TZID=Europe/Berlin:20211107T130000
DTEND;TZID=Europe/Berlin:20211107T150000
LOCATION:Hala 3. základní školy Jičín\, Poděbradova 18 Jičín - Nové Město
SUMMARY:HK-JKY: Jičín-Třebechovice
END:VEVENT
BEGIN:VEVENT
UID:65336235-3236-4634-a339-616361363133
DTSTAMP:20260423T083208Z
DESCRIPTION:15/45 Nechanice - Třebechovice 1:3 (-16\,-22\,22\,-17)
DTSTART;TZID=Europe/Berlin:20220219T100000
DTEND;TZID=Europe/Berlin:20220219T120000
LOCATION:ZŠ Libčany\,  Libčany1
SUMMARY:HK-JKY: Nechanice-Třebechovice
END:VEVENT
BEGIN:VEVENT
UID:38663863-3036-4463-a362-303230306130
DTSTAMP:20260423T083208Z
DESCRIPTION:16/48 Nechanice - Třebechovice 2:3 (-18\,22\,22\,-20\,-7)
DTSTART;TZID=Europe/Berlin:20220219T130000
DTEND;TZID=Europe/Berlin:20220219T150000
LOCATION:ZŠ Libčany\,  Libčany1
SUMMARY:HK-JKY: Nechanice-Třebechovice
END:VEVENT
BEGIN:VEVENT
UID:34613636-3334-4835-b236-353638396535
DTSTAMP:20260423T083208Z
DESCRIPTION:19/56 Hradec Králové B - Třebechovice 3:0 (10\,7\,23)
DTSTART;TZID=Europe/Berlin:20220213T100000
DTEND;TZID=Europe/Berlin:20220213T120000
LOCATION:TJ Slavia Hradec Králové\, Víta Nejedlého 1216 Hradec Králové
SUMMARY:HK-JKY: Hradec Králové B-Třebechovice
END:VEVENT
BEGIN:VEVENT
UID:30383865-3635-4539-b731-633038306663
DTSTAMP:20260423T083208Z
DESCRIPTION:20/59 Hradec Králové B - Třebechovice 3:0 (14\,15\,15)
DTSTART;TZID=Europe/Berlin:20220213T130000
DTEND;TZID=Europe/Berlin:20220213T150000
LOCATION:TJ Slavia Hradec Králové\, Víta Nejedlého 1216 Hradec Králové
SUMMARY:HK-JKY: Hradec Králové B-Třebechovice
END:VEVENT
BEGIN:VEVENT
UID:65386238-3435-4634-a633-643533376363
DTSTAMP:20260423T083208Z
DESCRIPTION:2/2 Třebechovice - Hradec Králové B 3:0 (20\,14\,20)
DTSTART;TZID=Europe/Berlin:20220305T100000
DTEND;TZID=Europe/Berlin:20220305T120000
LOCATION:Sokolovna\, Heldovo náměstí 574 Třebechovice pod Orebem
SUMMARY:HK-JKY-P: Třebechovice-Hradec Králové B
END:VEVENT
BEGIN:VEVENT
UID:33656461-6136-4061-b763-366338333162
DTSTAMP:20260423T083208Z
DESCRIPTION:4/4 Č.Kostelec - Třebechovice 0:3 (-22\,-15\,-19)\no 1.místo
DTSTART;TZID=Europe/Berlin:20220305T123000
DTEND;TZID=Europe/Berlin:20220305T143000
LOCATION:Sportovní hala\, Palackého 1234 Červený Kostelec
SUMMARY:HK-JKY-P: Č.Kostelec-Třebechovice
END:VEVENT
END:VCALENDAR
