BEGIN:VCALENDAR
VERSION:2.0
PRODID:-//VSC Zlín78464//NONSGML kigkonsult.se iCalcreator 2.41.80//
CALSCALE:GREGORIAN
UID:33373330-3161-4562-b363-333162353763
BEGIN:VEVENT
UID:32626433-6564-4038-a436-636132333238
DTSTAMP:20260424T213914Z
DESCRIPTION:2/4 Zlín - VK Austin Vsetín 2:1 (14\,-22\,13)
DTSTART;TZID=Europe/Berlin:20220917T100000
DTEND;TZID=Europe/Berlin:20220917T120000
LOCATION:ZŠ Okružní Zlín\, Okružní 4685 Zlín
SUMMARY:PZLK-U16Z-B: Zlín-VK Austin Vsetín
END:VEVENT
BEGIN:VEVENT
UID:32663830-3064-4161-a266-313163333166
DTSTAMP:20260424T213914Z
DESCRIPTION:5/9 Zlín - TJ Rožnov p.R. 2:0 (14\,9)
DTSTART;TZID=Europe/Berlin:20220917T130000
DTEND;TZID=Europe/Berlin:20220917T150000
LOCATION:ZŠ Okružní Zlín\, Okružní 4685 Zlín
SUMMARY:PZLK-U16Z-B: Zlín-TJ Rožnov p.R.
END:VEVENT
BEGIN:VEVENT
UID:30313934-3963-4938-a466-323336646537
DTSTAMP:20260424T213914Z
DESCRIPTION:1/2 Valašské Meziříčí - Zlín 0:2 (-23\,-23)
DTSTART;TZID=Europe/Berlin:20220917T090000
DTEND;TZID=Europe/Berlin:20220917T110000
LOCATION:ZŠ Šafaříkova\, Šafaříkova 726 Valašské Meziříčí
SUMMARY:PZLK-U16Z-B: Valašské Meziříčí-Zlín
END:VEVENT
BEGIN:VEVENT
UID:38363732-3935-4732-a465-326163626265
DTSTAMP:20260424T213914Z
DESCRIPTION:3/5 ŠSK Brumov-Bylnice - Zlín 0:2 (-4\,-12)
DTSTART;TZID=Europe/Berlin:20220917T110000
DTEND;TZID=Europe/Berlin:20220917T130000
LOCATION:Sportovní hala Slavičín\, Školní 29 Slavičín
SUMMARY:PZLK-U16Z-B: ŠSK Brumov-Bylnice-Zlín
END:VEVENT
BEGIN:VEVENT
UID:61333062-6664-4033-b263-363162346234
DTSTAMP:20260424T213914Z
DESCRIPTION:1/2 Zlín - Valašské Meziříčí 2:0 (25\,22)
DTSTART;TZID=Europe/Berlin:20221002T090000
DTEND;TZID=Europe/Berlin:20221002T110000
LOCATION:ZŠ Okružní Zlín\, Okružní 4685 Zlín
SUMMARY:ZLK-U16Z-1A: Zlín-Valašské Meziříčí
END:VEVENT
BEGIN:VEVENT
UID:66656533-6265-4436-b864-646662646631
DTSTAMP:20260424T213914Z
DESCRIPTION:2/4 Zlín - TJ Slovácká Slavia UH 'A' 2:0 (14\,20)
DTSTART;TZID=Europe/Berlin:20221002T100000
DTEND;TZID=Europe/Berlin:20221002T120000
LOCATION:ZŠ Okružní Zlín\, Okružní 4685 Zlín
SUMMARY:ZLK-U16Z-1A: Zlín-TJ Slovácká Slavia UH 'A'
END:VEVENT
BEGIN:VEVENT
UID:30363539-3366-4237-b936-643965326337
DTSTAMP:20260424T213914Z
DESCRIPTION:3/5 VC Kroměříž 'A' - Zlín 2:1 (19\,-24\,9)
DTSTART;TZID=Europe/Berlin:20221002T110000
DTEND;TZID=Europe/Berlin:20221002T130000
LOCATION:ZŠ Slovan\, Zeyerova 3354 Kroměříž
SUMMARY:ZLK-U16Z-1A: VC Kroměříž 'A'-Zlín
END:VEVENT
BEGIN:VEVENT
UID:34393462-3337-4836-b339-343536393563
DTSTAMP:20260424T213914Z
DESCRIPTION:1/2 Zlín - VK Austin Vsetín 2:0 (21\,20)
DTSTART;TZID=Europe/Berlin:20221126T090000
DTEND;TZID=Europe/Berlin:20221126T110000
LOCATION:ZŠ Okružní Zlín\, Okružní 4685 Zlín
SUMMARY:ZLK-U16Z-2A: Zlín-VK Austin Vsetín
END:VEVENT
BEGIN:VEVENT
UID:63313766-6333-4962-a436-343837636333
DTSTAMP:20260424T213914Z
DESCRIPTION:2/4 Zlín - TJ Rožnov p.R. 2:1 (-22\,9\,12)
DTSTART;TZID=Europe/Berlin:20221126T100000
DTEND;TZID=Europe/Berlin:20221126T120000
LOCATION:ZŠ Okružní Zlín\, Okružní 4685 Zlín
SUMMARY:ZLK-U16Z-2A: Zlín-TJ Rožnov p.R.
END:VEVENT
BEGIN:VEVENT
UID:64306661-3266-4235-a632-633865343363
DTSTAMP:20260424T213914Z
DESCRIPTION:3/5 VC Kroměříž 'A' - Zlín 1:2 (-16\,23\,-7)
DTSTART;TZID=Europe/Berlin:20221126T110000
DTEND;TZID=Europe/Berlin:20221126T130000
LOCATION:ZŠ Slovan\, Zeyerova 3354 Kroměříž
SUMMARY:ZLK-U16Z-2A: VC Kroměříž 'A'-Zlín
END:VEVENT
BEGIN:VEVENT
UID:35666661-3763-4430-a664-653865663062
DTSTAMP:20260424T213914Z
DESCRIPTION:1/1 Zlín - TJ Slovácká Slavia UH 'A' 2:0 (15\,11)
DTSTART;TZID=Europe/Berlin:20221211T090000
DTEND;TZID=Europe/Berlin:20221211T110000
LOCATION:ZŠ Okružní Zlín\, Okružní 4685 Zlín
SUMMARY:ZLK-U16Z-3A: Zlín-TJ Slovácká Slavia UH 'A'
END:VEVENT
BEGIN:VEVENT
UID:32303064-3734-4565-b566-383334303365
DTSTAMP:20260424T213914Z
DESCRIPTION:2/3 Zlín - Valašské Meziříčí 2:1 (24\,-20\,3)
DTSTART;TZID=Europe/Berlin:20221211T100000
DTEND;TZID=Europe/Berlin:20221211T120000
LOCATION:ZŠ Okružní Zlín\, Okružní 4685 Zlín
SUMMARY:ZLK-U16Z-3A: Zlín-Valašské Meziříčí
END:VEVENT
BEGIN:VEVENT
UID:31353132-6566-4131-b735-396137656238
DTSTAMP:20260424T213914Z
DESCRIPTION:3/5 Zlín - VC Kroměříž 'A' 1:2 (17\,-21\,-11)
DTSTART;TZID=Europe/Berlin:20221211T110000
DTEND;TZID=Europe/Berlin:20221211T130000
LOCATION:ZŠ Okružní Zlín\, Okružní 4685 Zlín
SUMMARY:ZLK-U16Z-3A: Zlín-VC Kroměříž 'A'
END:VEVENT
BEGIN:VEVENT
UID:64626133-6430-4135-a263-346266303738
DTSTAMP:20260424T213914Z
DESCRIPTION:1/2 Zlín - TJ Rožnov p.R. 2:0 (0\,0)
DTSTART;TZID=Europe/Berlin:20230108T090000
DTEND;TZID=Europe/Berlin:20230108T110000
LOCATION:ZŠ Okružní Zlín\, Okružní 4685 Zlín
SUMMARY:ZLK-U16Z-4A: Zlín-TJ Rožnov p.R.
END:VEVENT
BEGIN:VEVENT
UID:65646562-3938-4138-a262-336163333536
DTSTAMP:20260424T213914Z
DESCRIPTION:2/4 Zlín - VK Austin Vsetín 2:0 (9\,19)
DTSTART;TZID=Europe/Berlin:20230108T100000
DTEND;TZID=Europe/Berlin:20230108T120000
LOCATION:ZŠ Okružní Zlín\, Okružní 4685 Zlín
SUMMARY:ZLK-U16Z-4A: Zlín-VK Austin Vsetín
END:VEVENT
BEGIN:VEVENT
UID:66306166-6436-4637-b536-343862353664
DTSTAMP:20260424T213914Z
DESCRIPTION:3/5 VC Kroměříž 'A' - Zlín 0:2 (-17\,-8)
DTSTART;TZID=Europe/Berlin:20230108T110000
DTEND;TZID=Europe/Berlin:20230108T130000
LOCATION:ZŠ Slovan\, Zeyerova 3354 Kroměříž
SUMMARY:ZLK-U16Z-4A: VC Kroměříž 'A'-Zlín
END:VEVENT
BEGIN:VEVENT
UID:32626637-3933-4666-b830-346261383939
DTSTAMP:20260424T213914Z
DESCRIPTION:1/1 Zlín - VC Kroměříž 'B' 2:0 (14\,7)
DTSTART;TZID=Europe/Berlin:20230226T090000
DTEND;TZID=Europe/Berlin:20230226T110000
LOCATION:ZŠ Okružní Zlín\, Okružní 4685 Zlín
SUMMARY:ZLK-U16Z-5A: Zlín-VC Kroměříž 'B'
END:VEVENT
BEGIN:VEVENT
UID:36633862-3735-4131-b765-363434656364
DTSTAMP:20260424T213914Z
DESCRIPTION:2/3 Zlín - Valašské Meziříčí 2:0 (21\,18)
DTSTART;TZID=Europe/Berlin:20230226T100000
DTEND;TZID=Europe/Berlin:20230226T120000
LOCATION:ZŠ Okružní Zlín\, Okružní 4685 Zlín
SUMMARY:ZLK-U16Z-5A: Zlín-Valašské Meziříčí
END:VEVENT
BEGIN:VEVENT
UID:61303834-3462-4261-b061-333464356131
DTSTAMP:20260424T213914Z
DESCRIPTION:3/5 Zlín - VC Kroměříž 'A' 2:0 (16\,14)
DTSTART;TZID=Europe/Berlin:20230226T110000
DTEND;TZID=Europe/Berlin:20230226T130000
LOCATION:ZŠ Okružní Zlín\, Okružní 4685 Zlín
SUMMARY:ZLK-U16Z-5A: Zlín-VC Kroměříž 'A'
END:VEVENT
BEGIN:VEVENT
UID:32363234-3866-4330-b238-323663636562
DTSTAMP:20260424T213914Z
DESCRIPTION:1/1 Zlín - TJ Bojkovice 2:0 (4\,5)
DTSTART;TZID=Europe/Berlin:20230312T100000
DTEND;TZID=Europe/Berlin:20230312T120000
LOCATION:ZŠ Okružní Zlín\, Okružní 4685 Zlín
SUMMARY:ZLK-U16Z-6A: Zlín-TJ Bojkovice
END:VEVENT
BEGIN:VEVENT
UID:36643835-6433-4339-b662-373938653365
DTSTAMP:20260424T213914Z
DESCRIPTION:2/3 Zlín - VK Austin Vsetín 2:0 (14\,14)
DTSTART;TZID=Europe/Berlin:20230312T110000
DTEND;TZID=Europe/Berlin:20230312T130000
LOCATION:ZŠ Okružní Zlín\, Okružní 4685 Zlín
SUMMARY:ZLK-U16Z-6A: Zlín-VK Austin Vsetín
END:VEVENT
BEGIN:VEVENT
UID:65323632-6664-4764-b230-326638353936
DTSTAMP:20260424T213914Z
DESCRIPTION:3/5 Zlín - Valašské Meziříčí 1:2 (-22\,23\,-12)
DTSTART;TZID=Europe/Berlin:20230312T120000
DTEND;TZID=Europe/Berlin:20230312T140000
LOCATION:ZŠ Okružní Zlín\, Okružní 4685 Zlín
SUMMARY:ZLK-U16Z-6A: Zlín-Valašské Meziříčí
END:VEVENT
BEGIN:VEVENT
UID:33303664-3764-4261-b366-383536333465
DTSTAMP:20260424T213914Z
DESCRIPTION:2/6 Zlín - Valašské Meziříčí 2:1 (-21\,21\,11)
DTSTART;TZID=Europe/Berlin:20230415T150000
DTEND;TZID=Europe/Berlin:20230415T170000
LOCATION:ZŠ Okružní Zlín\, Okružní 4685 Zlín
SUMMARY:PZLK-U16Z-1: Zlín-Valašské Meziříčí
END:VEVENT
BEGIN:VEVENT
UID:32326366-6239-4932-a433-656365353165
DTSTAMP:20260424T213914Z
DESCRIPTION:4/11 Zlín - TJ Slovácká Slavia UH 'A' 2:0 (18\,9)
DTSTART;TZID=Europe/Berlin:20230415T170000
DTEND;TZID=Europe/Berlin:20230415T190000
LOCATION:ZŠ Okružní Zlín\, Okružní 4685 Zlín
SUMMARY:PZLK-U16Z-1: Zlín-TJ Slovácká Slavia UH 'A'
END:VEVENT
BEGIN:VEVENT
UID:30333732-3638-4664-b462-313439636363
DTSTAMP:20260424T213914Z
DESCRIPTION:5/13 Zlín - VC Kroměříž 'A' 2:0 (18\,12)
DTSTART;TZID=Europe/Berlin:20230415T180000
DTEND;TZID=Europe/Berlin:20230415T200000
LOCATION:ZŠ Okružní Zlín\, Okružní 4685 Zlín
SUMMARY:PZLK-U16Z-1: Zlín-VC Kroměříž 'A'
END:VEVENT
BEGIN:VEVENT
UID:63303131-6335-4763-b365-643664643236
DTSTAMP:20260424T213914Z
DESCRIPTION:1/2 TJ Slovácká Slavia UH 'B' - Zlín 0:2 (-7\,-9)
DTSTART;TZID=Europe/Berlin:20230415T140000
DTEND;TZID=Europe/Berlin:20230415T160000
LOCATION:Městská sportovní hala\, Stonky 860 Uherské Hradiště
SUMMARY:PZLK-U16Z-1: TJ Slovácká Slavia UH 'B'-Zlín
END:VEVENT
BEGIN:VEVENT
UID:38376635-6530-4964-b730-323335346635
DTSTAMP:20260424T213914Z
DESCRIPTION:3/9 VK Austin Vsetín - Zlín 0:2 (-9\,-16)
DTSTART;TZID=Europe/Berlin:20230415T160000
DTEND;TZID=Europe/Berlin:20230415T180000
LOCATION:Sportovní hala Na Lapači\, Na Lapači 247 Vsetín - Rokytnice
SUMMARY:PZLK-U16Z-1: VK Austin Vsetín-Zlín
END:VEVENT
BEGIN:VEVENT
UID:35616238-3031-4165-b030-626364363136
DTSTAMP:20260424T213914Z
DESCRIPTION:2/5 Zlín - Klatovy 2:0 (12\,15)
DTSTART;TZID=Europe/Berlin:20230429T121000
DTEND;TZID=Europe/Berlin:20230429T141000
LOCATION:Sportovní gymnázium Ludvíka Daňka\, Botanická 63 Brno - Ponava
SUMMARY:MCR-U16Z-B: Zlín-Klatovy
END:VEVENT
BEGIN:VEVENT
UID:61633361-3234-4561-b633-386161656464
DTSTAMP:20260424T213914Z
DESCRIPTION:4/13 Zlín - Hořovice 2:0 (16\,19)
DTSTART;TZID=Europe/Berlin:20230429T173000
DTEND;TZID=Europe/Berlin:20230429T193000
LOCATION:Sportovní gymnázium Ludvíka Daňka\, Botanická 63 Brno - Ponava
SUMMARY:MCR-U16Z-B: Zlín-Hořovice
END:VEVENT
BEGIN:VEVENT
UID:33646534-6539-4838-a533-373138306665
DTSTAMP:20260424T213914Z
DESCRIPTION:6/21 Zlín - Kometa Praha 2:0 (14\,14)
DTSTART;TZID=Europe/Berlin:20230430T114000
DTEND;TZID=Europe/Berlin:20230430T134000
LOCATION:Sportovní gymnázium Ludvíka Daňka\, Botanická 63 Brno - Ponava
SUMMARY:MCR-U16Z-B: Zlín-Kometa Praha
END:VEVENT
BEGIN:VEVENT
UID:62636132-6366-4431-b931-623131623936
DTSTAMP:20260424T213914Z
DESCRIPTION:1/1 KP Brno - Zlín 2:0 (12\,23)
DTSTART;TZID=Europe/Berlin:20230429T093000
DTEND;TZID=Europe/Berlin:20230429T113000
LOCATION:Sportovní gymnázium Ludvíka Daňka\, Botanická 63 Brno - Ponava
SUMMARY:MCR-U16Z-B: KP Brno-Zlín
END:VEVENT
BEGIN:VEVENT
UID:36393339-3435-4235-b563-653466373263
DTSTAMP:20260424T213914Z
DESCRIPTION:3/9 Bílovec - Zlín 0:2 (-23\,-23)
DTSTART;TZID=Europe/Berlin:20230429T145000
DTEND;TZID=Europe/Berlin:20230429T165000
LOCATION:Sportovní gymnázium Ludvíka Daňka\, Botanická 63 Brno - Ponava
SUMMARY:MCR-U16Z-B: Bílovec-Zlín
END:VEVENT
BEGIN:VEVENT
UID:39303061-6266-4537-a339-653735396266
DTSTAMP:20260424T213914Z
DESCRIPTION:5/17 České Budějovice - Zlín 0:2 (-18\,-14)
DTSTART;TZID=Europe/Berlin:20230430T090000
DTEND;TZID=Europe/Berlin:20230430T110000
LOCATION:Sportovní gymnázium Ludvíka Daňka\, Botanická 63 Brno - Ponava
SUMMARY:MCR-U16Z-B: České Budějovice-Zlín
END:VEVENT
BEGIN:VEVENT
UID:31356533-3465-4635-b637-326163373033
DTSTAMP:20260424T213914Z
DESCRIPTION:7/25 Prostějov - Zlín 2:1 (20\,-22\,9)
DTSTART;TZID=Europe/Berlin:20230430T142000
DTEND;TZID=Europe/Berlin:20230430T162000
LOCATION:Sportovní gymnázium Ludvíka Daňka\, Botanická 63 Brno - Ponava
SUMMARY:MCR-U16Z-B: Prostějov-Zlín
END:VEVENT
BEGIN:VEVENT
UID:39623338-6139-4432-a166-313261373138
DTSTAMP:20260424T213914Z
DESCRIPTION:1/2 Zlín - Karlovy Vary 0:2 (-14\,-14)
DTSTART;TZID=Europe/Berlin:20230519T114500
DTEND;TZID=Europe/Berlin:20230519T134500
LOCATION:Mattoni Arena Hala míčových sportů\, Západní 1812 Karlovy Vary
SUMMARY:MCR-U16Z-FB: Zlín-Karlovy Vary
END:VEVENT
BEGIN:VEVENT
UID:34643465-6563-4332-b564-623366343036
DTSTAMP:20260424T213914Z
DESCRIPTION:3/5 Zlín - Přerov 2:0 (17\,17)
DTSTART;TZID=Europe/Berlin:20230519T170500
DTEND;TZID=Europe/Berlin:20230519T190500
LOCATION:Mattoni Arena Hala míčových sportů\, Západní 1812 Karlovy Vary
SUMMARY:MCR-U16Z-FB: Zlín-Přerov
END:VEVENT
BEGIN:VEVENT
UID:35633634-3937-4837-a665-373832613066
DTSTAMP:20260424T213914Z
DESCRIPTION:2/4 Mělník - Zlín 2:0 (28\,10)
DTSTART;TZID=Europe/Berlin:20230519T142500
DTEND;TZID=Europe/Berlin:20230519T162500
LOCATION:Mattoni Arena Hala míčových sportů\, Západní 1812 Karlovy Vary
SUMMARY:MCR-U16Z-FB: Mělník-Zlín
END:VEVENT
BEGIN:VEVENT
UID:65376337-3231-4663-b561-646664383863
DTSTAMP:20260424T213914Z
DESCRIPTION:1/3 Zlín - Turnov 0:2 (-12\,-24)\nB3 - D1
DTSTART;TZID=Europe/Berlin:20230520T093000
DTEND;TZID=Europe/Berlin:20230520T113000
LOCATION:Mattoni Arena Hala míčových sportů\, Západní 1812 Karlovy Vary
SUMMARY:MCR-U16Z-FF: Zlín-Turnov
END:VEVENT
BEGIN:VEVENT
UID:35353765-3238-4834-a637-336165356562
DTSTAMP:20260424T213914Z
DESCRIPTION:3/9 Zlín - KP Brno 1:2 (-28\,21\,-13)\nB3 - D2
DTSTART;TZID=Europe/Berlin:20230520T153000
DTEND;TZID=Europe/Berlin:20230520T173000
LOCATION:Mattoni Arena Hala míčových sportů\, Západní 1812 Karlovy Vary
SUMMARY:MCR-U16Z-FF: Zlín-KP Brno
END:VEVENT
BEGIN:VEVENT
UID:31363935-6435-4432-a461-346563393739
DTSTAMP:20260424T213914Z
DESCRIPTION:2/6 Frýdek - Místek - Zlín 1:2 (-19\,17\,-12)\nD3 - B3
DTSTART;TZID=Europe/Berlin:20230520T123000
DTEND;TZID=Europe/Berlin:20230520T143000
LOCATION:Mattoni Arena Hala míčových sportů\, Západní 1812 Karlovy Vary
SUMMARY:MCR-U16Z-FF: Frýdek - Místek-Zlín
END:VEVENT
BEGIN:VEVENT
UID:37303439-6462-4231-b337-626438323464
DTSTAMP:20260424T213914Z
DESCRIPTION:1/4 Jirkov - Zlín 2:0 (24\,6)\nE6 - F5
DTSTART;TZID=Europe/Berlin:20230521T083000
DTEND;TZID=Europe/Berlin:20230521T103000
LOCATION:sportovní hala MGZŠ Krušnohorská Krušnohorská 1675\, Jirkov
SUMMARY:MCR-U16Z-FI: Jirkov-Zlín
END:VEVENT
BEGIN:VEVENT
UID:32656539-3966-4866-b864-396531386439
DTSTAMP:20260424T213914Z
DESCRIPTION:2/7 Frýdek - Místek - Zlín 2:0 (11\,21)\no 11. místo
DTSTART;TZID=Europe/Berlin:20230521T113000
DTEND;TZID=Europe/Berlin:20230521T133000
LOCATION:tělocvična 11.ZŠ Frýdek-Místek\, Jiřího z Poděbrad 3109 Frýdek-Mís
 tek - Frýdek
SUMMARY:MCR-U16Z-FI: Frýdek - Místek-Zlín
END:VEVENT
END:VCALENDAR
